BEGIN:VCALENDAR
VERSION:2.0
PRODID:-//jEvents 2.0 for Joomla//EN
CALSCALE:GREGORIAN
METHOD:PUBLISH
BEGIN:VEVENT
UID:112e12896a3e4aae47da9a106a28e3a7
CATEGORIES:Polar Conferences, Meetings and Events
CREATED:20200519T092453
SUMMARY:IGS Global Seminar Series #5
DESCRIPTION:<p><strong>Prof Erin Pettit, University of Alaska, Fairbanks, U.S.A.</stron
 g></p><p>"<em>Strengths and Weaknesses of the Eastern Thwaites Ice Shelf</e
 m>"</p><p>Please register in advance for the seminars - it appears that you
  can't register during the seminar itself, but you have already registered 
 you should be able to use the same link as last week. Any issues drop me an
  email and I'll try and help. There's a short question to answer - please t
 ell me enough to accept you! I'll be doing that manually, so just be kind a
 nd make it obvious... (I'm a PhD student with X... or whatever). Using your
  work email would make my life really easy.</p><p><a href="https://l.facebo
 ok.com/l.php?u=https%3A%2F%2Fswanseauniversity.zoom.us%2Fmeeting%2Fregister
 %2FtJUqfuirrzouG9C5Dj7FfLjpsy3cINaVRWK6%3Ffbclid%3DIwAR3gwApLUXAK7QUoIwv4uJ
 kEmP2ttcsjdrcwhPibqKzb0raVbrdoC0hKh0I&amp;h=AT0SP7j2S8hppiVk424xUGBcwb_gPJA
 bIoIWyimh-R1TsKYZlc8UekNQ7phVubeGp12xUh10GiUaroJZF5vqMg80-j3xRURhW78auI3rYn
 ZpyJ8TQSdvQQNmqM7XfFph&amp;__tn__=-UK-R&amp;c%5b0%5d=AT0dsNqDMoOQG3FmHpADLP
 Ix5ItPlmA3A900XF2YYZrMVbX2EF_wuNbw8qe9NZMHwMygM_Fqr6QkXGnfEF3ytvLxsR3GTBchp
 lhO3jEaGDoRYXspVjymNc5LhTfPk71VBEIUc3_g" data-saferedirecturl="https://www.
 google.com/url?q=https://l.facebook.com/l.php?u%3Dhttps%253A%252F%252Fswans
 eauniversity.zoom.us%252Fmeeting%252Fregister%252FtJUqfuirrzouG9C5Dj7FfLjps
 y3cINaVRWK6%253Ffbclid%253DIwAR3gwApLUXAK7QUoIwv4uJkEmP2ttcsjdrcwhPibqKzb0r
 aVbrdoC0hKh0I%26h%3DAT0SP7j2S8hppiVk424xUGBcwb_gPJAbIoIWyimh-R1TsKYZlc8UekN
 Q7phVubeGp12xUh10GiUaroJZF5vqMg80-j3xRURhW78auI3rYnZpyJ8TQSdvQQNmqM7XfFph%2
 6__tn__%3D-UK-R%26c%255b0%255d%3DAT0dsNqDMoOQG3FmHpADLPIx5ItPlmA3A900XF2YYZ
 rMVbX2EF_wuNbw8qe9NZMHwMygM_Fqr6QkXGnfEF3ytvLxsR3GTBchplhO3jEaGDoRYXspVjymN
 c5LhTfPk71VBEIUc3_g&amp;source=gmail&amp;ust=1589965251077000&amp;usg=AFQjC
 NEN0EJYCN1q6sP10pbcPvpl7wp6Bw"></a><a href="https://swanseauniversity.zoom.
 us/meeting/register/tJUqfuirrzouG9C5Dj7FfLjpsy3cINaVRWK6">https://swanseaun
 iversity.zoom.us/meeting/register/tJUqfuirrzouG9C5Dj7FfLjpsy3cINaVRWK6</a><
 /p><p>After registering, you will receive a confirmation email containing i
 nformation about joining the seminar. Once you have registered please check
  the link (you should see the waiting room I think).</p><p>Seminar times:</
 p><p>--------------------</p><p>London - 9pm</p><p>Europe - 10pm</p><p>East
  Coast US - 4pm</p><p>West Coast US - 1pm</p><p>Australia (+1) - 6am</p><p>
 Tokyo (+1) - 5am</p><p>New Zealand (+1) - 8am</p><p>Delhi (+1) - 1.30am (so
 rry!)</p><p>The seminar will also be available afterwards on the Friends of
  the International Glaciological Society Facebook page so that you can watc
 h it there if technology fails or you can't make it!</p><p>&nbsp;</p>
DTSTAMP:20260422T022426Z
DTSTART;TZID=UTC:20200520T080000
DTEND;TZID=UTC:20200520T170000
SEQUENCE:0
TRANSP:OPAQUE
END:VEVENT
END:VCALENDAR