BEGIN:VCALENDAR
VERSION:2.0
PRODID:-//jEvents 2.0 for Joomla//EN
CALSCALE:GREGORIAN
METHOD:PUBLISH
BEGIN:VEVENT
UID:10698b1f56fd4b7d37f0617d000b0f36
CATEGORIES:Polar Conferences, Meetings and Events
CREATED:20200518T132851
SUMMARY: Vienna Anthropology Days 2020, Online
LOCATION:Vienna\, Austria
DESCRIPTION:<p>Organizers announce a call for papers for two cryosphere sessions during
  <a href="https://vanda.univie.ac.at/home/">Vienna Anthropology Days 2020</
 a>. This call is open until 1 June. The conference will convene 28 Septembe
 r – 1 October 2020 in Vienna, Austria.</p><p><em><strong>Changing Cryospher
 es I: Global Warming in Polar and Alpine Settings</strong></em><br /> Organ
 izers: Alexandra Meyer (University of Vienna), Olga Povoroznyuk (University
  of Vienna)</p><p><em><strong>Changing Cryospheres II: How to Communicate t
 he Challenges of Climate Change?</strong></em><br /> Organizers: Peter Schw
 eitzer (University of Vienna), Susanna Gartler (University of Vienna)</p><p
 >The Vienna Anthropology Days 2020 (VANDA) is an international online confe
 rence that aims to bring together scholars from various fields of anthropol
 ogy, social sciences, and humanities. VANDA includes an interactive Young S
 cholars’ Forum, where graduate students can network and receive mentoring a
 nd practical advice from experienced researchers. Apart from the classic co
 nference formats, session organizers are free to introduce their own creati
 ve formats.</p><p><strong><em>Changing Cryospheres I and II</em></strong><b
 r /> Vienna Anthropology Days 2020<br /> 28 September – 1 October 2020</p><
 p><strong>Submission deadline: </strong>1 June 2020</p><p>For more informat
 ion about paper submission and to submit a paper, go to:<br /> <a href="htt
 ps://www.arcus.org/sites/all/modules/civicrm/extern/url.php?u=21961&amp;qid
 =3752190" target="_blank" rel="noopener" data-saferedirecturl="https://www.
 google.com/url?q=https://www.arcus.org/sites/all/modules/civicrm/extern/url
 .php?u%3D21961%26qid%3D3752190&amp;source=gmail&amp;ust=1586940004749000&am
 p;usg=AFQjCNFhF-AjTAxHp_dvM-gFP7ix476rHw">Call for Papers</a></p><p>For mor
 e information about the conference, go to:<br /> <a href="https://www.arcus
 .org/sites/all/modules/civicrm/extern/url.php?u=21962&amp;qid=3752190" targ
 et="_blank" rel="noopener" data-saferedirecturl="https://www.google.com/url
 ?q=https://www.arcus.org/sites/all/modules/civicrm/extern/url.php?u%3D21962
 %26qid%3D3752190&amp;source=gmail&amp;ust=1586940004749000&amp;usg=AFQjCNE9
 B3Dne-x03goARla7gx4VBtLQ9A">Conference homepage</a></p>
DTSTAMP:20260420T052849Z
DTSTART;TZID=UTC;VALUE=DATE:20200928
DTEND;TZID=UTC;VALUE=DATE:20201002
SEQUENCE:0
TRANSP:OPAQUE
END:VEVENT
END:VCALENDAR