BEGIN:VCALENDAR
VERSION:2.0
PRODID:-//jEvents 2.0 for Joomla//EN
CALSCALE:GREGORIAN
METHOD:PUBLISH
BEGIN:VEVENT
UID:5729464abd93382c0fcbb5445d973d23
CATEGORIES:Polar Conferences, Meetings and Events
CREATED:20200515T101019
SUMMARY:34th Forum for Research into Ice Shelf Processes (FRISP 2020) - online II
LOCATION:Berlin\, Germany
DESCRIPTION:We are happy to announce that the 34th Forum for Research into Ice Shelf Pr
 ocesses (FRISP) will take place, in the form of a virtual workshop. We are 
 very excited to try out this new format, and hope you are too! For details 
 on the agenda, registration (without fee) and submitting your abstract see 
 the FRISP 2020 website (https://eveeno.com/virtualfrisp2020). Registration 
 and abstract submission closes on 31 May 2020. We will send out a detailed 
 schedule and information on the online format soon thereafter. \n \nWe plan
  four sessions (each session will last about 3 hours) on the following date
 s:\n     16.06 (Tuesday),  2pm CET\n     17.06 (Wednesday),  8am CET\n     
 24.06 (Wednesday),  5pm CET\n     25.06 (Thursday),  10am CET\n \n The plan
  is to host these meetings at alternating times during the week so that we 
 can accommodate as many people as possible, given different time zones etc.
  \n \n For those of you who have already registered and booked accommodatio
 n at the Döllnsee, your registration fee has been refunded - if any issues 
 arise, please contact us as <a href="mailto:frisp2020@pik-potsdam.de" targe
 t="_blank"></a>This email address is being protected from spambots. You nee
 d JavaScript enabled to view it.
				document.getElementById('cloak37ae7b35
 f658ed76394d4ef197294843').innerHTML = '';
				var prefix = '&#109;a' + 'i&
 #108;' + '&#116;o';
				var path = 'hr' + 'ef' + '=';
				var addy37ae7b35f
 658ed76394d4ef197294843 = 'fr&#105;sp2020' + '&#64;';
				addy37ae7b35f658e
 d76394d4ef197294843 = addy37ae7b35f658ed76394d4ef197294843 + 'p&#105;k-p&#1
 11;tsd&#97;m' + '&#46;' + 'd&#101;';
				var addy_text37ae7b35f658ed76394d4
 ef197294843 = 'fr&#105;sp2020' + '&#64;' + 'p&#105;k-p&#111;tsd&#97;m' + '&
 #46;' + 'd&#101;';document.getElementById('cloak37ae7b35f658ed76394d4ef1972
 94843').innerHTML += '<a ' + path + '\'' + prefix + ':' + addy37ae7b35f658e
 d76394d4ef197294843 + '\'>'+addy_text37ae7b35f658ed76394d4ef197294843+'';
	
 	. We also kindly ask you to register again for the virtual meeting so we c
 an make sure to include everyone in the workshop.\n \n Please direct any qu
 estions about FRISP to  (mailto:frisp2020@pik-potsdam.de)This email address
  is being protected from spambots. You need JavaScript enabled to view it.

 				document.getElementById('cloak7e7850138d3ffeb5df085167d11020dd').innerH
 TML = '';
				var prefix = '&#109;a' + 'i&#108;' + '&#116;o';
				var path 
 = 'hr' + 'ef' + '=';
				var addy7e7850138d3ffeb5df085167d11020dd = 'fr&#10
 5;sp2020' + '&#64;';
				addy7e7850138d3ffeb5df085167d11020dd = addy7e78501
 38d3ffeb5df085167d11020dd + 'p&#105;k-p&#111;tsd&#97;m' + '&#46;' + 'd&#101
 ;';
				var addy_text7e7850138d3ffeb5df085167d11020dd = 'fr&#105;sp2020' + 
 '&#64;' + 'p&#105;k-p&#111;tsd&#97;m' + '&#46;' + 'd&#101;';document.getEle
 mentById('cloak7e7850138d3ffeb5df085167d11020dd').innerHTML += '<a ' + path
  + '\'' + prefix + ':' + addy7e7850138d3ffeb5df085167d11020dd + '\'>'+addy_
 text7e7850138d3ffeb5df085167d11020dd+'';
		. \n \n Looking forward to seein
 g many of you online!\n \n Until then, stay healthy and best wishes,\n Ronj
 a, Torsten and Ricarda\n \n \n \nFRISP is an annual meeting to share resear
 ch related to ice shelves, and their interactions with the ice sheet, ocean
 , and atmosphere. It is an Expert Group of the <a href="https://www.scar.or
 g/" target="_blank" rel="noopener" data-cke-saved-href="https://www.scar.or
 g/">Scientific Committee on Antarctic Research (SCAR)</a>, and has organise
 d regular meetings in Europe since 1984 (https://folk.uib.no/ngfso/FRISP/).
  FRISP is an appropriate meeting to present work in progress and discuss em
 erging research ideas, and is well-suited to early career researchers as we
 ll as senior scientists.\nRegistration deadline: March 15th\nAbstract submi
 ssion deadline: April 15th\nRegister and submit your abstract through the l
 inks on the FRISP 2020 website: <a href="https://eveeno.com/frisp2020" targ
 et="_blank" rel="noopener" moz-do-not-send="true"></a>https://eveeno.com/fr
 isp2020 \n\n\n\n
X-ALT-DESC;FMTTYPE=text/html:<p>We are happy to announce that the <strong>34th Forum for Research into I
 ce Shelf Processes (FRISP)</strong> will take place, in the form of a virtu
 al workshop. We are very excited to try out this new format, and hope you a
 re too! For details on the agenda,&nbsp;registration (without fee) and subm
 itting your abstract see the <strong><a href="https://eveeno.com/virtualfri
 sp2020">FRISP 2020 website</a>. </strong>Registration and abstract submissi
 on closes on <strong>31 May 2020. </strong>We will send out a detailed sche
 dule and information on the online format soon thereafter.<strong>&nbsp;</s
 trong><br />&nbsp;</p><p>We plan four sessions (each session will last abou
 t 3 hours) on the following dates:<br /> &nbsp;&nbsp;&nbsp; 16.06 (Tuesday)
 ,&nbsp; 2pm CET<br /> &nbsp;&nbsp;&nbsp; 17.06 (Wednesday),&nbsp; 8am CET<b
 r /> &nbsp;&nbsp;&nbsp; 24.06 (Wednesday),&nbsp; 5pm CET<br /> &nbsp;&nbsp;
 &nbsp; 25.06 (Thursday),&nbsp; 10am CET<br /> <br /> The plan is to host th
 ese meetings at alternating times during the week so that we can accommodat
 e as many people as possible, given different time zones etc. <br /> <br />
  For those of you who have already registered and booked accommodation at t
 he Döllnsee, your registration fee has been refunded - if any issues arise,
  please contact us as <a href="mailto:frisp2020@pik-potsdam.de" target="_bl
 ank"></a><span id="cloak37ae7b35f658ed76394d4ef197294843">This email addres
 s is being protected from spambots. You need JavaScript enabled to view it.
 </span><script type='text/javascript'>
				document.getElementById('cloak37
 ae7b35f658ed76394d4ef197294843').innerHTML = '';
				var prefix = '&#109;a'
  + 'i&#108;' + '&#116;o';
				var path = 'hr' + 'ef' + '=';
				var addy37a
 e7b35f658ed76394d4ef197294843 = 'fr&#105;sp2020' + '&#64;';
				addy37ae7b3
 5f658ed76394d4ef197294843 = addy37ae7b35f658ed76394d4ef197294843 + 'p&#105;
 k-p&#111;tsd&#97;m' + '&#46;' + 'd&#101;';
				var addy_text37ae7b35f658ed7
 6394d4ef197294843 = 'fr&#105;sp2020' + '&#64;' + 'p&#105;k-p&#111;tsd&#97;m
 ' + '&#46;' + 'd&#101;';document.getElementById('cloak37ae7b35f658ed76394d4
 ef197294843').innerHTML += '<a ' + path + '\'' + prefix + ':' + addy37ae7b3
 5f658ed76394d4ef197294843 + '\'>'+addy_text37ae7b35f658ed76394d4ef197294843
 +'<\/a>';
		</script>. We also kindly ask you to register again for the vir
 tual meeting so we can make sure to include everyone in the workshop.<br />
  <br /> Please direct any questions about FRISP to <a href="mailto:frisp202
 0@pik-potsdam.de" target="_blank"></a><span id="cloak7e7850138d3ffeb5df0851
 67d11020dd">This email address is being protected from spambots. You need J
 avaScript enabled to view it.</span><script type='text/javascript'>
				doc
 ument.getElementById('cloak7e7850138d3ffeb5df085167d11020dd').innerHTML = '
 ';
				var prefix = '&#109;a' + 'i&#108;' + '&#116;o';
				var path = 'hr' 
 + 'ef' + '=';
				var addy7e7850138d3ffeb5df085167d11020dd = 'fr&#105;sp202
 0' + '&#64;';
				addy7e7850138d3ffeb5df085167d11020dd = addy7e7850138d3ffe
 b5df085167d11020dd + 'p&#105;k-p&#111;tsd&#97;m' + '&#46;' + 'd&#101;';
			
 	var addy_text7e7850138d3ffeb5df085167d11020dd = 'fr&#105;sp2020' + '&#64;'
  + 'p&#105;k-p&#111;tsd&#97;m' + '&#46;' + 'd&#101;';document.getElementByI
 d('cloak7e7850138d3ffeb5df085167d11020dd').innerHTML += '<a ' + path + '\''
  + prefix + ':' + addy7e7850138d3ffeb5df085167d11020dd + '\'>'+addy_text7e7
 850138d3ffeb5df085167d11020dd+'<\/a>';
		</script>. <br /> <br /> Looking f
 orward to seeing many of you online!<br /> <br /> Until then, stay healthy 
 and best wishes,<br /> Ronja, Torsten and Ricarda</p><p>&nbsp;</p><p>&nbsp;
 </p><p>&nbsp;</p><p>FRISP is an annual meeting to share research related to
  ice shelves, and their interactions with the ice sheet, ocean, and atmosph
 ere. It is an Expert Group of the&nbsp;<a href="https://www.scar.org/" targ
 et="_blank" rel="noopener" data-cke-saved-href="https://www.scar.org/">Scie
 ntific Committee on Antarctic Research (SCAR)</a>, and has organised&nbsp;<
 a href="https://folk.uib.no/ngfso/FRISP/" target="_blank" rel="noopener" da
 ta-cke-saved-href="https://folk.uib.no/ngfso/FRISP/">regular meetings in Eu
 rope since 1984</a>. FRISP is an appropriate meeting to present work in pro
 gress and discuss emerging research ideas, and is well-suited to early care
 er researchers as well as senior scientists.</p><p>Registration deadline: M
 arch 15<sup>th</sup></p><p>Abstract submission deadline: April 15<sup>th</s
 up></p><p>Register and submit your abstract through the links on the FRISP 
 2020 website:&nbsp;<a href="https://eveeno.com/frisp2020" target="_blank" r
 el="noopener" moz-do-not-send="true"></a><a href="https://eveeno.com/frisp2
 020">https://eveeno.com/frisp2020</a>&nbsp;<br /><br /><br /></p>
CONTACT:Please direct any questions about FRISP to This email address is being protected from spambots. You need JavaScript enabled to view it.
				document.getElementById('cloak28869ddef660bd8f02edb7cfcf89ce0b').innerHTML = '';
				var prefix = '&#109;a' + 'i&#108;' + '&#116;o';
				var path = 'hr' + 'ef' + '=';
				var addy28869ddef660bd8f02edb7cfcf89ce0b = 'fr&#105;sp2020' + '&#64;';
				addy28869ddef660bd8f02edb7cfcf89ce0b = addy28869ddef660bd8f02edb7cfcf89ce0b + 'p&#105;k-p&#111;tsd&#97;m' + '&#46;' + 'd&#101;';
				var addy_text28869ddef660bd8f02edb7cfcf89ce0b = 'fr&#105;sp2020' + '&#64;' + 'p&#105;k-p&#111;tsd&#97;m' + '&#46;' + 'd&#101;';document.getElementById('cloak28869ddef660bd8f02edb7cfcf89ce0b').innerHTML += '<a ' + path + '\'' + prefix + ':' + addy28869ddef660bd8f02edb7cfcf89ce0b + '\'>'+addy_text28869ddef660bd8f02edb7cfcf89ce0b+'';
		
DTSTAMP:20260423T162939Z
DTSTART;TZID=UTC;VALUE=DATE:20200624
DTEND;TZID=UTC;VALUE=DATE:20200626
SEQUENCE:0
TRANSP:OPAQUE
END:VEVENT
END:VCALENDAR