BEGIN:VCALENDAR
VERSION:2.0
PRODID:-//jEvents 2.0 for Joomla//EN
CALSCALE:GREGORIAN
METHOD:PUBLISH
BEGIN:VEVENT
UID:847ea5428c021316737d2b7afc6ef863
CATEGORIES:Polar Conferences, Meetings and Events
CREATED:20200514T150233
SUMMARY:12th International Conference on Permafrost 
LOCATION:Lanzhou\, China
DESCRIPTION:12th International Conference on Permafrost (planned for June 2020)\nis pos
 tponed to June 20-24, 2022. Lanzhou, China. <a href="http://icop2020.csp.es
 cience.cn">http://icop2020.csp.escience.cn</a>\n
X-ALT-DESC;FMTTYPE=text/html:<p><strong>12th International Conference on Permafrost (planned for June 20
 20)</strong></p><p><em>is postponed to June 20-24, 2022. Lanzhou, China. </
 em><a href="https://pyrn.arcticportal.org/index.php?option=com_acym&amp;ctr
 l=fronturl&amp;task=click&amp;urlid=59&amp;userid=554&amp;mailid=267" data-
 saferedirecturl="https://www.google.com/url?q=https://pyrn.arcticportal.org
 /index.php?option%3Dcom_acym%26ctrl%3Dfronturl%26task%3Dclick%26urlid%3D59%
 26userid%3D554%26mailid%3D267&amp;source=gmail&amp;ust=1589552572883000&amp
 ;usg=AFQjCNHvlYkuJAt0p8YMtlFW2dr6-Kk6UQ"><em></em></a><em><a href="http://i
 cop2020.csp.escience.cn">http://icop2020.csp.escience.cn</a></em></p>
DTSTAMP:20260420T180602Z
DTSTART;TZID=UTC;VALUE=DATE:20220620
DTEND;TZID=UTC;VALUE=DATE:20220625
SEQUENCE:0
TRANSP:OPAQUE
END:VEVENT
END:VCALENDAR