BEGIN:VCALENDAR
VERSION:2.0
PRODID:-//jEvents 2.0 for Joomla//EN
CALSCALE:GREGORIAN
METHOD:PUBLISH
BEGIN:VEVENT
UID:48496aa1e97eafda81331191a70f55b5
CATEGORIES:Polar Conferences, Meetings and Events
CREATED:20200505T082630
SUMMARY:Webinar: Permafrost Discovery Gateway, Geospatial Data and Community Needs
DESCRIPTION:Organizers announce a webinar entitled Permafrost Discovery Gateway, Geospa
 tial Data and Community Needs. This webinar will feature Anna Liljedahl, As
 sociate Scientist at Woods Hole Research Center and Principal Investigator 
 of the Permafrost Discovery Gateway, and will take place 12 May 2020 at 12:
 00 p.m. EDT.\nWebinar Abstract\nThe Permafrost Discovery Gateway is a new N
 ational Science Foundation (NSF) Navigating the New Arctic (NNA) award that
  will create an online platform for archiving, processing, analyzing, and v
 isualizing permafrost big imagery products for discovery and knowledge-gene
 ration. This new online scientific gateway will provide access to high reso
 lution satellite data products and visualization tools that expand on the G
 apminder Foundation, Google Earth, and Fluid Earth Viewer to enable explora
 tion of changes in permafrost across decades. Designed as a community resou
 rce, creators want input across all stages of development. Join this intera
 ctive webinar to learn about the Permafrost Discovery Gateway and inform in
 itial development. Which geospatial data are critical for inclusion? How wi
 ll you use the resource and what functionality do you need? How can creator
 s improve on efficiencies in your data discovery and access workflow?\nFor 
 more information and to register, go to:\n \nFor questions, contact:\n Anna
  Liljedahl\n Email: <a href="https://www.arcus.org/sites/all/modules/civicr
 m/extern/url.php?u=22548&amp;qid=3868302" target="_blank" rel="noopener" da
 ta-saferedirecturl="https://www.google.com/url?q=https://www.arcus.org/site
 s/all/modules/civicrm/extern/url.php?u%3D22548%26qid%3D3868302&amp;source=g
 mail&amp;ust=1588753468993000&amp;usg=AFQjCNFyLy6NOmF1_uDSFh3_q3cS-oiFSQ"><
 /a>This email address is being protected from spambots. You need JavaScript
  enabled to view it.
				document.getElementById('cloak12488d32befb1a2ecb99
 a872b3f75e72').innerHTML = '';
				var prefix = '&#109;a' + 'i&#108;' + '&#
 116;o';
				var path = 'hr' + 'ef' + '=';
				var addy12488d32befb1a2ecb99a
 872b3f75e72 = '&#97;l&#105;lj&#101;d&#97;hl' + '&#64;';
				addy12488d32bef
 b1a2ecb99a872b3f75e72 = addy12488d32befb1a2ecb99a872b3f75e72 + 'whrc' + '&#
 46;' + '&#111;rg';
				var addy_text12488d32befb1a2ecb99a872b3f75e72 = '&#9
 7;l&#105;lj&#101;d&#97;hl' + '&#64;' + 'whrc' + '&#46;' + '&#111;rg';docume
 nt.getElementById('cloak12488d32befb1a2ecb99a872b3f75e72').innerHTML += '<a
  ' + path + '\'' + prefix + ':' + addy12488d32befb1a2ecb99a872b3f75e72 + '\
 '>'+addy_text12488d32befb1a2ecb99a872b3f75e72+'';
		\n
X-ALT-DESC;FMTTYPE=text/html:<p>Organizers announce a webinar entitled <em>Permafrost Discovery Gateway,
  Geospatial Data and Community Needs</em>. This webinar will feature Anna L
 iljedahl, Associate Scientist at Woods Hole Research Center and Principal I
 nvestigator of the Permafrost Discovery Gateway, and will take place 12 May
  2020 at 12:00 p.m. EDT.</p><p><strong>Webinar Abstract</strong></p><p>The 
 Permafrost Discovery Gateway is a new National Science Foundation (NSF) Nav
 igating the New Arctic (NNA) award that will create an online platform for 
 archiving, processing, analyzing, and visualizing permafrost big imagery pr
 oducts for discovery and knowledge-generation. This new online scientific g
 ateway will provide access to high resolution satellite data products and v
 isualization tools that expand on the Gapminder Foundation, Google Earth, a
 nd Fluid Earth Viewer to enable exploration of changes in permafrost across
  decades. Designed as a community resource, creators want input across all 
 stages of development. Join this interactive webinar to learn about the Per
 mafrost Discovery Gateway and inform initial development. Which geospatial 
 data are critical for inclusion? How will you use the resource and what fun
 ctionality do you need? How can creators improve on efficiencies in your da
 ta discovery and access workflow?</p><p>For more information and to registe
 r, go to:<br /> <a href="https://www.arcus.org/sites/all/modules/civicrm/ex
 tern/url.php?u=22547&amp;qid=3868302" target="_blank" rel="noopener" data-s
 aferedirecturl="https://www.google.com/url?q=https://www.arcus.org/sites/al
 l/modules/civicrm/extern/url.php?u%3D22547%26qid%3D3868302&amp;source=gmail
 &amp;ust=1588753468993000&amp;usg=AFQjCNHuhJRUAnoU5hk7n6Ft2PPVZBBGfw">Webin
 ar webpage</a></p><p>For questions, contact:<br /> Anna Liljedahl<br /> Ema
 il: <a href="https://www.arcus.org/sites/all/modules/civicrm/extern/url.php
 ?u=22548&amp;qid=3868302" target="_blank" rel="noopener" data-saferedirectu
 rl="https://www.google.com/url?q=https://www.arcus.org/sites/all/modules/ci
 vicrm/extern/url.php?u%3D22548%26qid%3D3868302&amp;source=gmail&amp;ust=158
 8753468993000&amp;usg=AFQjCNFyLy6NOmF1_uDSFh3_q3cS-oiFSQ"></a><span id="clo
 ak12488d32befb1a2ecb99a872b3f75e72">This email address is being protected f
 rom spambots. You need JavaScript enabled to view it.</span><script type='t
 ext/javascript'>
				document.getElementById('cloak12488d32befb1a2ecb99a872
 b3f75e72').innerHTML = '';
				var prefix = '&#109;a' + 'i&#108;' + '&#116;
 o';
				var path = 'hr' + 'ef' + '=';
				var addy12488d32befb1a2ecb99a872b
 3f75e72 = '&#97;l&#105;lj&#101;d&#97;hl' + '&#64;';
				addy12488d32befb1a2
 ecb99a872b3f75e72 = addy12488d32befb1a2ecb99a872b3f75e72 + 'whrc' + '&#46;'
  + '&#111;rg';
				var addy_text12488d32befb1a2ecb99a872b3f75e72 = '&#97;l&
 #105;lj&#101;d&#97;hl' + '&#64;' + 'whrc' + '&#46;' + '&#111;rg';document.g
 etElementById('cloak12488d32befb1a2ecb99a872b3f75e72').innerHTML += '<a ' +
  path + '\'' + prefix + ':' + addy12488d32befb1a2ecb99a872b3f75e72 + '\'>'+
 addy_text12488d32befb1a2ecb99a872b3f75e72+'<\/a>';
		</script></p>
DTSTAMP:20260421T203413Z
DTSTART;TZID=UTC:20200512T080000
DTEND;TZID=UTC:20200512T170000
SEQUENCE:0
TRANSP:OPAQUE
END:VEVENT
END:VCALENDAR