BEGIN:VCALENDAR
VERSION:2.0
PRODID:-//jEvents 2.0 for Joomla//EN
CALSCALE:GREGORIAN
METHOD:PUBLISH
BEGIN:VEVENT
UID:e31bdf3639187f6420a1214067cae5f9
CATEGORIES:Polar Conferences, Meetings and Events
CREATED:20200505T080127
SUMMARY:Webunar: NSF Program Manager Chat - Response to COVID-19
DESCRIPTION:<p>The Interagency Arctic Research Policy Committee (IARPC) Collaborations 
 announces a webinar entitled <em>National Science Foundation Program Manage
 r Chat - Response to COVID-19</em>. This webinar will take place online on 
 Wednesday, 6 May 2020 at 2:00 p.m. EDT.</p><p>Join NSF Office of Polar Prog
 rams (OPP) Officers to discuss the NSF response to COVID-19, including impa
 cts on awards, regulations, and the 2020 field season. This is an opportuni
 ty for open dialog with OPP and they welcome the research community to join
 , ask questions, and share feedback.</p><p>To register for the webinar, go 
 to:<br /> <a href="https://www.arcus.org/sites/all/modules/civicrm/extern/u
 rl.php?u=22517&amp;qid=3863831" target="_blank" rel="noopener" data-safered
 irecturl="https://www.google.com/url?q=https://www.arcus.org/sites/all/modu
 les/civicrm/extern/url.php?u%3D22517%26qid%3D3863831&amp;source=gmail&amp;u
 st=1588691138241000&amp;usg=AFQjCNGnPRiw24yuUxpM7qU5gNNBsd4tlg">Webinar web
 page</a></p><p>For more information about the topics to be covered in this 
 webinar:<br /> <a href="https://www.arcus.org/sites/all/modules/civicrm/ext
 ern/url.php?u=22519&amp;qid=3863831" target="_blank" rel="noopener" data-sa
 feredirecturl="https://www.google.com/url?q=https://www.arcus.org/sites/all
 /modules/civicrm/extern/url.php?u%3D22519%26qid%3D3863831&amp;source=gmail&
 amp;ust=1588691138241000&amp;usg=AFQjCNGvjCHdaBkubUprKEKpZIjTtoyp3Q">NSF Co
 ronavirus Informtion webpage</a></p><p>For questions, contact:<br /> Kelley
  Uhlig<br /> Email: <a href="https://www.arcus.org/sites/all/modules/civicr
 m/extern/url.php?u=22518&amp;qid=3863831" target="_blank" rel="noopener" da
 ta-saferedirecturl="https://www.google.com/url?q=https://www.arcus.org/site
 s/all/modules/civicrm/extern/url.php?u%3D22518%26qid%3D3863831&amp;source=g
 mail&amp;ust=1588691138241000&amp;usg=AFQjCNEQszxklTKWgssQOmhkv1-mCVHsbQ"><
 /a><span id="cloak0bbb6aa82b17dcb3e57233bd23c3129a">This email address is b
 eing protected from spambots. You need JavaScript enabled to view it.</span
 ><script type='text/javascript'>
				document.getElementById('cloak0bbb6aa8
 2b17dcb3e57233bd23c3129a').innerHTML = '';
				var prefix = '&#109;a' + 'i&
 #108;' + '&#116;o';
				var path = 'hr' + 'ef' + '=';
				var addy0bbb6aa82
 b17dcb3e57233bd23c3129a = 'k&#101;ll&#101;y' + '&#64;';
				addy0bbb6aa82b1
 7dcb3e57233bd23c3129a = addy0bbb6aa82b17dcb3e57233bd23c3129a + '&#105;&#97;
 rpcc&#111;ll&#97;b&#111;r&#97;t&#105;&#111;ns' + '&#46;' + '&#111;rg';
				
 var addy_text0bbb6aa82b17dcb3e57233bd23c3129a = 'k&#101;ll&#101;y' + '&#64;
 ' + '&#105;&#97;rpcc&#111;ll&#97;b&#111;r&#97;t&#105;&#111;ns' + '&#46;' + 
 '&#111;rg';document.getElementById('cloak0bbb6aa82b17dcb3e57233bd23c3129a')
 .innerHTML += '<a ' + path + '\'' + prefix + ':' + addy0bbb6aa82b17dcb3e572
 33bd23c3129a + '\'>'+addy_text0bbb6aa82b17dcb3e57233bd23c3129a+'<\/a>';
		<
 /script><br /> Phone: 301-427-2471</p>
DTSTAMP:20260421T220928Z
DTSTART;TZID=UTC:20200506T080000
DTEND;TZID=UTC:20200506T170000
SEQUENCE:0
TRANSP:OPAQUE
END:VEVENT
END:VCALENDAR