BEGIN:VCALENDAR
VERSION:2.0
PRODID:-//jEvents 2.0 for Joomla//EN
CALSCALE:GREGORIAN
METHOD:PUBLISH
BEGIN:VEVENT
UID:323ce2253a7ed19a4101c6514225e58b
CATEGORIES:Polar Conferences, Meetings and Events
CREATED:20200430T185622
SUMMARY:Arctic Futures 2050 Community Webinars
DESCRIPTION:SEARCH invites you to read the Arctic Futures 2050 conference report and to
  discuss future directions for Arctic research. You can access the online v
 ersion of the full conference report (https://www.searcharcticscience.org/f
 iles/page/documents/29791/arctic_futures_2050_conference_report.pdf) or the
  <a href="https://www.searcharcticscience.org/files/page/documents/29791/ar
 ctic_futures_2050_executivesummary.pdf">4-page executive summary</a>. Two w
 ebinars on May 14 and 18 will allow you to discuss Arctic research needs in
  the context of the conference report and/or your own observations and rese
 arch.\nThose discussions will help SEARCH develop both its future programs 
 as well as offer input to the 5-year Arctic research plan being developed b
 y the Interagency Arctic Policy Research Committee (IARPC). More informatio
 n about the IARPC research plan is .\nWe hope you will join us for one of t
 hese SEARCH-hosted webinars (90 minutes):\nWebinar 2: Monday, May 18 at 12 
 pm (AK); 1 pm (PT); 2 pm (MT); 3 pm (CT); 4 pm (ET) \nRegister here: \n <a 
 href="https://www.arcus.org/sites/all/modules/civicrm/extern/url.php?u=2227
 8&amp;qid=3822377" target="_blank" rel="noopener" data-saferedirecturl="htt
 ps://www.google.com/url?q=https://www.arcus.org/sites/all/modules/civicrm/e
 xtern/url.php?u%3D22278%26qid%3D3822377&amp;source=gmail&amp;ust=1588358378
 954000&amp;usg=AFQjCNEt8GhTh-whCc9p8puLg2LiVIbYFw"></a>https://alaska.zoom.
 us/meeting/register/tJYldOCgqTsqHdGdcurEnKEJFeGIO4hZCykL\nThe webinars are 
 open to all (whether or not you attended the conference) and reading the co
 nference report beforehand is optional. While you are welcome to join both 
 webinars, the format and opportunity to offer your input will be the same f
 or both sessions. Please contact Andrea Fisher (<a href="https://www.arcus.
 org/sites/all/modules/civicrm/extern/url.php?u=22275&amp;qid=3822377" targe
 t="_blank" rel="noopener" data-saferedirecturl="https://www.google.com/url?
 q=https://www.arcus.org/sites/all/modules/civicrm/extern/url.php?u%3D22275%
 26qid%3D3822377&amp;source=gmail&amp;ust=1588358378954000&amp;usg=AFQjCNGOW
 H2M168dbji-GmafZ-w_YxbG8g"></a>This email address is being protected from s
 pambots. You need JavaScript enabled to view it.
				document.getElementByI
 d('cloak3f4c2a171558f58ae49c32b689a4bde1').innerHTML = '';
				var prefix =
  '&#109;a' + 'i&#108;' + '&#116;o';
				var path = 'hr' + 'ef' + '=';
				v
 ar addy3f4c2a171558f58ae49c32b689a4bde1 = '&#97;f&#105;sh&#101;r13' + '&#64
 ;';
				addy3f4c2a171558f58ae49c32b689a4bde1 = addy3f4c2a171558f58ae49c32b6
 89a4bde1 + '&#97;l&#97;sk&#97;' + '&#46;' + '&#101;d&#117;';
				var addy_t
 ext3f4c2a171558f58ae49c32b689a4bde1 = '&#97;f&#105;sh&#101;r13' + '&#64;' +
  '&#97;l&#97;sk&#97;' + '&#46;' + '&#101;d&#117;';document.getElementById('
 cloak3f4c2a171558f58ae49c32b689a4bde1').innerHTML += '<a ' + path + '\'' + 
 prefix + ':' + addy3f4c2a171558f58ae49c32b689a4bde1 + '\'>'+addy_text3f4c2a
 171558f58ae49c32b689a4bde1+'';
		) with questions about the report or the w
 ebinars. You also can request a printed copy of the report or summary from 
 Andrea Fisher.\nWe look forward to hearing from you on May 14 or May 18.\n
X-ALT-DESC;FMTTYPE=text/html:<p>SEARCH invites you to read the Arctic Futures 2050 conference report and
  to discuss future directions for Arctic research.&nbsp;You can access the 
 online version of the <a href="https://www.searcharcticscience.org/files/pa
 ge/documents/29791/arctic_futures_2050_conference_report.pdf">full conferen
 ce report</a> or the <a href="https://www.searcharcticscience.org/files/pag
 e/documents/29791/arctic_futures_2050_executivesummary.pdf">4-page executiv
 e summary</a>. Two webinars on May 14 and 18 will allow you to discuss Arct
 ic research needs in the context of the conference report and/or your own o
 bservations and research.</p><p>Those discussions will help SEARCH develop 
 both its future programs as well as offer input to the 5-year Arctic resear
 ch plan being developed by the Interagency Arctic Policy Research Committee
  (IARPC). More information about the IARPC research plan is&nbsp;<a href="h
 ttps://www.arcus.org/sites/all/modules/civicrm/extern/url.php?u=22276&amp;q
 id=3822377" target="_blank" rel="noopener" data-saferedirecturl="https://ww
 w.google.com/url?q=https://www.arcus.org/sites/all/modules/civicrm/extern/u
 rl.php?u%3D22276%26qid%3D3822377&amp;source=gmail&amp;ust=1588358378954000&
 amp;usg=AFQjCNHN5T4o5iiPYW5swAdJFtE2hi4FGA">here</a>.</p><p><strong>We hope
  you will join us for one of these SEARCH-hosted webinars (90 minutes):</st
 rong></p><p><strong><span style="text-decoration: underline;">Webinar 2:</s
 pan>&nbsp;Monday, May 18 </strong>at 12 pm (AK); 1 pm (PT); 2 pm (MT); 3 pm
  (CT); 4 pm (ET)&nbsp;</p><p><strong>Register here:</strong>&nbsp;<br /> <a
  href="https://www.arcus.org/sites/all/modules/civicrm/extern/url.php?u=222
 78&amp;qid=3822377" target="_blank" rel="noopener" data-saferedirecturl="ht
 tps://www.google.com/url?q=https://www.arcus.org/sites/all/modules/civicrm/
 extern/url.php?u%3D22278%26qid%3D3822377&amp;source=gmail&amp;ust=158835837
 8954000&amp;usg=AFQjCNEt8GhTh-whCc9p8puLg2LiVIbYFw"></a><a href="https://al
 aska.zoom.us/meeting/register/tJYldOCgqTsqHdGdcurEnKEJFeGIO4hZCykL">https:/
 /alaska.zoom.us/meeting/register/tJYldOCgqTsqHdGdcurEnKEJFeGIO4hZCykL</a></
 p><p>The webinars are open to all (whether or not you attended the conferen
 ce) and reading the conference report beforehand is optional. While you are
  welcome to join both webinars, the format and opportunity to offer your in
 put will be the same for both sessions. Please contact Andrea Fisher (<a hr
 ef="https://www.arcus.org/sites/all/modules/civicrm/extern/url.php?u=22275&
 amp;qid=3822377" target="_blank" rel="noopener" data-saferedirecturl="https
 ://www.google.com/url?q=https://www.arcus.org/sites/all/modules/civicrm/ext
 ern/url.php?u%3D22275%26qid%3D3822377&amp;source=gmail&amp;ust=158835837895
 4000&amp;usg=AFQjCNGOWH2M168dbji-GmafZ-w_YxbG8g"></a><span id="cloak3f4c2a1
 71558f58ae49c32b689a4bde1">This email address is being protected from spamb
 ots. You need JavaScript enabled to view it.</span><script type='text/javas
 cript'>
				document.getElementById('cloak3f4c2a171558f58ae49c32b689a4bde1'
 ).innerHTML = '';
				var prefix = '&#109;a' + 'i&#108;' + '&#116;o';
				v
 ar path = 'hr' + 'ef' + '=';
				var addy3f4c2a171558f58ae49c32b689a4bde1 =
  '&#97;f&#105;sh&#101;r13' + '&#64;';
				addy3f4c2a171558f58ae49c32b689a4b
 de1 = addy3f4c2a171558f58ae49c32b689a4bde1 + '&#97;l&#97;sk&#97;' + '&#46;'
  + '&#101;d&#117;';
				var addy_text3f4c2a171558f58ae49c32b689a4bde1 = '&#
 97;f&#105;sh&#101;r13' + '&#64;' + '&#97;l&#97;sk&#97;' + '&#46;' + '&#101;
 d&#117;';document.getElementById('cloak3f4c2a171558f58ae49c32b689a4bde1').i
 nnerHTML += '<a ' + path + '\'' + prefix + ':' + addy3f4c2a171558f58ae49c32
 b689a4bde1 + '\'>'+addy_text3f4c2a171558f58ae49c32b689a4bde1+'<\/a>';
		</s
 cript>) with questions about the report or the webinars. You also can reque
 st a printed copy of the report or summary from Andrea Fisher.</p><p>We loo
 k forward to&nbsp;hearing from&nbsp;you on May&nbsp;14 or May 18.</p>
DTSTAMP:20260421T230507Z
DTSTART;TZID=UTC:20200518T080000
DTEND;TZID=UTC:20200518T170000
SEQUENCE:0
TRANSP:OPAQUE
END:VEVENT
END:VCALENDAR