BEGIN:VCALENDAR
VERSION:2.0
PRODID:-//jEvents 2.0 for Joomla//EN
CALSCALE:GREGORIAN
METHOD:PUBLISH
BEGIN:VEVENT
UID:106e53402c041e256f2130be7f6e2f07
CATEGORIES:Polar Conferences, Meetings and Events
CREATED:20161014T070550
SUMMARY:Winter Field Course for Snow Measurement
LOCATION:Kananaskis\, Canadian Rockies
DESCRIPTION:<p style="text-align: center;"><strong>The NASA Snow Working Group-Remote S
 ensing offers The 4th Winter Field Course for Snow Measurement </strong></p
 ><p style="text-align: center;"><strong>January 5-9, 2017</strong><br /><st
 rong>Kananaskis, Canadian Rockies</strong></p><p style="text-align: justify
 ;"><strong>What:</strong> A course for serious students of snow, whether en
 gaged in modeling, measuring, or teaching about snow. The course will intro
 duce students to standard and specialized quantitative and qualitative meas
 urements of snowpack characteristics, as well as how to conduct safe and ef
 ficient snow field campaigns. Over three full days we will provide fundamen
 tal training to students in performing and analyzing snow measurements, inc
 luding depth, density, snow water equivalence, grain size and shape, strati
 graphy, temperature and hardness. Students completing this course will be a
 ble to perform high-quality fieldwork as well as design studies requiring s
 nowpack measurements, including those required during snow remote sensing c
 alibration and validation campaigns. Class credit will be offered through t
 he University of Saskatchewan.</p><p style="text-align: justify;"><strong>W
 here:</strong> Barrier Lake Field Station, Kananaskis, Alberta, Canada (abo
 ut 45 minutes west of Calgary) with field work at Fortress Mountain in the 
 Canadian Rockies (see http://bgs.ucalgary.ca/facilities & <a href="https://
 www.youtube.com/watch?v=lmLND5EhL5w">https://www.youtube.com/watch?v=lmLND5
 EhL5w</a> )</p><p style="text-align: justify;"><strong>When:</strong> Janua
 ry 5 - 9, 2017</p><p style="text-align: justify;"><strong>Who:</strong> Stu
 dents:<br />The course is aimed at undergraduate and graduate students, pos
 t-docs, professionals and senior scientists, modelers and those who do snow
  remote sensing that will either need to make snow measurements as part of 
 their research, or use snowpack data in their research. There are no prereq
 uisites, but students will be selected from the pool of applicants based on
  applicability to their studies. Successful applicants will be notified by 
 <strong>December 15, 2016.</strong> Students from any nation may apply. App
 lications are available at <a href="http://iswgr.org/fieldwork2017">http://
 iswgr.org/fieldwork2017</a>  and are due by <strong>December 1, 2016</stron
 g>.</p><p style="text-align: justify;"><strong>Who:</strong> Instructors<br
  />Dr. Kelly Elder: US Forest Service, Rocky Mountain Research Station<br /
 >Dr. Matthew Sturm: Geophysical Institute, University of Alaska, Fairbanks<
 br />Dr. John Pomeroy, Director, Centre for Hydrology, University of Saskat
 chewan<br />Dr. Jessica Lundquist, Mountain Hydrology Research, University 
 of Washington<br />Dr. Alexandre Langlois, Centre d’applications et de rech
 erches en télédétection, Université de Sherbrooke<br />Dr. Nicholas Kinar, 
 Centre for Hydrology, University of Saskatchewan</p><p style="text-align: j
 ustify;"><strong>How:</strong> NASA funding for the course is pending (and 
 expected in October) and student application/selection will start soon. Stu
 dents will be reimbursed for travel, food, and lodging enroute the Barrier 
 Lake field station, where lodging and meals will be provided. Travel expens
 es may include airfare, taxi or bus for airport access, and shuttle from Ca
 lgary Airport (YYC). Car rental will not be reimbursed. Receipts for all th
 e above expenses should be kept and information about processing will be pr
 ovided at the course. Please make every effort to minimize travel costs. Qu
 estions about rates, fees, and reimbursements should be sent to Cindy Brekk
 e at NSIDC ( <span id="cloak6d875c42f30a66ed465cc58da6c8aaf2">This email ad
 dress is being protected from spambots. You need JavaScript enabled to view
  it.</span><script type='text/javascript'>
				document.getElementById('clo
 ak6d875c42f30a66ed465cc58da6c8aaf2').innerHTML = '';
				var prefix = '&#10
 9;a' + 'i&#108;' + '&#116;o';
				var path = 'hr' + 'ef' + '=';
				var add
 y6d875c42f30a66ed465cc58da6c8aaf2 = 'br&#101;kk&#101;' + '&#64;';
				addy6
 d875c42f30a66ed465cc58da6c8aaf2 = addy6d875c42f30a66ed465cc58da6c8aaf2 + 'n
 s&#105;dc' + '&#46;' + '&#111;rg';
				var addy_text6d875c42f30a66ed465cc58
 da6c8aaf2 = 'br&#101;kk&#101;' + '&#64;' + 'ns&#105;dc' + '&#46;' + '&#111;
 rg';document.getElementById('cloak6d875c42f30a66ed465cc58da6c8aaf2').innerH
 TML += '<a ' + path + '\'' + prefix + ':' + addy6d875c42f30a66ed465cc58da6c
 8aaf2 + '\'>'+addy_text6d875c42f30a66ed465cc58da6c8aaf2+'<\/a>';
		</script
 >  ).</p><p style="text-align: justify;">For course information and registr
 ation, see <a href="http://www.iswgr.org/fieldwork2017">http://www.iswgr.or
 g/fieldwork2017</a> or contact: Dr. Matthew Sturm via email: <span id="cloa
 k8885f57cabe56287a0ad313a7fa87ad2">This email address is being protected fr
 om spambots. You need JavaScript enabled to view it.</span><script type='te
 xt/javascript'>
				document.getElementById('cloak8885f57cabe56287a0ad313a7
 fa87ad2').innerHTML = '';
				var prefix = '&#109;a' + 'i&#108;' + '&#116;o
 ';
				var path = 'hr' + 'ef' + '=';
				var addy8885f57cabe56287a0ad313a7f
 a87ad2 = 'mst&#117;rm1' + '&#64;';
				addy8885f57cabe56287a0ad313a7fa87ad2
  = addy8885f57cabe56287a0ad313a7fa87ad2 + '&#97;l&#97;sk&#97;' + '&#46;' + 
 '&#101;d&#117;';
				var addy_text8885f57cabe56287a0ad313a7fa87ad2 = 'mst&#
 117;rm1' + '&#64;' + '&#97;l&#97;sk&#97;' + '&#46;' + '&#101;d&#117;';docum
 ent.getElementById('cloak8885f57cabe56287a0ad313a7fa87ad2').innerHTML += '<
 a ' + path + '\'' + prefix + ':' + addy8885f57cabe56287a0ad313a7fa87ad2 + '
 \'>'+addy_text8885f57cabe56287a0ad313a7fa87ad2+'<\/a>';
		</script> and ind
 icate Snow School in the subject line.</p>
DTSTAMP:20260422T043835Z
DTSTART;TZID=UTC;VALUE=DATE:20170105
DTEND;TZID=UTC;VALUE=DATE:20170110
SEQUENCE:0
TRANSP:OPAQUE
END:VEVENT
END:VCALENDAR