BEGIN:VCALENDAR
VERSION:2.0
PRODID:-//jEvents 2.0 for Joomla//EN
CALSCALE:GREGORIAN
METHOD:PUBLISH
BEGIN:VEVENT
UID:125a1c0acb98975cc9a624a2401c16e7
CATEGORIES:Polar Conferences, Meetings and Events
CREATED:20200430T185337
SUMMARY:Arctic Futures 2050 Community Webinars
DESCRIPTION:SEARCH invites you to read the Arctic Futures 2050 conference report and to
  discuss future directions for Arctic research. You can access the online v
 ersion of the full conference report (https://www.searcharcticscience.org/f
 iles/page/documents/29791/arctic_futures_2050_conference_report.pdf) or the
  <a href="https://www.searcharcticscience.org/files/page/documents/29791/ar
 ctic_futures_2050_executivesummary.pdf">4-page executive summary</a>. Two w
 ebinars on May 14 and 18 will allow you to discuss Arctic research needs in
  the context of the conference report and/or your own observations and rese
 arch.\nThose discussions will help SEARCH develop both its future programs 
 as well as offer input to the 5-year Arctic research plan being developed b
 y the Interagency Arctic Policy Research Committee (IARPC). More informatio
 n about the IARPC research plan is .\nWe hope you will join us for one of t
 hese SEARCH-hosted webinars (90 minutes):\nWebinar 1: Thursday, May 14 at 9
  am (AK); 10 am (PT); 11 am (MT); 12 pm (CT); 1 pm (ET)\nRegister here: <a 
 href="https://www.arcus.org/sites/all/modules/civicrm/extern/url.php?u=2227
 7&amp;qid=3822377" target="_blank" rel="noopener" data-saferedirecturl="htt
 ps://www.google.com/url?q=https://www.arcus.org/sites/all/modules/civicrm/e
 xtern/url.php?u%3D22277%26qid%3D3822377&amp;source=gmail&amp;ust=1588358378
 954000&amp;usg=AFQjCNFXMWQoufSkYI-vo4A8C4OoiUuhhQ"></a>https://alaska.zoom.
 us/meeting/register/tJYlcuGppzMiGdSgFiBda7K9vkwbao48OUnm\nThe webinars are 
 open to all (whether or not you attended the conference) and reading the co
 nference report beforehand is optional. While you are welcome to join both 
 webinars, the format and opportunity to offer your input will be the same f
 or both sessions. Please contact Andrea Fisher (<a href="https://www.arcus.
 org/sites/all/modules/civicrm/extern/url.php?u=22275&amp;qid=3822377" targe
 t="_blank" rel="noopener" data-saferedirecturl="https://www.google.com/url?
 q=https://www.arcus.org/sites/all/modules/civicrm/extern/url.php?u%3D22275%
 26qid%3D3822377&amp;source=gmail&amp;ust=1588358378954000&amp;usg=AFQjCNGOW
 H2M168dbji-GmafZ-w_YxbG8g"></a>This email address is being protected from s
 pambots. You need JavaScript enabled to view it.
				document.getElementByI
 d('cloakd50061ecc504b6aa56ca729a9e28e7fe').innerHTML = '';
				var prefix =
  '&#109;a' + 'i&#108;' + '&#116;o';
				var path = 'hr' + 'ef' + '=';
				v
 ar addyd50061ecc504b6aa56ca729a9e28e7fe = '&#97;f&#105;sh&#101;r13' + '&#64
 ;';
				addyd50061ecc504b6aa56ca729a9e28e7fe = addyd50061ecc504b6aa56ca729a
 9e28e7fe + '&#97;l&#97;sk&#97;' + '&#46;' + '&#101;d&#117;';
				var addy_t
 extd50061ecc504b6aa56ca729a9e28e7fe = '&#97;f&#105;sh&#101;r13' + '&#64;' +
  '&#97;l&#97;sk&#97;' + '&#46;' + '&#101;d&#117;';document.getElementById('
 cloakd50061ecc504b6aa56ca729a9e28e7fe').innerHTML += '<a ' + path + '\'' + 
 prefix + ':' + addyd50061ecc504b6aa56ca729a9e28e7fe + '\'>'+addy_textd50061
 ecc504b6aa56ca729a9e28e7fe+'';
		) with questions about the report or the w
 ebinars. You also can request a printed copy of the report or summary from 
 Andrea Fisher.\nWe look forward to hearing from you on May 14 or May 18.\n
X-ALT-DESC;FMTTYPE=text/html:<p>SEARCH invites you to read the Arctic Futures 2050 conference report and
  to discuss future directions for Arctic research.&nbsp;You can access the 
 online version of the <a href="https://www.searcharcticscience.org/files/pa
 ge/documents/29791/arctic_futures_2050_conference_report.pdf">full conferen
 ce report</a> or the <a href="https://www.searcharcticscience.org/files/pag
 e/documents/29791/arctic_futures_2050_executivesummary.pdf">4-page executiv
 e summary</a>. Two webinars on May 14 and 18 will allow you to discuss Arct
 ic research needs in the context of the conference report and/or your own o
 bservations and research.</p><p>Those discussions will help SEARCH develop 
 both its future programs as well as offer input to the 5-year Arctic resear
 ch plan being developed by the Interagency Arctic Policy Research Committee
  (IARPC). More information about the IARPC research plan is&nbsp;<a href="h
 ttps://www.arcus.org/sites/all/modules/civicrm/extern/url.php?u=22276&amp;q
 id=3822377" target="_blank" rel="noopener" data-saferedirecturl="https://ww
 w.google.com/url?q=https://www.arcus.org/sites/all/modules/civicrm/extern/u
 rl.php?u%3D22276%26qid%3D3822377&amp;source=gmail&amp;ust=1588358378954000&
 amp;usg=AFQjCNHN5T4o5iiPYW5swAdJFtE2hi4FGA">here</a>.</p><p><strong>We hope
  you will join us for one of these SEARCH-hosted webinars (90 minutes):</st
 rong></p><p><strong><span style="text-decoration: underline;">Webinar 1:</s
 pan>&nbsp;Thursday, May 14 </strong>at 9 am (AK); 10 am (PT); 11 am (MT); 1
 2 pm (CT); 1 pm (ET)</p><p><strong>Register here: </strong><a href="https:/
 /www.arcus.org/sites/all/modules/civicrm/extern/url.php?u=22277&amp;qid=382
 2377" target="_blank" rel="noopener" data-saferedirecturl="https://www.goog
 le.com/url?q=https://www.arcus.org/sites/all/modules/civicrm/extern/url.php
 ?u%3D22277%26qid%3D3822377&amp;source=gmail&amp;ust=1588358378954000&amp;us
 g=AFQjCNFXMWQoufSkYI-vo4A8C4OoiUuhhQ"></a><a href="https://alaska.zoom.us/m
 eeting/register/tJYlcuGppzMiGdSgFiBda7K9vkwbao48OUnm">https://alaska.zoom.u
 s/meeting/register/tJYlcuGppzMiGdSgFiBda7K9vkwbao48OUnm</a></p><p>The webin
 ars are open to all (whether or not you attended the conference) and readin
 g the conference report beforehand is optional. While you are welcome to jo
 in both webinars, the format and opportunity to offer your input will be th
 e same for both sessions. Please contact Andrea Fisher (<a href="https://ww
 w.arcus.org/sites/all/modules/civicrm/extern/url.php?u=22275&amp;qid=382237
 7" target="_blank" rel="noopener" data-saferedirecturl="https://www.google.
 com/url?q=https://www.arcus.org/sites/all/modules/civicrm/extern/url.php?u%
 3D22275%26qid%3D3822377&amp;source=gmail&amp;ust=1588358378954000&amp;usg=A
 FQjCNGOWH2M168dbji-GmafZ-w_YxbG8g"></a><span id="cloakd50061ecc504b6aa56ca7
 29a9e28e7fe">This email address is being protected from spambots. You need 
 JavaScript enabled to view it.</span><script type='text/javascript'>
				do
 cument.getElementById('cloakd50061ecc504b6aa56ca729a9e28e7fe').innerHTML = 
 '';
				var prefix = '&#109;a' + 'i&#108;' + '&#116;o';
				var path = 'hr'
  + 'ef' + '=';
				var addyd50061ecc504b6aa56ca729a9e28e7fe = '&#97;f&#105;
 sh&#101;r13' + '&#64;';
				addyd50061ecc504b6aa56ca729a9e28e7fe = addyd500
 61ecc504b6aa56ca729a9e28e7fe + '&#97;l&#97;sk&#97;' + '&#46;' + '&#101;d&#1
 17;';
				var addy_textd50061ecc504b6aa56ca729a9e28e7fe = '&#97;f&#105;sh&#
 101;r13' + '&#64;' + '&#97;l&#97;sk&#97;' + '&#46;' + '&#101;d&#117;';docum
 ent.getElementById('cloakd50061ecc504b6aa56ca729a9e28e7fe').innerHTML += '<
 a ' + path + '\'' + prefix + ':' + addyd50061ecc504b6aa56ca729a9e28e7fe + '
 \'>'+addy_textd50061ecc504b6aa56ca729a9e28e7fe+'<\/a>';
		</script>) with q
 uestions about the report or the webinars. You also can request a printed c
 opy of the report or summary from Andrea Fisher.</p><p>We look forward to&n
 bsp;hearing from&nbsp;you on May&nbsp;14 or May 18.</p>
DTSTAMP:20260421T181944Z
DTSTART;TZID=UTC:20200514T080000
DTEND;TZID=UTC:20200514T170000
SEQUENCE:0
TRANSP:OPAQUE
END:VEVENT
END:VCALENDAR