BEGIN:VCALENDAR
VERSION:2.0
PRODID:-//jEvents 2.0 for Joomla//EN
CALSCALE:GREGORIAN
METHOD:PUBLISH
BEGIN:VEVENT
UID:ceccc0a04ae6f7c14e98bea963c78970
CATEGORIES:Polar Conferences, Meetings and Events
CREATED:20200428T134009
SUMMARY:PAGES ECN webinar:"How to successfully apply for academic jobs in science"
DESCRIPTION:PAGES ECN is an early-career network for members of PAGES, from ECRs for EC
 Rs in paleo sciences. It is our pleasure to announce our next PAGES ECN web
 inar, with the topic "How to successfully apply for academic jobs in scienc
 e". In this webinar, Professor Timothy Bralower (https://www.geosc.psu.edu/
 academic-faculty/bralower-timothy) will share information with us from the 
 lectures he made for his students on this topic. After your PhD or, your fi
 rst postdoc, it can be difficult to find the next position in your career. 
 In this time when everyone has a large set of skills, it might pay off to w
 ork on our job application skills as well.  The webinar will be organized o
 n Tuesday 12 May in two time slots (12 pm UTC and 5 pm UTC) and will last a
 bout one hour. At the end of each session there is the opportunity to ask P
 rof Bralower your questions. No registration is required, just make sure yo
 u have the Adobe Connect plugin installed beforehand. Then login at <a href
 ="https://collab.switch.ch/">https://collab.switch.ch/ecs</a>.  We hope to 
 see you at one of the time slots on May 12.
X-ALT-DESC;FMTTYPE=text/html:<div>PAGES ECN is an early-career network for members of PAGES, from ECRs f
 or ECRs in paleo sciences.</div><div>&nbsp;</div><div><div>It is our pleasu
 re&nbsp;to announce our next PAGES ECN webinar, with the topic "<strong>How
  to successfully apply for academic jobs in science".</strong></div><div>&n
 bsp;</div><div>In this webinar, Professor&nbsp;<a href="https://www.geosc.p
 su.edu/academic-faculty/bralower-timothy" target="_blank" rel="noopener" da
 ta-saferedirecturl="https://www.google.com/url?q=https://www.geosc.psu.edu/
 academic-faculty/bralower-timothy&amp;source=gmail&amp;ust=1588167375739000
 &amp;usg=AFQjCNE1GMNDwd07O5DTccuyHg36SXeVsg">Timothy Bralower</a>&nbsp;will
  share information with us from the lectures he made for his students on th
 is topic. After your PhD or, your first postdoc, it can be difficult to fin
 d the next position in your career. In this time when everyone has a large 
 set of skills, it might pay off to work on our job application skills as we
 ll.&nbsp;</div><div>&nbsp;</div><div>The webinar will be organized on Tuesd
 ay 12 May in two time slots (12 pm UTC and 5 pm UTC) and will last about on
 e hour. At the end of each session there is the opportunity to ask Prof Bra
 lower your questions. No registration is required, just make sure you have 
 the Adobe Connect plugin installed beforehand. Then login at&nbsp;<a href="
 https://collab.switch.ch/">https://collab.switch.ch/ecs</a>.&nbsp;</div><di
 v>&nbsp;</div><div>We hope to see you at one of the time slots on May 12.</
 div></div>
DTSTAMP:20260421T203415Z
DTSTART;TZID=UTC:20200512T080000
DTEND;TZID=UTC:20200512T170000
SEQUENCE:0
TRANSP:OPAQUE
END:VEVENT
END:VCALENDAR