BEGIN:VCALENDAR
VERSION:2.0
PRODID:-//jEvents 2.0 for Joomla//EN
CALSCALE:GREGORIAN
METHOD:PUBLISH
BEGIN:VEVENT
UID:100fc7e8c3144e7ed3fbe0fbaf428227
CATEGORIES:Polar Online Events
CREATED:20200428T130752
SUMMARY:Arctic Change 2020
LOCATION:Online
DESCRIPTION:In December 2020, Arctic Change will make history by going virtual for the 
 first time ever. ArcticNet’s international Arctic science conference takes 
 place every 3 years, bringing together researchers and partners from around
  the world. This year, we’re taking the conference to you! Building on the 
 success of our previous Annual Scientific Meeting  (https://www.facebook.co
 m/watch/?v=3299432583463193)while facing the realities of our times, we are
  pulling out all the stops to reach a bigger audience than ever before. The
  ArcticNet Network of Centres of Excellence and our partners warmly invite 
 the global Arctic community to join us—from wherever you are—at the Arctic 
 Change 2020 Virtual Conference.\nSee here the conference website: <a href="
 https://arcticnetmeetings.ca/ac2020/">https://arcticnetmeetings.ca/ac2020/<
 /a>\n \n
X-ALT-DESC;FMTTYPE=text/html:<p>In December 2020, Arctic Change will make history by going virtual for t
 he first time ever. ArcticNet’s international Arctic science conference tak
 es place every 3 years, bringing together researchers and partners from aro
 und the world. This year, we’re taking the conference to you! Building on t
 he success of our&nbsp;<a href="https://www.facebook.com/watch/?v=329943258
 3463193">previous Annual Scientific Meeting </a>while facing the realities 
 of our times, we are pulling out all the stops to reach a bigger audience t
 han ever before. The ArcticNet Network of Centres of Excellence and our par
 tners warmly invite the global Arctic community to join us—from wherever yo
 u are—at the Arctic Change 2020 Virtual Conference.</p><p>See here the conf
 erence website: <a href="https://arcticnetmeetings.ca/ac2020/">https://arct
 icnetmeetings.ca/ac2020/</a></p><p>&nbsp;</p>
DTSTAMP:20260420T230201Z
DTSTART;TZID=UTC;VALUE=DATE:20201207
DTEND;TZID=UTC;VALUE=DATE:20201211
SEQUENCE:0
TRANSP:OPAQUE
END:VEVENT
END:VCALENDAR