BEGIN:VCALENDAR
VERSION:2.0
PRODID:-//jEvents 2.0 for Joomla//EN
CALSCALE:GREGORIAN
METHOD:PUBLISH
BEGIN:VEVENT
UID:98cacbaa9dfda1c0e03de9b2e84c5c1f
CATEGORIES:Polar Conferences, Meetings and Events
CREATED:20200427T085809
SUMMARY:PYRN Seminar
DESCRIPTION:To replace the PYRN workshop that was planned for ICOP this year, we starte
 d PYRN online seminars. Our first one was a great success so we are moving 
 ahead with 3 more dates. The seminars are scheduled to take place on the 13
 th, 20th and 27th of May and will either be held at 7am or 7pm GMT dependin
 g on the preferences of those of you who sign up. These seminars are design
 ed to be informal, so if you would like to share some ongoing work, prelimi
 nary results or practice your conference talk, we are happy to have you! If
  you would like to share your work with us, please sign up here (https://fo
 rms.gle/dpVJ6YHhtzdvfckp9).\n
X-ALT-DESC;FMTTYPE=text/html:<p>To replace the PYRN workshop that was planned for ICOP this year, we sta
 rted PYRN online seminars. Our first one was a great success so we are movi
 ng ahead with 3 more dates. The seminars are scheduled to take place on the
  <strong>13th, 20th and 27th of May</strong> and will either be held at <st
 rong>7am or 7pm GMT </strong>depending on the preferences of those of you w
 ho sign up. These seminars are designed to be informal, so if you would lik
 e to share some ongoing work, preliminary results or practice your conferen
 ce talk, we are happy to have you! If you would like to share your work wit
 h us, please sign up <strong><a href="https://forms.gle/dpVJ6YHhtzdvfckp9">
 here</a></strong>.</p>
DTSTAMP:20260422T001643Z
DTSTART;TZID=UTC:20200527T080000
DTEND;TZID=UTC:20200527T170000
SEQUENCE:0
TRANSP:OPAQUE
END:VEVENT
END:VCALENDAR