BEGIN:VCALENDAR
VERSION:2.0
PRODID:-//jEvents 2.0 for Joomla//EN
CALSCALE:GREGORIAN
METHOD:PUBLISH
BEGIN:VEVENT
UID:62d3cdf5138bca73dca08bbfac96aa57
CATEGORIES:APECS Events
CREATED:20161013T113954
SUMMARY:APECS Netherlands / Belgium Symposium 2016
LOCATION:Den Haag\, Netherlands
DESCRIPTION:You are cordially invited for the joined Netherlands/ Belgium APECS symposi
 um 2016 (images/Articles/Files/APECS_NL-BE_Symposium2016.pdf), which will t
 ake place on November 2 in the NWO 'Java building' in Den Haag. This is one
  day before, and at the same location, as the NWO ALWNPP meeting: 'the impo
 rtance and challenges of long-term polar research studies'.\nThere is plent
 y of room in the program (see attachment) for talks and posters by APECS me
 mbers. We hope to be able to give everyone a change to talk and we aim for 
 15 minute talks, but this will depend on the total number of abstract submi
 ssions. When preparing your poster/ talk and thus the abstracts, please tak
 e into account that we're an interdisciplinary organisation with members fr
 om all fields of research, so please introduce the topic of your research c
 learly and avoid to much jargon.\nYou can register for the symposium (lates
 t on Friday October 14) by mailing us (This email address is being protecte
 d from spambots. You need JavaScript enabled to view it.
				document.getEl
 ementById('cloakbdb7d7b72111674695f2283b4845c6aa').innerHTML = '';
				var 
 prefix = '&#109;a' + 'i&#108;' + '&#116;o';
				var path = 'hr' + 'ef' + '=
 ';
				var addybdb7d7b72111674695f2283b4845c6aa = '&#97;p&#101;csnl' + '&#6
 4;';
				addybdb7d7b72111674695f2283b4845c6aa = addybdb7d7b72111674695f2283
 b4845c6aa + 'gm&#97;&#105;l' + '&#46;' + 'c&#111;m';
				var addy_textbdb7d
 7b72111674695f2283b4845c6aa = '&#97;p&#101;csnl' + '&#64;' + 'gm&#97;&#105;
 l' + '&#46;' + 'c&#111;m';document.getElementById('cloakbdb7d7b72111674695f
 2283b4845c6aa').innerHTML += '<a ' + path + '\'' + prefix + ':' + addybdb7d
 7b72111674695f2283b4845c6aa + '\'>'+addy_textbdb7d7b72111674695f2283b4845c6
 aa+'';
		):\n- Your name\n- Position/ affiliation/ Field of Research\n- Spe
 cial dietary needs\n- Your wish to give a talk or poster presentation\nAbst
 ract submission deadline: Friday October 21. Please, keep your abstract cle
 ar and not too long (max. 300 words).\nKind regards,\nDouwe Maat\n(on behal
 f of the Dutch and Belgian national APECS committees)\n \n
X-ALT-DESC;FMTTYPE=text/html:<p>You are cordially invited for the joined <a href="images/Articles/Files/
 APECS_NL-BE_Symposium2016.pdf">Netherlands/ Belgium APECS symposium 2016</a
 >, which will take place on <strong>November 2 in the NWO 'Java building' i
 n Den Haag</strong>. This is one day before, and at the same location, as t
 he NWO ALWNPP meeting: 'the importance and challenges of long-term polar re
 search studies'.</p><p>There is plenty of room in the program (see attachme
 nt) for talks and posters by APECS members. We hope to be able to give ever
 yone a change to talk and we aim for 15 minute talks, but this will depend 
 on the total number of abstract submissions. When preparing your poster/ ta
 lk and thus the abstracts, please take into account that we're an interdisc
 iplinary organisation with members from all fields of research, so please i
 ntroduce the topic of your research clearly and avoid to much jargon.</p><p
 ><strong>You can register for the symposium (latest on Friday October 14)</
 strong> by mailing us (<span id="cloakbdb7d7b72111674695f2283b4845c6aa">Thi
 s email address is being protected from spambots. You need JavaScript enabl
 ed to view it.</span><script type='text/javascript'>
				document.getElemen
 tById('cloakbdb7d7b72111674695f2283b4845c6aa').innerHTML = '';
				var pref
 ix = '&#109;a' + 'i&#108;' + '&#116;o';
				var path = 'hr' + 'ef' + '=';
	
 			var addybdb7d7b72111674695f2283b4845c6aa = '&#97;p&#101;csnl' + '&#64;';
 
				addybdb7d7b72111674695f2283b4845c6aa = addybdb7d7b72111674695f2283b484
 5c6aa + 'gm&#97;&#105;l' + '&#46;' + 'c&#111;m';
				var addy_textbdb7d7b72
 111674695f2283b4845c6aa = '&#97;p&#101;csnl' + '&#64;' + 'gm&#97;&#105;l' +
  '&#46;' + 'c&#111;m';document.getElementById('cloakbdb7d7b72111674695f2283
 b4845c6aa').innerHTML += '<a ' + path + '\'' + prefix + ':' + addybdb7d7b72
 111674695f2283b4845c6aa + '\'>'+addy_textbdb7d7b72111674695f2283b4845c6aa+'
 <\/a>';
		</script>):<br />- Your name<br />- Position/ affiliation/ Field 
 of Research<br />- Special dietary needs<br />- Your wish to give a talk or
  poster presentation</p><p><strong>Abstract submission deadline: Friday Oct
 ober 21</strong>. Please, keep your abstract clear and not too long (max. 3
 00 words).</p><p>Kind regards,</p><p>Douwe Maat<br />(on behalf of the Dutc
 h and Belgian national APECS committees)</p><p> </p>
DTSTAMP:20260422T022047Z
DTSTART;TZID=UTC;VALUE=DATE:20161102
DTEND;TZID=UTC;VALUE=DATE:20161103
SEQUENCE:0
TRANSP:OPAQUE
END:VEVENT
END:VCALENDAR