BEGIN:VCALENDAR
VERSION:2.0
PRODID:-//jEvents 2.0 for Joomla//EN
CALSCALE:GREGORIAN
METHOD:PUBLISH
BEGIN:VEVENT
UID:50400a12a6ed6cb2d46892151a2b52ce
CATEGORIES:Polar Conferences, Meetings and Events
CREATED:20200427T075516
SUMMARY:Webinar: The Future of Arctic Seaways
DESCRIPTION:The Center for Arctic Policy Studies (CAPS) at the University of Alaska Fai
 rbanks (UAF) invites registration for a webinar entitled, The Future of Arc
 tic Seaways. This webinar will be held 28 April 2020 at 10:00 a.m. AKDT. Cl
 ick here  (https://zoom.us/meeting/register/tJAvc-yprTkrGdbLTar1Chwk_M6FpwL
 fCSPU)for more information and registration.\nIn a 30-minute presentation f
 ollowed by a questions and answer and discussion period, Dr. Brandon Boylan
  (Associate Professor of Political Science, University of Alaska Fairbanks)
  and Dustin Elsberry (Undergraduate Research Assistant, Center for Arctic P
 olicy Studies, UAF) discuss their recent jointly-authored CAPS report on th
 e implications of maritime traffic in the Arctic for international cooperat
 ion and security.\nFor questions, contact:\n Maureen Biermann\n Email: <a h
 ref="https://www.arcus.org/sites/all/modules/civicrm/extern/url.php?u=22241
 &amp;qid=3815583" target="_blank" rel="noopener" data-saferedirecturl="http
 s://www.google.com/url?q=https://www.arcus.org/sites/all/modules/civicrm/ex
 tern/url.php?u%3D22241%26qid%3D3815583&amp;source=gmail&amp;ust=15880602345
 85000&amp;usg=AFQjCNH18XSqCPJgZyDXj4BFv0Bf3TqmlA"></a>This email address is
  being protected from spambots. You need JavaScript enabled to view it.
			
 	document.getElementById('cloakd6d2137556e10722c94398ef49f39ad7').innerHTML
  = '';
				var prefix = '&#109;a' + 'i&#108;' + '&#116;o';
				var path = '
 hr' + 'ef' + '=';
				var addyd6d2137556e10722c94398ef49f39ad7 = 'mmb&#105;
 &#101;rm&#97;nn' + '&#64;';
				addyd6d2137556e10722c94398ef49f39ad7 = addy
 d6d2137556e10722c94398ef49f39ad7 + '&#97;l&#97;sk&#97;' + '&#46;' + '&#101;
 d&#117;';
				var addy_textd6d2137556e10722c94398ef49f39ad7 = 'mmb&#105;&#1
 01;rm&#97;nn' + '&#64;' + '&#97;l&#97;sk&#97;' + '&#46;' + '&#101;d&#117;';
 document.getElementById('cloakd6d2137556e10722c94398ef49f39ad7').innerHTML 
 += '<a ' + path + '\'' + prefix + ':' + addyd6d2137556e10722c94398ef49f39ad
 7 + '\'>'+addy_textd6d2137556e10722c94398ef49f39ad7+'';
		\n
X-ALT-DESC;FMTTYPE=text/html:<p>The Center for Arctic Policy Studies (CAPS) at the University of Alaska 
 Fairbanks (UAF) invites registration for a webinar entitled, <em>The Future
  of Arctic Seaways</em>. This webinar will be held <strong>28 April 2020 at
  10:00 a.m. AKDT</strong>. Click <a href="https://zoom.us/meeting/register/
 tJAvc-yprTkrGdbLTar1Chwk_M6FpwLfCSPU"><strong>here</strong> </a>for more in
 formation and registration.</p><p>In a 30-minute presentation followed by a
  questions and answer and discussion period, Dr. Brandon Boylan (Associate 
 Professor of Political Science, University of Alaska Fairbanks) and Dustin 
 Elsberry (Undergraduate Research Assistant, Center for Arctic Policy Studie
 s, UAF) discuss their recent jointly-authored CAPS report on the implicatio
 ns of maritime traffic in the Arctic for international cooperation and secu
 rity.</p><p>For questions, contact:<br /> Maureen Biermann<br /> Email: <a 
 href="https://www.arcus.org/sites/all/modules/civicrm/extern/url.php?u=2224
 1&amp;qid=3815583" target="_blank" rel="noopener" data-saferedirecturl="htt
 ps://www.google.com/url?q=https://www.arcus.org/sites/all/modules/civicrm/e
 xtern/url.php?u%3D22241%26qid%3D3815583&amp;source=gmail&amp;ust=1588060234
 585000&amp;usg=AFQjCNH18XSqCPJgZyDXj4BFv0Bf3TqmlA"></a><span id="cloakd6d21
 37556e10722c94398ef49f39ad7">This email address is being protected from spa
 mbots. You need JavaScript enabled to view it.</span><script type='text/jav
 ascript'>
				document.getElementById('cloakd6d2137556e10722c94398ef49f39ad
 7').innerHTML = '';
				var prefix = '&#109;a' + 'i&#108;' + '&#116;o';
			
 	var path = 'hr' + 'ef' + '=';
				var addyd6d2137556e10722c94398ef49f39ad7
  = 'mmb&#105;&#101;rm&#97;nn' + '&#64;';
				addyd6d2137556e10722c94398ef49
 f39ad7 = addyd6d2137556e10722c94398ef49f39ad7 + '&#97;l&#97;sk&#97;' + '&#4
 6;' + '&#101;d&#117;';
				var addy_textd6d2137556e10722c94398ef49f39ad7 = 
 'mmb&#105;&#101;rm&#97;nn' + '&#64;' + '&#97;l&#97;sk&#97;' + '&#46;' + '&#
 101;d&#117;';document.getElementById('cloakd6d2137556e10722c94398ef49f39ad7
 ').innerHTML += '<a ' + path + '\'' + prefix + ':' + addyd6d2137556e10722c9
 4398ef49f39ad7 + '\'>'+addy_textd6d2137556e10722c94398ef49f39ad7+'<\/a>';
	
 	</script></p>
DTSTAMP:20260424T223008Z
DTSTART;TZID=UTC:20200428T100000
DTEND;TZID=UTC:20200428T110000
SEQUENCE:0
TRANSP:OPAQUE
END:VEVENT
END:VCALENDAR