BEGIN:VCALENDAR
VERSION:2.0
PRODID:-//jEvents 2.0 for Joomla//EN
CALSCALE:GREGORIAN
METHOD:PUBLISH
BEGIN:VEVENT
UID:315830b039d5a68528b754c751fde3dd
CATEGORIES:Polar Conferences, Meetings and Events
CREATED:20200423T140731
SUMMARY:IARPC Arctic Research Plan: International webinar
DESCRIPTION: has initiated the development of the <a href="https://wixsite.us20.list-ma
 nage.com/track/click?u=50d9cb1ad56ada4714d33ba51&amp;id=d311dcaf88&amp;e=85
 5111d1fb" target="_blank" rel="noopener" data-saferedirecturl="https://www.
 google.com/url?q=https://wixsite.us20.list-manage.com/track/click?u%3D50d9c
 b1ad56ada4714d33ba51%26id%3Dd311dcaf88%26e%3D855111d1fb&amp;source=gmail&am
 p;ust=1587735935310000&amp;usg=AFQjCNGoTjmU8Ktal4d9zGyVQEtjWBcEAQ">next 5-y
 ear Arctic Research Plan</a> and is interested in your input. To assist, US
 APECS and the IARPC Early Career Forum will be hosting an informational web
 inar for those interested in contributing to find out more about how they c
 an connect to the efforts.The webinar will be held on May 7, 2020 at 11:00 
 AM EST / 08:00 AM AKST through IARPC’s Zoom channel (https://www.iarpccolla
 borations.org/members/events/16756)<a href="https://wixsite.us20.list-manag
 e.com/track/click?u=50d9cb1ad56ada4714d33ba51&amp;id=ab348705e1&amp;e=85511
 1d1fb" target="_blank" rel="noopener" data-saferedirecturl="https://www.goo
 gle.com/url?q=https://wixsite.us20.list-manage.com/track/click?u%3D50d9cb1a
 d56ada4714d33ba51%26id%3Dab348705e1%26e%3D855111d1fb&amp;source=gmail&amp;u
 st=1587735935311000&amp;usg=AFQjCNF6ueQtbQVm7-F6n7fjaRLmMuU1Ag"></a>.\nThe 
 Arctic Research Plan will coordinate US Federal research activities from 20
 22-2026 and input from the next generation of Arctic researchers and stakeh
 olders will be critical to its success. This is an excellent opportunity fo
 r graduate students, postdocs, early tenure-track academics and other early
  career individuals to take an active role in shaping these priorities. \nP
 lease join IARPC collaborations to sign up for the webinar. If you are not 
 yet a member of IARPC, signing up for an account is easy. If there are ques
 tions about attending or the Arctic Research Plan process in general, pleas
 e contact Meredith LaValley at  (mailto:mlavalley@mail.arcus.org)This email
  address is being protected from spambots. You need JavaScript enabled to v
 iew it.
				document.getElementById('cloak2c5129dbf6a61f34d715dd398c2823af'
 ).innerHTML = '';
				var prefix = '&#109;a' + 'i&#108;' + '&#116;o';
				v
 ar path = 'hr' + 'ef' + '=';
				var addy2c5129dbf6a61f34d715dd398c2823af =
  'ml&#97;v&#97;ll&#101;y' + '&#64;';
				addy2c5129dbf6a61f34d715dd398c2823
 af = addy2c5129dbf6a61f34d715dd398c2823af + 'm&#97;&#105;l' + '&#46;' + '&#
 97;rc&#117;s' + '&#46;' + '&#111;rg';
				var addy_text2c5129dbf6a61f34d715
 dd398c2823af = 'ml&#97;v&#97;ll&#101;y' + '&#64;' + 'm&#97;&#105;l' + '&#46
 ;' + '&#97;rc&#117;s' + '&#46;' + '&#111;rg';document.getElementById('cloak
 2c5129dbf6a61f34d715dd398c2823af').innerHTML += '<a ' + path + '\'' + prefi
 x + ':' + addy2c5129dbf6a61f34d715dd398c2823af + '\'>'+addy_text2c5129dbf6a
 61f34d715dd398c2823af+'';
		.\n
X-ALT-DESC;FMTTYPE=text/html:<p dir="ltr"><a href="https://wixsite.us20.list-manage.com/track/click?u=50
 d9cb1ad56ada4714d33ba51&amp;id=846f82b910&amp;e=855111d1fb" target="_blank"
  rel="noopener" data-saferedirecturl="https://www.google.com/url?q=https://
 wixsite.us20.list-manage.com/track/click?u%3D50d9cb1ad56ada4714d33ba51%26id
 %3D846f82b910%26e%3D855111d1fb&amp;source=gmail&amp;ust=1587735935310000&am
 p;usg=AFQjCNFIQZmvbX1ycmLADrtJOLdeVhNmNQ"><span style="text-decoration: und
 erline;">The Interagency Arctic Research Policy Committee (IARPC)</span></a
 > has initiated the development of the <a href="https://wixsite.us20.list-m
 anage.com/track/click?u=50d9cb1ad56ada4714d33ba51&amp;id=d311dcaf88&amp;e=8
 55111d1fb" target="_blank" rel="noopener" data-saferedirecturl="https://www
 .google.com/url?q=https://wixsite.us20.list-manage.com/track/click?u%3D50d9
 cb1ad56ada4714d33ba51%26id%3Dd311dcaf88%26e%3D855111d1fb&amp;source=gmail&a
 mp;ust=1587735935310000&amp;usg=AFQjCNGoTjmU8Ktal4d9zGyVQEtjWBcEAQ"><span s
 tyle="text-decoration: underline;">next 5-year Arctic Research Plan</span><
 /a> and is interested in your input. To assist, USAPECS and the IARPC Early
  Career Forum will be hosting an informational webinar for those interested
  in contributing to find out more about how they can connect to the efforts
 .The webinar will be held on May 7, 2020 at 11:00 AM EST / 08:00 AM AKST th
 rough <a href="https://www.iarpccollaborations.org/members/events/16756">IA
 RPC’s Zoom channel</a><a href="https://wixsite.us20.list-manage.com/track/c
 lick?u=50d9cb1ad56ada4714d33ba51&amp;id=ab348705e1&amp;e=855111d1fb" target
 ="_blank" rel="noopener" data-saferedirecturl="https://www.google.com/url?q
 =https://wixsite.us20.list-manage.com/track/click?u%3D50d9cb1ad56ada4714d33
 ba51%26id%3Dab348705e1%26e%3D855111d1fb&amp;source=gmail&amp;ust=1587735935
 311000&amp;usg=AFQjCNF6ueQtbQVm7-F6n7fjaRLmMuU1Ag"><span style="text-decora
 tion: underline;"></span></a><span style="text-decoration: underline;"></sp
 an>.</p><p dir="ltr">The Arctic Research Plan will coordinate US Federal re
 search activities from 2022-2026 and input from the next generation of Arct
 ic researchers and stakeholders will be critical to its success. This is an
  excellent opportunity for graduate students, postdocs, early tenure-track 
 academics and other early career individuals to take an active role in shap
 ing these priorities.&nbsp;</p><p dir="ltr">Please join IARPC collaboration
 s to sign up for the webinar. If you are not yet a member of IARPC, signing
  up for an account is easy. If there are questions about attending or the A
 rctic Research Plan process in general, please contact Meredith LaValley at
  <a href="mailto:mlavalley@mail.arcus.org" target="_blank"><span style="tex
 t-decoration: underline;"></span></a><span style="text-decoration: underlin
 e;"><span id="cloak2c5129dbf6a61f34d715dd398c2823af">This email address is 
 being protected from spambots. You need JavaScript enabled to view it.</spa
 n><script type='text/javascript'>
				document.getElementById('cloak2c5129d
 bf6a61f34d715dd398c2823af').innerHTML = '';
				var prefix = '&#109;a' + 'i
 &#108;' + '&#116;o';
				var path = 'hr' + 'ef' + '=';
				var addy2c5129db
 f6a61f34d715dd398c2823af = 'ml&#97;v&#97;ll&#101;y' + '&#64;';
				addy2c51
 29dbf6a61f34d715dd398c2823af = addy2c5129dbf6a61f34d715dd398c2823af + 'm&#9
 7;&#105;l' + '&#46;' + '&#97;rc&#117;s' + '&#46;' + '&#111;rg';
				var add
 y_text2c5129dbf6a61f34d715dd398c2823af = 'ml&#97;v&#97;ll&#101;y' + '&#64;'
  + 'm&#97;&#105;l' + '&#46;' + '&#97;rc&#117;s' + '&#46;' + '&#111;rg';docu
 ment.getElementById('cloak2c5129dbf6a61f34d715dd398c2823af').innerHTML += '
 <a ' + path + '\'' + prefix + ':' + addy2c5129dbf6a61f34d715dd398c2823af + 
 '\'>'+addy_text2c5129dbf6a61f34d715dd398c2823af+'<\/a>';
		</script></span>
 .</p>
DTSTAMP:20260422T013551Z
DTSTART;TZID=UTC:20200507T080000
DTEND;TZID=UTC:20200507T170000
SEQUENCE:0
TRANSP:OPAQUE
END:VEVENT
END:VCALENDAR