BEGIN:VCALENDAR
VERSION:2.0
PRODID:-//jEvents 2.0 for Joomla//EN
CALSCALE:GREGORIAN
METHOD:PUBLISH
BEGIN:VEVENT
UID:796245b7556d385937695918e1b1dcd3
CATEGORIES:Polar Conferences, Meetings and Events
CREATED:20200422T085436
SUMMARY:Physical Oceanography Self-Forming Team
DESCRIPTION:<p><strong>Inaugural Meeting Announcement<br /> Physical Oceanography Self-
 Forming Team</strong><br /> IARPC Collaborations</p><p><strong>Meeting date
 /time: </strong>Thursday, 23 April 2020, 1:00-2:00 p.m. EDT</p><p>For more 
 information, go to:<br /> <a href="https://www.arcus.org/sites/all/modules/
 civicrm/extern/url.php?u=22075&amp;qid=3774223" target="_blank" rel="noopen
 er" data-saferedirecturl="https://www.google.com/url?q=https://www.arcus.or
 g/sites/all/modules/civicrm/extern/url.php?u%3D22075%26qid%3D3774223&amp;so
 urce=gmail&amp;ust=1587631176278000&amp;usg=AFQjCNGUzJ7oVEUWYFaoSYm9nG-yvjl
 Zxg">Meeting webpage</a></p><p>For questions, contact:<br /> Wilbert Weijer
 <br /> Email: <a href="https://www.arcus.org/sites/all/modules/civicrm/exte
 rn/url.php?u=22076&amp;qid=3774223" target="_blank" rel="noopener" data-saf
 eredirecturl="https://www.google.com/url?q=https://www.arcus.org/sites/all/
 modules/civicrm/extern/url.php?u%3D22076%26qid%3D3774223&amp;source=gmail&a
 mp;ust=1587631176278000&amp;usg=AFQjCNHubtW5A2SF7RXimE3osv2ojGuoHA"></a><sp
 an id="cloak3a73b84eac16ec1a1318f376966318fc">This email address is being p
 rotected from spambots. You need JavaScript enabled to view it.</span><scri
 pt type='text/javascript'>
				document.getElementById('cloak3a73b84eac16ec
 1a1318f376966318fc').innerHTML = '';
				var prefix = '&#109;a' + 'i&#108;'
  + '&#116;o';
				var path = 'hr' + 'ef' + '=';
				var addy3a73b84eac16ec1
 a1318f376966318fc = 'w&#105;lb&#101;rt' + '&#64;';
				addy3a73b84eac16ec1a
 1318f376966318fc = addy3a73b84eac16ec1a1318f376966318fc + 'l&#97;nl' + '&#4
 6;' + 'g&#111;v';
				var addy_text3a73b84eac16ec1a1318f376966318fc = 'w&#1
 05;lb&#101;rt' + '&#64;' + 'l&#97;nl' + '&#46;' + 'g&#111;v';document.getEl
 ementById('cloak3a73b84eac16ec1a1318f376966318fc').innerHTML += '<a ' + pat
 h + '\'' + prefix + ':' + addy3a73b84eac16ec1a1318f376966318fc + '\'>'+addy
 _text3a73b84eac16ec1a1318f376966318fc+'<\/a>';
		</script></p><hr /><p>Orga
 nizers invite participation at the inaugural meeting for the Physical Ocean
 ography Self-Forming Team (POST), a new Interagency Arctic Research Policy 
 Committee (IARPC) collaboration team. This meeting will be held online on T
 hursday, 23 April 2020 from 1:00 to 2:00 p.m. EDT.</p><p>One of several sel
 f-formed teams of IARPC Collaborations, the POST aims to engage the researc
 h community in collaborations focused on the physical oceanography (PO) of 
 the Arctic. In addition, organizers aim to collaborate with other teams on 
 cross-cutting themes and activities. Organizers believe that IARPC Collabor
 ations can help to bridge gaps between different efforts within the Arctic 
 Physical Oceanography science community, and help break barriers and stove 
 pipes. Through monthly (virtual) meetings, organizers hope to facilitate di
 scussions between funding agencies, researchers, and stakeholders. Team mem
 bers are committed to making sure that the POST is useful for the community
 ; in turn, they would like to see a strong engagement of the PO community i
 n their activities, so that the team will have an impact on the longer-term
  direction of IARPC by contributing to its next Research Plan.</p><p>To joi
 n the meeting, participants must first request an account on <a href="https
 ://www.arcus.org/sites/all/modules/civicrm/extern/url.php?u=22077&amp;qid=3
 774223" target="_blank" rel="noopener" data-saferedirecturl="https://www.go
 ogle.com/url?q=https://www.arcus.org/sites/all/modules/civicrm/extern/url.p
 hp?u%3D22077%26qid%3D3774223&amp;source=gmail&amp;ust=1587631176278000&amp;
 usg=AFQjCNFwj0VTJN2iBmTaw0xwrVBgBlomtg">IARPC Collaborations</a>. Once part
 icipants have an account, join the POST, and then will automatically receiv
 e an email when POST meetings get scheduled.</p><p><strong>Meeting date/tim
 e: </strong>Thursday, 23 April 2020, 1:00-2:00 p.m. EDT</p><p>For more info
 rmation, go to:<br /> <a href="https://www.arcus.org/sites/all/modules/civi
 crm/extern/url.php?u=22075&amp;qid=3774223" target="_blank" rel="noopener" 
 data-saferedirecturl="https://www.google.com/url?q=https://www.arcus.org/si
 tes/all/modules/civicrm/extern/url.php?u%3D22075%26qid%3D3774223&amp;source
 =gmail&amp;ust=1587631176278000&amp;usg=AFQjCNGUzJ7oVEUWYFaoSYm9nG-yvjlZxg"
 >Meeting webpage</a></p><p>For questions, contact:<br /> Wilbert Weijer<br 
 /> Email: <a href="https://www.arcus.org/sites/all/modules/civicrm/extern/u
 rl.php?u=22076&amp;qid=3774223" target="_blank" rel="noopener" data-safered
 irecturl="https://www.google.com/url?q=https://www.arcus.org/sites/all/modu
 les/civicrm/extern/url.php?u%3D22076%26qid%3D3774223&amp;source=gmail&amp;u
 st=1587631176278000&amp;usg=AFQjCNHubtW5A2SF7RXimE3osv2ojGuoHA"></a><span i
 d="cloak58451abd6cb460df98a7e9d12b22da06">This email address is being prote
 cted from spambots. You need JavaScript enabled to view it.</span><script t
 ype='text/javascript'>
				document.getElementById('cloak58451abd6cb460df98
 a7e9d12b22da06').innerHTML = '';
				var prefix = '&#109;a' + 'i&#108;' + '
 &#116;o';
				var path = 'hr' + 'ef' + '=';
				var addy58451abd6cb460df98a
 7e9d12b22da06 = 'w&#105;lb&#101;rt' + '&#64;';
				addy58451abd6cb460df98a7
 e9d12b22da06 = addy58451abd6cb460df98a7e9d12b22da06 + 'l&#97;nl' + '&#46;' 
 + 'g&#111;v';
				var addy_text58451abd6cb460df98a7e9d12b22da06 = 'w&#105;l
 b&#101;rt' + '&#64;' + 'l&#97;nl' + '&#46;' + 'g&#111;v';document.getElemen
 tById('cloak58451abd6cb460df98a7e9d12b22da06').innerHTML += '<a ' + path + 
 '\'' + prefix + ':' + addy58451abd6cb460df98a7e9d12b22da06 + '\'>'+addy_tex
 t58451abd6cb460df98a7e9d12b22da06+'<\/a>';
		</script></p>
DTSTAMP:20260421T232008Z
DTSTART;TZID=UTC:20200423T080000
DTEND;TZID=UTC:20200423T170000
SEQUENCE:0
TRANSP:OPAQUE
END:VEVENT
END:VCALENDAR