BEGIN:VCALENDAR
VERSION:2.0
PRODID:-//jEvents 2.0 for Joomla//EN
CALSCALE:GREGORIAN
METHOD:PUBLISH
BEGIN:VEVENT
UID:646465e18d27452b2ebc4e66e0907d6c
CATEGORIES:Polar Conferences, Meetings and Events
CREATED:20200420T171107
SUMMARY:SIOS webinar series on remote sensing
DESCRIPTION:<p><strong>When: </strong>Friday, 24 April, Time: 12:45 - 15:00 CET<br /><s
 trong>Where:</strong> Online, Zoom<br /><strong>Why:</strong> To provide a 
 social experience to the Svalbard research community in difficult times.</p
 ><p>The programme includes 3 talks followed by a panel discussion on data s
 haring and the SIOS data management. For the detailed programme, the zoom l
 ink and other news like upcoming webinars visit the <a href="https://sios-s
 valbard.org/RSWebinarSeries">webinar page</a>.</p>
DTSTAMP:20260425T012134Z
DTSTART;TZID=UTC:20200424T124500
DTEND;TZID=UTC:20200424T150000
SEQUENCE:0
TRANSP:OPAQUE
END:VEVENT
END:VCALENDAR