BEGIN:VCALENDAR
VERSION:2.0
PRODID:-//jEvents 2.0 for Joomla//EN
CALSCALE:GREGORIAN
METHOD:PUBLISH
BEGIN:VEVENT
UID:f5cc3c5f9d1dae3a15f1e89359919f6f
CATEGORIES:Polar Conferences, Meetings and Events
CREATED:20200414T152448
SUMMARY:NSF Office of Polar Programs virtual office hours for information regarding NSF’s current operations
DESCRIPTION:The Antarctic Sciences (ANT) and Antarctic Infrastructure and Logistics (AI
 L) Sections in the Office of Polar Programs (OPP) will be hosting virtual o
 ffice hours this week to share information with the academic community rega
 rding NSF’s current operations. These office hours will also allow the comm
 unity to ask questions, share concerns, and/or offer suggestions on how ANT
 /AIL can do more to address the impact of COVID-19 on researchers. To parti
 cipate, you must register for a session.\nApr 17, 2020 02:00 PM Eastern Tim
 e (US and Canada). Register here (https://nsf.zoomgov.com/webinar/register/
 WN_u7vPzlKXS5iUiOZM_KI5LQ).\nTo participate, you must register for a sessio
 n. After registering, you will receive a confirmation email with informatio
 n on how to join the webinar.\n
X-ALT-DESC;FMTTYPE=text/html:<p>The Antarctic Sciences (ANT) and Antarctic Infrastructure and Logistics 
 (AIL) Sections in the Office of Polar Programs (OPP) will be hosting virtua
 l office hours this week to share information with the academic community r
 egarding NSF’s current operations. These office hours will also allow the c
 ommunity to ask questions, share concerns, and/or offer suggestions on how 
 ANT/AIL can do more to address the impact of COVID-19 on researchers. To pa
 rticipate, you must register for a session.</p><p><strong>Apr 17, 2020 02:0
 0 PM Eastern Time</strong> (US and Canada). Register <a href="https://nsf.z
 oomgov.com/webinar/register/WN_u7vPzlKXS5iUiOZM_KI5LQ">here</a>.</p><p>To p
 articipate, you must register for a session. After registering, you will re
 ceive a confirmation email with information on how to join the webinar.</p>
DTSTAMP:20260421T230511Z
DTSTART;TZID=UTC:20200417T080000
DTEND;TZID=UTC:20200417T170000
SEQUENCE:0
TRANSP:OPAQUE
END:VEVENT
END:VCALENDAR