BEGIN:VCALENDAR
VERSION:2.0
PRODID:-//jEvents 2.0 for Joomla//EN
CALSCALE:GREGORIAN
METHOD:PUBLISH
BEGIN:VEVENT
UID:a888ea6a29d1225feac1d7df829ee91f
CATEGORIES:Field and Summer Schools
CREATED:20200414T132248
SUMMARY:Warsaw Science Diplomacy Virtual School 2020
DESCRIPTION:InsSciDE – Inventing a shared Science Diplomacy for Europe – presents the f
 irst edition of an innovative training program for the present and future s
 cience diplomats of Europe. The Warsaw Science Diplomacy School (WSDS 2020:
  virtual), co-organized by our partner the European Academy of Diplomacy, i
 s a one-week intensive course with competitive enrolment. It will immerse t
 rainees in historical case studies of science diplomacy and its practitione
 rs, to develop policy and strategic outcomes.\nThe organisers are looking f
 or 20 highly qualified and motivated participants from all academic fields,
  government, civil society and social partners. The focus topics of the sch
 ool will be science diplomacy, health, biodiversity negotiations the UN Con
 vention on the Law of the Sea as a co-production of science and diplomacy.\
 nThe summer school is now virtual &amp; the application deadline extended: 
 Apply before 16 May! Find out more and apply here (https://insscide.diploma
 ts.pl/event/summer-school-2020/). \n
X-ALT-DESC;FMTTYPE=text/html:<p>InsSciDE – <em>Inventing a shared Science Diplomacy for</em> <em>Europe<
 /em> – presents the first edition of an innovative training program for the
  present and future science diplomats of Europe. The Warsaw Science Diploma
 cy School (WSDS 2020: virtual), co-organized by our partner the European Ac
 ademy of Diplomacy, is a one-week intensive course with competitive enrolme
 nt. It will immerse trainees in historical case studies of science diplomac
 y and its practitioners, to develop policy and strategic outcomes.</p><p><s
 pan lang="EN-US">The organisers are looking for 20 highly qualified and mot
 ivated participants from all academic fields, government, civil society and
  social partners. </span>The focus topics of the school will be science dip
 lomacy, health, biodiversity negotiations the UN Convention on the Law of t
 he Sea as a co-production of science and diplomacy.</p><p>The summer school
  is now virtual &amp; the application deadline extended: Apply before <stro
 ng>16 May</strong>! Find out more and apply <a href="https://insscide.diplo
 mats.pl/event/summer-school-2020/">here</a>.&nbsp;</p>
DTSTAMP:20260422T232648Z
DTSTART;TZID=UTC:20200622T080000
DTEND;TZID=UTC:20200626T170000
SEQUENCE:0
TRANSP:OPAQUE
END:VEVENT
END:VCALENDAR