BEGIN:VCALENDAR
VERSION:2.0
PRODID:-//jEvents 2.0 for Joomla//EN
CALSCALE:GREGORIAN
METHOD:PUBLISH
BEGIN:VEVENT
UID:f946c6218c2047f4d626b2f1cb5aad50
CATEGORIES:Polar Conferences, Meetings and Events
CREATED:20200414T125826
SUMMARY:Workshop on Antarctic Meteorology and Climate and 5th Year of Polar Prediction in the Southern Hemisphere - Cancelled
DESCRIPTION:Due to the international updates related to COVID-19, organizers have cance
 lled the 15th Workshop on Antarctic Meteorology and Climate (WAMC) and the 
 5th Year of Polar Prediction in the Southern Hemisphere (YOPP-SH) meeting. 
 The meeting had been scheduled to convene 29-31 July 2020 in Hobart, Tasman
 ia.\nOrganizers would like to request that those who had planned on attendi
 ng WAMC send a status report, if they would like. These can be in the form 
 of a short PowerPoint or as an extended abstract in the American Meteorolog
 ical Society format. The reports can be sent to This email address is being
  protected from spambots. You need JavaScript enabled to view it.
				docum
 ent.getElementById('cloakfa48f411af2f0cb229d7e104b50b1d61').innerHTML = '';
 
				var prefix = '&#109;a' + 'i&#108;' + '&#116;o';
				var path = 'hr' + 
 'ef' + '=';
				var addyfa48f411af2f0cb229d7e104b50b1d61 = 'tn&#111;rt&#111
 ;n2' + '&#64;';
				addyfa48f411af2f0cb229d7e104b50b1d61 = addyfa48f411af2f
 0cb229d7e104b50b1d61 + 'w&#105;sc' + '&#46;' + '&#101;d&#117;';
				var add
 y_textfa48f411af2f0cb229d7e104b50b1d61 = 'tn&#111;rt&#111;n2' + '&#64;' + '
 w&#105;sc' + '&#46;' + '&#101;d&#117;';document.getElementById('cloakfa48f4
 11af2f0cb229d7e104b50b1d61').innerHTML += '<a ' + path + '\'' + prefix + ':
 ' + addyfa48f411af2f0cb229d7e104b50b1d61 + '\'>'+addy_textfa48f411af2f0cb22
 9d7e104b50b1d61+'';
		 and <a href="https://www.arcus.org/sites/all/modules
 /civicrm/extern/url.php?u=21910&amp;qid=3733055" target="_blank" rel="noope
 ner" data-saferedirecturl="https://www.google.com/url?q=https://www.arcus.o
 rg/sites/all/modules/civicrm/extern/url.php?u%3D21910%26qid%3D3733055&amp;s
 ource=gmail&amp;ust=1586954191780000&amp;usg=AFQjCNEqgQ708YNrwlVC1DOxAiB0gK
 qr1g"></a>This email address is being protected from spambots. You need Jav
 aScript enabled to view it.
				document.getElementById('cloakeabc17d07c6bf
 a5fbe108ef5c96abeac').innerHTML = '';
				var prefix = '&#109;a' + 'i&#108;
 ' + '&#116;o';
				var path = 'hr' + 'ef' + '=';
				var addyeabc17d07c6bfa
 5fbe108ef5c96abeac = '&#111;r&#101;nd&#111;rf' + '&#64;';
				addyeabc17d07
 c6bfa5fbe108ef5c96abeac = addyeabc17d07c6bfa5fbe108ef5c96abeac + 'w&#105;sc
 ' + '&#46;' + '&#101;d&#117;';
				var addy_texteabc17d07c6bfa5fbe108ef5c96
 abeac = '&#111;r&#101;nd&#111;rf' + '&#64;' + 'w&#105;sc' + '&#46;' + '&#10
 1;d&#117;';document.getElementById('cloakeabc17d07c6bfa5fbe108ef5c96abeac')
 .innerHTML += '<a ' + path + '\'' + prefix + ':' + addyeabc17d07c6bfa5fbe10
 8ef5c96abeac + '\'>'+addy_texteabc17d07c6bfa5fbe108ef5c96abeac+'';
		 so th
 ey can be displayed on the WAMC 2020 page.\nOrganizers apologize for any in
 convenience this may cause, but look forward to reconvening in 2021.\nFor m
 ore information, go to:\n \nFor questions, contact:\n Taylor Norton\n Email
 : <a href="https://www.arcus.org/sites/all/modules/civicrm/extern/url.php?u
 =21908&amp;qid=3733055" target="_blank" rel="noopener" data-saferedirecturl
 ="https://www.google.com/url?q=https://www.arcus.org/sites/all/modules/civi
 crm/extern/url.php?u%3D21908%26qid%3D3733055&amp;source=gmail&amp;ust=15869
 54191780000&amp;usg=AFQjCNEx39ceJM1cF0SpuQ0BnfRyQuXH4w"></a>This email addr
 ess is being protected from spambots. You need JavaScript enabled to view i
 t.
				document.getElementById('cloak052ec4e1e118f2fa76a482d7c137e6a2').inn
 erHTML = '';
				var prefix = '&#109;a' + 'i&#108;' + '&#116;o';
				var pa
 th = 'hr' + 'ef' + '=';
				var addy052ec4e1e118f2fa76a482d7c137e6a2 = 'tn&
 #111;rt&#111;n2' + '&#64;';
				addy052ec4e1e118f2fa76a482d7c137e6a2 = addy
 052ec4e1e118f2fa76a482d7c137e6a2 + 'w&#105;sc' + '&#46;' + '&#101;d&#117;';
 
				var addy_text052ec4e1e118f2fa76a482d7c137e6a2 = 'tn&#111;rt&#111;n2' +
  '&#64;' + 'w&#105;sc' + '&#46;' + '&#101;d&#117;';document.getElementById(
 'cloak052ec4e1e118f2fa76a482d7c137e6a2').innerHTML += '<a ' + path + '\'' +
  prefix + ':' + addy052ec4e1e118f2fa76a482d7c137e6a2 + '\'>'+addy_text052ec
 4e1e118f2fa76a482d7c137e6a2+'';
		\nMatthew Lazzara\n Email: This email add
 ress is being protected from spambots. You need JavaScript enabled to view 
 it.
				document.getElementById('cloak4d9d159e768bd34fbd6be877f356b1b5').in
 nerHTML = '';
				var prefix = '&#109;a' + 'i&#108;' + '&#116;o';
				var p
 ath = 'hr' + 'ef' + '=';
				var addy4d9d159e768bd34fbd6be877f356b1b5 = 'm&
 #97;ttl' + '&#64;';
				addy4d9d159e768bd34fbd6be877f356b1b5 = addy4d9d159e
 768bd34fbd6be877f356b1b5 + 'ss&#101;c' + '&#46;' + 'w&#105;sc' + '&#46;' + 
 '&#101;d&#117;';
				var addy_text4d9d159e768bd34fbd6be877f356b1b5 = 'm&#97
 ;ttl' + '&#64;' + 'ss&#101;c' + '&#46;' + 'w&#105;sc' + '&#46;' + '&#101;d&
 #117;';document.getElementById('cloak4d9d159e768bd34fbd6be877f356b1b5').inn
 erHTML += '<a ' + path + '\'' + prefix + ':' + addy4d9d159e768bd34fbd6be877
 f356b1b5 + '\'>'+addy_text4d9d159e768bd34fbd6be877f356b1b5+'';
		\nSophie O
 rendorf\n Email: <a href="https://www.arcus.org/sites/all/modules/civicrm/e
 xtern/url.php?u=21910&amp;qid=3733055" target="_blank" rel="noopener" data-
 saferedirecturl="https://www.google.com/url?q=https://www.arcus.org/sites/a
 ll/modules/civicrm/extern/url.php?u%3D21910%26qid%3D3733055&amp;source=gmai
 l&amp;ust=1586954191780000&amp;usg=AFQjCNEqgQ708YNrwlVC1DOxAiB0gKqr1g"></a>
 This email address is being protected from spambots. You need JavaScript en
 abled to view it.
				document.getElementById('cloak8a978f5608c87959b68f54b
 3c0b3cde5').innerHTML = '';
				var prefix = '&#109;a' + 'i&#108;' + '&#116
 ;o';
				var path = 'hr' + 'ef' + '=';
				var addy8a978f5608c87959b68f54b3
 c0b3cde5 = '&#111;r&#101;nd&#111;rf' + '&#64;';
				addy8a978f5608c87959b68
 f54b3c0b3cde5 = addy8a978f5608c87959b68f54b3c0b3cde5 + 'w&#105;sc' + '&#46;
 ' + '&#101;d&#117;';
				var addy_text8a978f5608c87959b68f54b3c0b3cde5 = '&
 #111;r&#101;nd&#111;rf' + '&#64;' + 'w&#105;sc' + '&#46;' + '&#101;d&#117;'
 ;document.getElementById('cloak8a978f5608c87959b68f54b3c0b3cde5').innerHTML
  += '<a ' + path + '\'' + prefix + ':' + addy8a978f5608c87959b68f54b3c0b3cd
 e5 + '\'>'+addy_text8a978f5608c87959b68f54b3c0b3cde5+'';
		\n
X-ALT-DESC;FMTTYPE=text/html:<p>Due to the international updates related to COVID-19, organizers have ca
 ncelled the 15th Workshop on Antarctic Meteorology and Climate (WAMC) and t
 he 5th Year of Polar Prediction in the Southern Hemisphere (YOPP-SH) meetin
 g. The meeting had been scheduled to convene 29-31 July 2020 in Hobart, Tas
 mania.</p><p>Organizers would like to request that those who had planned on
  attending WAMC send a status report, if they would like. These can be in t
 he form of a short PowerPoint or as an extended abstract in the American Me
 teorological Society format. The reports can be sent to <a href="https://ww
 w.arcus.org/sites/all/modules/civicrm/extern/url.php?u=21908&amp;qid=373305
 5" target="_blank" rel="noopener" data-saferedirecturl="https://www.google.
 com/url?q=https://www.arcus.org/sites/all/modules/civicrm/extern/url.php?u%
 3D21908%26qid%3D3733055&amp;source=gmail&amp;ust=1586954191780000&amp;usg=A
 FQjCNEx39ceJM1cF0SpuQ0BnfRyQuXH4w"></a><span id="cloakfa48f411af2f0cb229d7e
 104b50b1d61">This email address is being protected from spambots. You need 
 JavaScript enabled to view it.</span><script type='text/javascript'>
				do
 cument.getElementById('cloakfa48f411af2f0cb229d7e104b50b1d61').innerHTML = 
 '';
				var prefix = '&#109;a' + 'i&#108;' + '&#116;o';
				var path = 'hr'
  + 'ef' + '=';
				var addyfa48f411af2f0cb229d7e104b50b1d61 = 'tn&#111;rt&#
 111;n2' + '&#64;';
				addyfa48f411af2f0cb229d7e104b50b1d61 = addyfa48f411a
 f2f0cb229d7e104b50b1d61 + 'w&#105;sc' + '&#46;' + '&#101;d&#117;';
				var 
 addy_textfa48f411af2f0cb229d7e104b50b1d61 = 'tn&#111;rt&#111;n2' + '&#64;' 
 + 'w&#105;sc' + '&#46;' + '&#101;d&#117;';document.getElementById('cloakfa4
 8f411af2f0cb229d7e104b50b1d61').innerHTML += '<a ' + path + '\'' + prefix +
  ':' + addyfa48f411af2f0cb229d7e104b50b1d61 + '\'>'+addy_textfa48f411af2f0c
 b229d7e104b50b1d61+'<\/a>';
		</script> and <a href="https://www.arcus.org/
 sites/all/modules/civicrm/extern/url.php?u=21910&amp;qid=3733055" target="_
 blank" rel="noopener" data-saferedirecturl="https://www.google.com/url?q=ht
 tps://www.arcus.org/sites/all/modules/civicrm/extern/url.php?u%3D21910%26qi
 d%3D3733055&amp;source=gmail&amp;ust=1586954191780000&amp;usg=AFQjCNEqgQ708
 YNrwlVC1DOxAiB0gKqr1g"></a><span id="cloakeabc17d07c6bfa5fbe108ef5c96abeac"
 >This email address is being protected from spambots. You need JavaScript e
 nabled to view it.</span><script type='text/javascript'>
				document.getEl
 ementById('cloakeabc17d07c6bfa5fbe108ef5c96abeac').innerHTML = '';
				var 
 prefix = '&#109;a' + 'i&#108;' + '&#116;o';
				var path = 'hr' + 'ef' + '=
 ';
				var addyeabc17d07c6bfa5fbe108ef5c96abeac = '&#111;r&#101;nd&#111;rf'
  + '&#64;';
				addyeabc17d07c6bfa5fbe108ef5c96abeac = addyeabc17d07c6bfa5f
 be108ef5c96abeac + 'w&#105;sc' + '&#46;' + '&#101;d&#117;';
				var addy_te
 xteabc17d07c6bfa5fbe108ef5c96abeac = '&#111;r&#101;nd&#111;rf' + '&#64;' + 
 'w&#105;sc' + '&#46;' + '&#101;d&#117;';document.getElementById('cloakeabc1
 7d07c6bfa5fbe108ef5c96abeac').innerHTML += '<a ' + path + '\'' + prefix + '
 :' + addyeabc17d07c6bfa5fbe108ef5c96abeac + '\'>'+addy_texteabc17d07c6bfa5f
 be108ef5c96abeac+'<\/a>';
		</script> so they can be displayed on the WAMC 
 2020 page.</p><p>Organizers apologize for any inconvenience this may cause,
  but look forward to reconvening in 2021.</p><p>For more information, go to
 :<br /> <a href="https://www.arcus.org/sites/all/modules/civicrm/extern/url
 .php?u=21907&amp;qid=3733055" target="_blank" rel="noopener" data-saferedir
 ecturl="https://www.google.com/url?q=https://www.arcus.org/sites/all/module
 s/civicrm/extern/url.php?u%3D21907%26qid%3D3733055&amp;source=gmail&amp;ust
 =1586954191780000&amp;usg=AFQjCNFJaReKDzWJRhXhiG8Ajnwpwi_qbA">Meeting homep
 age</a></p><p>For questions, contact:<br /> Taylor Norton<br /> Email: <a h
 ref="https://www.arcus.org/sites/all/modules/civicrm/extern/url.php?u=21908
 &amp;qid=3733055" target="_blank" rel="noopener" data-saferedirecturl="http
 s://www.google.com/url?q=https://www.arcus.org/sites/all/modules/civicrm/ex
 tern/url.php?u%3D21908%26qid%3D3733055&amp;source=gmail&amp;ust=15869541917
 80000&amp;usg=AFQjCNEx39ceJM1cF0SpuQ0BnfRyQuXH4w"></a><span id="cloak052ec4
 e1e118f2fa76a482d7c137e6a2">This email address is being protected from spam
 bots. You need JavaScript enabled to view it.</span><script type='text/java
 script'>
				document.getElementById('cloak052ec4e1e118f2fa76a482d7c137e6a2
 ').innerHTML = '';
				var prefix = '&#109;a' + 'i&#108;' + '&#116;o';
				
 var path = 'hr' + 'ef' + '=';
				var addy052ec4e1e118f2fa76a482d7c137e6a2 
 = 'tn&#111;rt&#111;n2' + '&#64;';
				addy052ec4e1e118f2fa76a482d7c137e6a2 
 = addy052ec4e1e118f2fa76a482d7c137e6a2 + 'w&#105;sc' + '&#46;' + '&#101;d&#
 117;';
				var addy_text052ec4e1e118f2fa76a482d7c137e6a2 = 'tn&#111;rt&#111
 ;n2' + '&#64;' + 'w&#105;sc' + '&#46;' + '&#101;d&#117;';document.getElemen
 tById('cloak052ec4e1e118f2fa76a482d7c137e6a2').innerHTML += '<a ' + path + 
 '\'' + prefix + ':' + addy052ec4e1e118f2fa76a482d7c137e6a2 + '\'>'+addy_tex
 t052ec4e1e118f2fa76a482d7c137e6a2+'<\/a>';
		</script></p><p>Matthew Lazzar
 a<br /> Email: <a href="https://www.arcus.org/sites/all/modules/civicrm/ext
 ern/url.php?u=21909&amp;qid=3733055" target="_blank" rel="noopener" data-sa
 feredirecturl="https://www.google.com/url?q=https://www.arcus.org/sites/all
 /modules/civicrm/extern/url.php?u%3D21909%26qid%3D3733055&amp;source=gmail&
 amp;ust=1586954191780000&amp;usg=AFQjCNHGjJHN_Es3gwCng-DKiorGFnZcvA"></a><s
 pan id="cloak4d9d159e768bd34fbd6be877f356b1b5">This email address is being 
 protected from spambots. You need JavaScript enabled to view it.</span><scr
 ipt type='text/javascript'>
				document.getElementById('cloak4d9d159e768bd
 34fbd6be877f356b1b5').innerHTML = '';
				var prefix = '&#109;a' + 'i&#108;
 ' + '&#116;o';
				var path = 'hr' + 'ef' + '=';
				var addy4d9d159e768bd3
 4fbd6be877f356b1b5 = 'm&#97;ttl' + '&#64;';
				addy4d9d159e768bd34fbd6be87
 7f356b1b5 = addy4d9d159e768bd34fbd6be877f356b1b5 + 'ss&#101;c' + '&#46;' + 
 'w&#105;sc' + '&#46;' + '&#101;d&#117;';
				var addy_text4d9d159e768bd34fb
 d6be877f356b1b5 = 'm&#97;ttl' + '&#64;' + 'ss&#101;c' + '&#46;' + 'w&#105;s
 c' + '&#46;' + '&#101;d&#117;';document.getElementById('cloak4d9d159e768bd3
 4fbd6be877f356b1b5').innerHTML += '<a ' + path + '\'' + prefix + ':' + addy
 4d9d159e768bd34fbd6be877f356b1b5 + '\'>'+addy_text4d9d159e768bd34fbd6be877f
 356b1b5+'<\/a>';
		</script></p><p>Sophie Orendorf<br /> Email: <a href="ht
 tps://www.arcus.org/sites/all/modules/civicrm/extern/url.php?u=21910&amp;qi
 d=3733055" target="_blank" rel="noopener" data-saferedirecturl="https://www
 .google.com/url?q=https://www.arcus.org/sites/all/modules/civicrm/extern/ur
 l.php?u%3D21910%26qid%3D3733055&amp;source=gmail&amp;ust=1586954191780000&a
 mp;usg=AFQjCNEqgQ708YNrwlVC1DOxAiB0gKqr1g"></a><span id="cloak8a978f5608c87
 959b68f54b3c0b3cde5">This email address is being protected from spambots. Y
 ou need JavaScript enabled to view it.</span><script type='text/javascript'
 >
				document.getElementById('cloak8a978f5608c87959b68f54b3c0b3cde5').inne
 rHTML = '';
				var prefix = '&#109;a' + 'i&#108;' + '&#116;o';
				var pat
 h = 'hr' + 'ef' + '=';
				var addy8a978f5608c87959b68f54b3c0b3cde5 = '&#11
 1;r&#101;nd&#111;rf' + '&#64;';
				addy8a978f5608c87959b68f54b3c0b3cde5 = 
 addy8a978f5608c87959b68f54b3c0b3cde5 + 'w&#105;sc' + '&#46;' + '&#101;d&#11
 7;';
				var addy_text8a978f5608c87959b68f54b3c0b3cde5 = '&#111;r&#101;nd&#
 111;rf' + '&#64;' + 'w&#105;sc' + '&#46;' + '&#101;d&#117;';document.getEle
 mentById('cloak8a978f5608c87959b68f54b3c0b3cde5').innerHTML += '<a ' + path
  + '\'' + prefix + ':' + addy8a978f5608c87959b68f54b3c0b3cde5 + '\'>'+addy_
 text8a978f5608c87959b68f54b3c0b3cde5+'<\/a>';
		</script></p>
DTSTAMP:20260422T050257Z
DTSTART;TZID=UTC:20200729T080000
DTEND;TZID=UTC:20200731T170000
SEQUENCE:0
TRANSP:OPAQUE
END:VEVENT
END:VCALENDAR