BEGIN:VCALENDAR
VERSION:2.0
PRODID:-//jEvents 2.0 for Joomla//EN
CALSCALE:GREGORIAN
METHOD:PUBLISH
BEGIN:VEVENT
UID:c3941c2600a073b63a05656a5efb1351
CATEGORIES:Polar Conferences, Meetings and Events
CREATED:20200408T092605
SUMMARY:Arctic Circle Forum in Berlin - postponed
DESCRIPTION:Due to the COVID-19 situation, the Arctic Circle has decided to postpone th
 e Forum in Berlin, which had been scheduled for June 30 - July 1st. Proposa
 ls for Sessions will remain valid and our international partners are encour
 aged to continue their dialogue and preparations for the Forum.   A new dat
 e for the Forum will be announced in the coming months. Please keep an eye 
 on http://www.arcticcircle.org/ for updates. 
X-ALT-DESC;FMTTYPE=text/html:<div>Due to the COVID-19 situation, the Arctic Circle has decided to postpo
 ne the Forum in Berlin, which had been scheduled for June 30 - July&nbsp;1s
 t. Proposals for Sessions will remain valid and our international partners 
 are encouraged to continue their dialogue and preparations for the Forum.&n
 bsp;&nbsp; A new date for the Forum will be announced in the coming months.
  Please keep an eye on <a href="http://www.arcticcircle.org/">http://www.ar
 cticcircle.org/</a> for updates. </div>
DTSTAMP:20260421T101920Z
DTSTART;TZID=UTC:20200630T080000
DTEND;TZID=UTC:20200701T170000
SEQUENCE:0
TRANSP:OPAQUE
END:VEVENT
END:VCALENDAR