BEGIN:VCALENDAR
VERSION:2.0
PRODID:-//jEvents 2.0 for Joomla//EN
CALSCALE:GREGORIAN
METHOD:PUBLISH
BEGIN:VEVENT
UID:5f8e68ec02f11c3368173181babe7d40
CATEGORIES:Polar Conferences, Meetings and Events
CREATED:20200408T092132
SUMMARY:IAMAS-IACS-IAPSO Joint Assembly 2021 - CANCELLED
LOCATION:Bexco\, Busan\, Republic of Korea
DESCRIPTION:The Busan IAMAS-IACS-IAPSO Joint Assembly 2021 (http://baco-21.org/2021/eng
 lish/main/index_en.asp) will be an important opportunity to not only draw d
 eep scrutiny to activities which are harmful to our earth, but also to pose
  solutions for the healthy coexistence of earth and humankind in Asia and a
 cross the globe.\n
X-ALT-DESC;FMTTYPE=text/html:<p>The Busan<a href="http://baco-21.org/2021/english/main/index_en.asp"> IA
 MAS-IACS-IAPSO Joint Assembly 2021</a> will be an important opportunity to 
 not only draw deep scrutiny to activities which are harmful to our earth, b
 ut also to pose solutions for the healthy coexistence of earth and humankin
 d in Asia and across the globe.</p>
DTSTAMP:20260419T170100Z
DTSTART;TZID=UTC;VALUE=DATE:20210718
DTEND;TZID=UTC;VALUE=DATE:20210724
SEQUENCE:0
TRANSP:OPAQUE
END:VEVENT
END:VCALENDAR