BEGIN:VCALENDAR
VERSION:2.0
PRODID:-//jEvents 2.0 for Joomla//EN
CALSCALE:GREGORIAN
METHOD:PUBLISH
BEGIN:VEVENT
UID:77386e4fd1bd2c44e49414970354fce2
CATEGORIES:Polar Online Events
CREATED:20200408T091901
SUMMARY:AGU Fall Meeting 2020
LOCATION:Online
DESCRIPTION: will be one of the world's largest virtual scientific conferences, with ex
 citing programming and events. This will be our most diverse, engaging and 
 dynamic Fall Meeting to date.\n#AGU20 is scheduled from 1-17 December to ac
 commodate over a thousand hours of virtual content to minimize conflicts wh
 ile maximizing global engagement. Scientific program content will be availa
 ble on-demand, with pre-recorded oral presentations and virtual posters ava
 ilable for attendees to view and peruse outside of the scheduled live Q&amp
 ;A sessions during the meeting. The complete list, which includes the day/t
 ime, session title, and type of event, is available on the <a href="https:/
 /www.arcus.org/communitymeetings/agu/2020/arctic-sessions">Arctic Sessions 
 webpage</a>.\n
X-ALT-DESC;FMTTYPE=text/html:<p><a href="https://www.agu.org/Fall-Meeting?utm_source=agu&amp;utm_medium=
 email" target="_blank" rel="noopener">#AGU20 Fall Meeting</a> will be one o
 f the world's largest virtual scientific conferences, with exciting program
 ming and events. This will be our most diverse, engaging and dynamic Fall M
 eeting to date.</p><p>#AGU20 is scheduled from 1-17 December to accommodate
  over a thousand hours of virtual content to minimize conflicts while maxim
 izing global engagement. Scientific program content will be available on-de
 mand, with pre-recorded oral presentations and virtual posters available fo
 r attendees to view and peruse outside of the scheduled live Q&amp;A sessio
 ns during the meeting. The complete list, which includes the day/time, sess
 ion title, and type of event, is available on the <a href="https://www.arcu
 s.org/communitymeetings/agu/2020/arctic-sessions">Arctic Sessions webpage</
 a>.</p>
DTSTAMP:20260420T162850Z
DTSTART;TZID=UTC;VALUE=DATE:20201201
DTEND;TZID=UTC;VALUE=DATE:20201218
SEQUENCE:0
TRANSP:OPAQUE
END:VEVENT
END:VCALENDAR