BEGIN:VCALENDAR
VERSION:2.0
PRODID:-//jEvents 2.0 for Joomla//EN
CALSCALE:GREGORIAN
METHOD:PUBLISH
BEGIN:VEVENT
UID:9c8dbdd42739a882ba1d18720a5080b4
CATEGORIES:Polar Conferences, Meetings and Events
CREATED:20200408T083240
SUMMARY:PYRN seminar: Evan Wilcox - Thermokarst lake water balance
DESCRIPTION:PYRN is organising monthly online seminars during the time of social distan
 cing due to COVID-19. The first seminar on April 17, at 7pm GMT features a 
 talk by ExCom member Evan Wilcox about his research on thermokarst lakes. \
 nSeminar details:Speaker: Evan Wilcox\nTitle: ​"Investigating the influence
 s on Thermokarst Lake Water Balances between Inuvik and Tuktoyaktuk, NT" \n
 Time: April 17th 2020, 7-7:30pm GMT So if you would like to join us for our
  first PYRN Zoom seminar, please register here: https://forms.gle/pfRbFtLZL
 qDymqcM8\nThe zoom link will not be posted online (to avoid trolls and peop
 le crashing the talk) so please register at least two hours in advance (5pm
  GMT) and you will be emailed a zoom invitation. 
X-ALT-DESC;FMTTYPE=text/html:<p>PYRN is organising monthly online seminars during the time of social dis
 tancing due to COVID-19. The first seminar on April 17, at 7pm GMT features
  a talk by ExCom member Evan Wilcox about his research on thermokarst lakes
 .&nbsp;</p><div>Seminar details:</div><div>Speaker: Evan Wilcox<br />Title:
  ​"Investigating the influences on Thermokarst Lake Water Balances between 
 Inuvik and Tuktoyaktuk, NT" <br />Time: April 17th 2020, 7-7:30pm GMT</div>
 <div>&nbsp;</div><p>So if you would like to join us for our first PYRN Zoom
  seminar, please register here: <a href="https://forms.gle/pfRbFtLZLqDymqcM
 8">https://forms.gle/pfRbFtLZLqDymqcM8</a></p><div>The zoom link will not b
 e posted online (to avoid trolls and people crashing the talk) so please re
 gister at least two hours in advance (5pm GMT) and you will be emailed a zo
 om invitation.&nbsp;</div>
DTSTAMP:20260421T230507Z
DTSTART;TZID=UTC:20200417T070000
DTEND;TZID=UTC:20200417T073000
SEQUENCE:0
TRANSP:OPAQUE
END:VEVENT
END:VCALENDAR