BEGIN:VCALENDAR
VERSION:2.0
PRODID:-//jEvents 2.0 for Joomla//EN
CALSCALE:GREGORIAN
METHOD:PUBLISH
BEGIN:VEVENT
UID:acdf0d09071a583204e9bee05feeaa79
CATEGORIES:Polar Conferences, Meetings and Events
CREATED:20200331T092347
SUMMARY:PalaeoArc 2020 - postponed to 24-28 May 2021
LOCATION:Pisa\, Italy
DESCRIPTION:2nd International Conference on \n‘Processes and Palaeo-environmental chang
 es in the Arctic: from past to present (PalaeoArc)’IMPORTANT COMMUNICATION:
  Due to the CODVI-19 outbreak, we find ourselves compelled to POSTPONE THE 
 PALAEOARC2020 CONFERENCE.\n\nThe Conference will be rescheduled at the 24-2
 8 May 2021, in Pisa.\nThe new registration, abstract submission and fee pay
 ment deadline is 1st March, 2021\n\nPlease refer to this Website and to the
  PalaeoArc Twitter account ( (https://twitter.com/PalaeoArc)<a href="https:
 //twitter.com/PalaeoArc"></a>https://twitter.com/PalaeoArc) for further new
 s. \nThe <a href="http://www.palaeoarc.no/">PalaeoArc</a> is a network rese
 arch programme aiming to further understand past and present environmental 
 changes and processes in the Arctic. It is the successor of the previous ne
 twork programmes of PONAM (Polar North Atlantic Margins), QUEEN (Quaternary
  Environment of the Eurasian North), APEX (https://www.su.se/geo/english/re
 search/research-projects/apex-arctic-palaeoclimate-and-its-extremes-1.37771
 7) (Arctic Palaeoclimate and its Extremes) and, most recently, <a href="htt
 p://www.geol.lu.se/pastgateways/">PAST Gateways</a> (Palaeo-Arctic Spatial 
 and Temporal Gateways).\nFurther details: \n (http://palaeoarc2020.dst.unip
 i.it/)<a href="http://palaeoarc2020.dst.unipi.it/">http://palaeoarc2020.dst
 .unipi.it/</a>\n
X-ALT-DESC;FMTTYPE=text/html:<h4><strong>2<sup>nd</sup> International Conference on <br />‘Processes and
  Palaeo-environmental changes in the Arctic: from past to present (PalaeoAr
 c)’</strong></h4><p>IMPORTANT COMMUNICATION: Due to the CODVI-19 outbreak, 
 we find ourselves compelled to POSTPONE THE PALAEOARC2020 CONFERENCE.</p><p
 ><br /><strong>The Conference will be rescheduled at the 24-28 May 2021, in
  Pisa.</strong></p><p>The new registration, abstract submission and fee pay
 ment deadline is 1<sup>st</sup> March, 2021</p><p><br />Please refer to thi
 s Website and to the PalaeoArc Twitter account (<a href="https://twitter.co
 m/PalaeoArc"></a><a href="https://twitter.com/PalaeoArc"></a><a href="https
 ://twitter.com/PalaeoArc">https://twitter.com/PalaeoArc</a>) for further ne
 ws.&nbsp;</p><p>The&nbsp;<a href="http://www.palaeoarc.no/"><strong>PalaeoA
 rc</strong></a>&nbsp;is a network research programme aiming to further unde
 rstand past and present environmental changes and processes in the Arctic. 
 It is the successor of the previous network programmes of PONAM (Polar Nort
 h Atlantic Margins), QUEEN (Quaternary Environment of the Eurasian North), 
 <a href="https://www.su.se/geo/english/research/research-projects/apex-arct
 ic-palaeoclimate-and-its-extremes-1.377717">APEX</a> (Arctic Palaeoclimate 
 and its Extremes) and, most recently,&nbsp;<a href="http://www.geol.lu.se/p
 astgateways/">PAST Gateways</a>&nbsp;(Palaeo-Arctic Spatial and Temporal Ga
 teways).</p><p>Further details:&nbsp;</p><p><a href="http://palaeoarc2020.d
 st.unipi.it/"></a><a href="http://palaeoarc2020.dst.unipi.it/">http://palae
 oarc2020.dst.unipi.it/</a></p>
DTSTAMP:20260421T230509Z
DTSTART;TZID=UTC;VALUE=DATE:20200928
DTEND;TZID=UTC;VALUE=DATE:20201003
SEQUENCE:0
TRANSP:OPAQUE
END:VEVENT
END:VCALENDAR