BEGIN:VCALENDAR
VERSION:2.0
PRODID:-//jEvents 2.0 for Joomla//EN
CALSCALE:GREGORIAN
METHOD:PUBLISH
BEGIN:VEVENT
UID:1f4756ad6fe09f236b1a06db81ca56da
CATEGORIES:Polar Conferences, Meetings and Events
CREATED:20200323T155844
SUMMARY:2nd Symposium on Polar Microbes and Viruses (Abstract submission deadline 14 March 2022)
LOCATION:Tvärminne Zoological Station\, Hanko\, Finland
DESCRIPTION:<p dir="ltr" style="text-align: justify;">It is our great pleasure to invit
 e you to participate in the <strong>second Symposium on Polar Microbes and 
 Viruse</strong>s from<strong> 3-6 May 2022 at Tvärminne Zoological Station,
  Hanko, Finland.&nbsp;</strong></p><p style="text-align: justify;"><strong>
 Organizers invite abstracts for the Symposium on Polar Microbes and Viruses
 .</strong></p><p style="text-align: justify;">This symposium will bring tog
 ether molecular microbial ecologists specializing in different organism gro
 ups to share the latest results and discuss methodological problems, as wel
 l as future prospects in the field, including practical international colla
 borations. However, all microbe enthusiasts, including those wanting to lea
 rn about microbially mediated processes and techniques are welcome to atten
 d.</p><p style="text-align: justify;">The environmental focus of the sympos
 ium will be on cryospheric environments, including sea ice, glaciers, ice s
 heets, and permafrost, but research in other polar environments is also inv
 ited. The methods to be discussed will focus on ‘omics’ techniques, ranging
  from single cells to metagenomes, but research using additional methods is
  encouraged as well.</p><p style="text-align: justify;"><strong>General abs
 tract submission deadline: </strong>14 March 2022</p><p><strong>Virtual pos
 ter abstract submission deadline</strong>: 22 April 2022</p><p><strong>In-p
 erson registration deadline</strong>: 10 April 2022</p><p><strong>Virutal r
 egistration deadline</strong>: 29 April 2022</p><p>The meeting will be held
  according to the existing COVID-19 restrictions/recommendations.</p><p sty
 le="text-align: justify;">For more information, go to:<br /> <a href="http:
 //polarmicrobio.me/" target="_blank" rel="noopener">Symposium webpage</a></
 p>
DTSTAMP:20260421T023047Z
DTSTART;TZID=UTC;VALUE=DATE:20220503
DTEND;TZID=UTC;VALUE=DATE:20220507
SEQUENCE:0
TRANSP:OPAQUE
END:VEVENT
END:VCALENDAR