BEGIN:VCALENDAR
VERSION:2.0
PRODID:-//jEvents 2.0 for Joomla//EN
CALSCALE:GREGORIAN
METHOD:PUBLISH
BEGIN:VEVENT
UID:e18b3e01ec246c5c94be1a8906b1935c
CATEGORIES:Polar Conferences, Meetings and Events
CREATED:20200306T135040
SUMMARY:Arctic Circle Assembly 2020 - postponed to 14-17 October 2021
LOCATION:Reykjavík\, Iceland
DESCRIPTION:The annual Arctic Circle Assembly is the largest annual international gathe
 ring on the Arctic, attended by more than 2000 participants from 60 countri
 es. It is attended by heads of states and governments, ministers, members o
 f parliaments, officials, experts, scientists, entrepreneurs, business lead
 ers, indigenous representatives, environmentalists, students, activists and
  others from the growing international community of partners and participan
 ts interested in the future of the Arctic. \nMore informations under: http:
 //www.arcticcircle.org/assemblies/future\n
X-ALT-DESC;FMTTYPE=text/html:<div class="article-intro"><p>The annual Arctic Circle Assembly is the larg
 est annual international gathering on the Arctic, attended by more than 200
 0 participants from 60 countries. It is attended by heads of states and gov
 ernments, ministers, members of parliaments, officials, experts, scientists
 , entrepreneurs, business leaders, indigenous representatives, environmenta
 lists, students, activists and others from the growing international commun
 ity of partners and participants interested in the future of the Arctic.&nb
 sp;</p><p>More informations under:&nbsp;<a href="http://www.arcticcircle.or
 g/assemblies/future">http://www.arcticcircle.org/assemblies/future</a></p><
 /div>
DTSTAMP:20260422T022341Z
DTSTART;TZID=UTC;VALUE=DATE:20201008
DTEND;TZID=UTC;VALUE=DATE:20201012
SEQUENCE:0
TRANSP:OPAQUE
END:VEVENT
END:VCALENDAR