BEGIN:VCALENDAR
VERSION:2.0
PRODID:-//jEvents 2.0 for Joomla//EN
CALSCALE:GREGORIAN
METHOD:PUBLISH
BEGIN:VEVENT
UID:a9fd260739e20c62a3a92a9b595240d8
CATEGORIES:Field and Summer Schools
CREATED:20200306T125223
SUMMARY:Earth Surface Processes Institute
LOCATION:Boulder\, CO\, USA
DESCRIPTION:<p>CSDMS will host a&nbsp;<strong>10-day, immersive training experience for
  25 graduate students, postdoctoral fellows and early career faculty&nbsp;<
 /strong>at the CSDMS Integration Facility at the University of Colorado, Bo
 ulder. This is an NSF funded project and will hopefully bring together eart
 h surface processes aficinados from all over the US and world.</p><p>ESPIn 
 is a 10-day immersive training experience for 25 graduate students, postdoc
 toral fellows, and/or early career faculty at the University of Colorado Bo
 ulder. ESPIn is designed to allow participants to make advances on critical
  earth surface processes research questions by teaching cyberinfrastructure
  skills. ESPIn will offer hands-on training in numerical modeling, best pro
 gramming practices, open source software development, collaborative coding 
 and version control,&nbsp;<a href="https://landlab.github.io/" target="_bla
 nk" rel="noopener noreferrer">Landlab</a>&nbsp;and&nbsp;<a href="https://py
 mt.readthedocs.io/" target="_blank" rel="noopener noreferrer">pymt</a>, hig
 h performance computing, and model uncertainty quantification.</p><p>Severa
 l days will be dedicated to working in small teams on authentic research, d
 ata analysis, and coding projects. Participants can also work on developing
  and advancing their own research codes. In addition, there will be dedicat
 ed time for a local field trip, peer-to-peer networking, and professional d
 evelopment. A mix of experienced scientists, visiting faculty, software eng
 ineers, and research computing experts will provide instruction. ESPIn will
  conclude with team presentations on code advances and research outcomes, a
 nd set up participants to continue to develop ideas.</p><p><span style="col
 or: inherit; font-family: inherit; font-size: 1rem; caret-color: auto;">Mor
 e information can be found here:&nbsp;<a href="https://csdms.colorado.edu/w
 iki/ESPIn2020">https://csdms.colorado.edu/wiki/ESPIn2020</a></span></p><p><
 strong style="color: inherit; font-family: inherit; font-size: 1rem; caret-
 color: auto;">Extended application deadline April 10th</strong><strong styl
 e="color: inherit; font-family: inherit; font-size: 1rem; caret-color: auto
 ;"><span style="font-size: xx-small;"></span><span style="font-size: 1rem;"
 >, 2020.</span></strong></p><p>For questions regarding ESPIn application an
 d general info, contact us at:&nbsp;<strong><a href="mailto:csdms_espin@col
 orado.edu"></a><span id="cloakde41b93e60ed3a36f9fac7ab544d63e1">This email 
 address is being protected from spambots. You need JavaScript enabled to vi
 ew it.</span><script type='text/javascript'>
				document.getElementById('c
 loakde41b93e60ed3a36f9fac7ab544d63e1').innerHTML = '';
				var prefix = '&#
 109;a' + 'i&#108;' + '&#116;o';
				var path = 'hr' + 'ef' + '=';
				var a
 ddyde41b93e60ed3a36f9fac7ab544d63e1 = 'csdms_&#101;sp&#105;n' + '&#64;';
		
 		addyde41b93e60ed3a36f9fac7ab544d63e1 = addyde41b93e60ed3a36f9fac7ab544d63
 e1 + 'c&#111;l&#111;r&#97;d&#111;' + '&#46;' + '&#101;d&#117;';
				var add
 y_textde41b93e60ed3a36f9fac7ab544d63e1 = 'csdms_&#101;sp&#105;n' + '&#64;' 
 + 'c&#111;l&#111;r&#97;d&#111;' + '&#46;' + '&#101;d&#117;';document.getEle
 mentById('cloakde41b93e60ed3a36f9fac7ab544d63e1').innerHTML += '<a ' + path
  + '\'' + prefix + ':' + addyde41b93e60ed3a36f9fac7ab544d63e1 + '\'>'+addy_
 textde41b93e60ed3a36f9fac7ab544d63e1+'<\/a>';
		</script></strong></p>
DTSTAMP:20260421T231729Z
DTSTART;TZID=UTC;VALUE=DATE:20200812
DTEND;TZID=UTC;VALUE=DATE:20200820
SEQUENCE:0
TRANSP:OPAQUE
END:VEVENT
END:VCALENDAR