BEGIN:VCALENDAR
VERSION:2.0
PRODID:-//jEvents 2.0 for Joomla//EN
CALSCALE:GREGORIAN
METHOD:PUBLISH
BEGIN:VEVENT
UID:cb99773fa0f01668107845e911659a7c
CATEGORIES:APECS Events
CREATED:20200306T123126
SUMMARY:APECS International Polar Week 2020
LOCATION:Worldwide
DESCRIPTION:It´s APECS International Polar Week March 2020!\nJoin us in celebrating the
  icy and Polar Regions of the world and create further awareness of the sci
 ence and activities being conducted in the Arctic and the Antarctic.The APE
 CS International Polar Week March 2020 is shaping up to be an exciting part
 y! From the 15 to 21 March, we will be featuring some great activities orga
 nized by Polar early career researchers from around the world. This seven-d
 ay programme includes:\n\n - a #PolarWeekPhoto photo challenge\n - a #Scien
 tistsWhoSelfie selfie photo challenge\n - a #PolarWeekArt drawing challenge
 \n - a Polar Quiz\n - a Polar Fun Facts edition\n - a Polar Indigenous coll
 aboration\n - a selection of Polar Movies\n - some Polar Short Stories \n -
  Live Twitter events and more.We encourage you to share your own experience
 s with us using the hashtags: #PolarWeek, #ScientistsWhoSelfie, #PolarWeekP
 hoto and #PolarWeekArt. Don’t forget to seek out and help organize local ev
 ents through your National Committees!\nWe encourage all APECS members and 
 National Committees to organize their own activities. Let’s promote and pro
 file all those great APECS members, mentors and educators that help us to u
 nderstand better the Polar Latitudes! We would like to promote your activit
 ies, so please submit details through this form (https://docs.google.com/fo
 rms/d/e/1FAIpQLScEnKDgvt767RQazD0-hU_dLNDKuqZEOxguGkaEjTgQVjp5sQ/viewform).
 \nFind out more on our <a href="/events-archive/polar-week-activities.html"
 >Polar Week page</a> about the events happening around the world and how to
  participate. If you have any questions, please contact us at  (mailto:info
 @apecs.is)<a href="mailto:info@apecs.is"></a>This email address is being pr
 otected from spambots. You need JavaScript enabled to view it.
				document
 .getElementById('cloak29a6d2458058479c37b106375b96693f').innerHTML = '';
		
 		var prefix = '&#109;a' + 'i&#108;' + '&#116;o';
				var path = 'hr' + 'ef
 ' + '=';
				var addy29a6d2458058479c37b106375b96693f = '&#105;nf&#111;' + 
 '&#64;';
				addy29a6d2458058479c37b106375b96693f = addy29a6d2458058479c37b
 106375b96693f + '&#97;p&#101;cs' + '&#46;' + '&#105;s';
				var addy_text29
 a6d2458058479c37b106375b96693f = '&#105;nf&#111;' + '&#64;' + '&#97;p&#101;
 cs' + '&#46;' + '&#105;s';document.getElementById('cloak29a6d2458058479c37b
 106375b96693f').innerHTML += '<a ' + path + '\'' + prefix + ':' + addy29a6d
 2458058479c37b106375b96693f + '\'>'+addy_text29a6d2458058479c37b106375b9669
 3f+'';
		.\nThank you for celebrating APECS International Polar Week March 
 2020 with us!\n\n
X-ALT-DESC;FMTTYPE=text/html:<p><strong>It´s APECS International Polar Week March 2020!</strong></p><p>J
 oin us in celebrating the icy and Polar Regions of the world and create fur
 ther awareness of the science and activities being conducted in the Arctic 
 and the Antarctic.The&nbsp;<strong>APECS International Polar Week March 202
 0</strong>&nbsp;is shaping up to be an exciting party!&nbsp;<strong>From th
 e 15 to 21 March,</strong>&nbsp;we will be featuring some great activities 
 organized by Polar early career researchers from around the world. This sev
 en-day programme includes:</p><ul><li>a&nbsp;<em>#</em>PolarWeekPhoto&nbsp;
 photo challenge</li><li>a&nbsp;#ScientistsWhoSelfie&nbsp;selfie photo chall
 enge</li><li>a&nbsp;<em></em><em>#</em>PolarWeekArt&nbsp;drawing challenge<
 /li><li>a&nbsp;Polar Quiz</li><li>a&nbsp;Polar Fun Facts&nbsp;edition</li><
 li>a&nbsp;Polar Indigenous&nbsp;collaboration</li><li>a selection of&nbsp;P
 olar Movies</li><li>some&nbsp;Polar Short Stories&nbsp;</li><li>Live Twitte
 r events and more.</li></ul><p>We encourage you to share your own experienc
 es with us using the hashtags:&nbsp;<strong>#</strong><strong>PolarWeek, #S
 cientistsWhoSelfie,&nbsp;</strong><strong><em>#</em></strong><strong>PolarW
 eekPhoto&nbsp;and&nbsp;#PolarWeekArt</strong>. Don’t forget to seek out and
  help organize local events through your National Committees!</p><p>We enco
 urage all APECS members and National Committees to organize their own activ
 ities. Let’s promote and profile all those great APECS members, mentors and
  educators that help us to understand better the Polar Latitudes! We would 
 like to promote your activities, so please submit details&nbsp;<a href="htt
 ps://docs.google.com/forms/d/e/1FAIpQLScEnKDgvt767RQazD0-hU_dLNDKuqZEOxguGk
 aEjTgQVjp5sQ/viewform">through this form</a>.</p><p>Find out more on our&nb
 sp;<a href="/events-archive/polar-week-activities.html">Polar Week page</a>
 &nbsp;about the events happening around the world and how to participate. I
 f you have any questions, please contact us at&nbsp;<a href="mailto:info@ap
 ecs.is"></a><span id="cloakfbcf530dd632425a071efe94619384dc"><a href="mailt
 o:info@apecs.is"></a><span id="cloak29a6d2458058479c37b106375b96693f">This 
 email address is being protected from spambots. You need JavaScript enabled
  to view it.</span><script type='text/javascript'>
				document.getElementB
 yId('cloak29a6d2458058479c37b106375b96693f').innerHTML = '';
				var prefix
  = '&#109;a' + 'i&#108;' + '&#116;o';
				var path = 'hr' + 'ef' + '=';
			
 	var addy29a6d2458058479c37b106375b96693f = '&#105;nf&#111;' + '&#64;';
			
 	addy29a6d2458058479c37b106375b96693f = addy29a6d2458058479c37b106375b96693
 f + '&#97;p&#101;cs' + '&#46;' + '&#105;s';
				var addy_text29a6d245805847
 9c37b106375b96693f = '&#105;nf&#111;' + '&#64;' + '&#97;p&#101;cs' + '&#46;
 ' + '&#105;s';document.getElementById('cloak29a6d2458058479c37b106375b96693
 f').innerHTML += '<a ' + path + '\'' + prefix + ':' + addy29a6d2458058479c3
 7b106375b96693f + '\'>'+addy_text29a6d2458058479c37b106375b96693f+'<\/a>';

 		</script></span>.</p><p>Thank you for celebrating&nbsp;<strong>APECS Inte
 rnational Polar Week March 2020</strong>&nbsp;with us!</p><p><a href="index
 .php?option=com_content&amp;view=category&amp;id=377&amp;layout=*">See more
  information here!</a></p>
DTSTAMP:20260421T105821Z
DTSTART;TZID=UTC;VALUE=DATE:20200315
DTEND;TZID=UTC;VALUE=DATE:20200322
SEQUENCE:0
TRANSP:OPAQUE
END:VEVENT
END:VCALENDAR