BEGIN:VCALENDAR
VERSION:2.0
PRODID:-//jEvents 2.0 for Joomla//EN
CALSCALE:GREGORIAN
METHOD:PUBLISH
BEGIN:VEVENT
UID:440f68e252ac5894ddef7cb48d043b6e
CATEGORIES:APECS Events
CREATED:20200304T111015
SUMMARY:APECS International Online Conference 2020
LOCATION:Worldwide\, Online
DESCRIPTION:The Association of Polar Early Career Scientists (APECS) is proud to announ
 ce the much awaited 6th annual APECS International Online Conference to go 
 live on 20 May 2020. This year’s theme, "Opening Doors: Collaboration acros
 s knowledge systems" aims to encourage collaboration between early career r
 esearchers, science communicators, educators, and local community members i
 n polar and alpine regions. \nThe 6th edition of the APECS International On
 line Conference will focus on knowledge exchange among multidisciplinary sc
 ientists, local communities, educators and science communicators. In a fast
  changing world, we believe it is important to pair traditional knowledge, 
 education, and outreach with science efforts to better understand present a
 nd future challenges to the polar regions. This sort of comprehensive appro
 ach is best achieved by incorporating knowledge from a diverse array of dis
 ciplines and perspectives and is especially important for guiding policy-ma
 king. Through this conference, we hope to gain a better understanding of th
 e many ways that Indigenous knowledge, science communication, and art can b
 enefit our research. With this, APECS calls for early career researchers, s
 cience communicators and educators to come forward with a short presentatio
 n outlining their approach for promoting collaboration in polar science. Th
 is year’s conference will also introduce online breakout chat rooms through
  the Zoom platform, to foster interactions between presenters and attendees
  and to enable future collaboration. Within our team, we have science commu
 nication experts that will assist as facilitators in these chats.\nAbstract
  Submission Deadline: 31 March 2020\nMore information can be found here: ht
 tps://www.apecs.is/events/upcoming-event-highlights/apecs-international-onl
 ine-conference-2020.html (events/upcoming-event-highlights/apecs-internatio
 nal-online-conference-2020.html)\n
X-ALT-DESC;FMTTYPE=text/html:<p>The Association of Polar Early Career Scientists (APECS) is proud to ann
 ounce the much awaited&nbsp;<strong>6th annual APECS International Online C
 onference</strong>&nbsp;to go live on <strong>20 May 2020</strong>. This ye
 ar’s theme,&nbsp;<strong>"Opening Doors: Collaboration across knowledge sys
 tems"</strong>&nbsp;aims to encourage collaboration between early career re
 searchers, science communicators, educators, and local community members&nb
 sp;in&nbsp;polar and alpine regions.&nbsp;</p><p>The 6th edition of the APE
 CS International Online Conference will focus on knowledge exchange among m
 ultidisciplinary scientists, local communities, educators and science commu
 nicators. In a fast changing world, we believe it is important to pair trad
 itional knowledge, education, and outreach with science efforts to better u
 nderstand present and future challenges to the polar regions. This sort of 
 comprehensive approach is best achieved by incorporating knowledge from a d
 iverse array of disciplines and perspectives and is especially important fo
 r guiding policy-making. Through this conference, we hope to gain a better 
 understanding of the many ways that Indigenous knowledge, science communica
 tion, and art can benefit our research. With this, APECS calls for early ca
 reer researchers, science communicators and educators to come forward with 
 a short presentation outlining their approach for promoting collaboration i
 n polar science.&nbsp;This year’s conference will also introduce online bre
 akout chat rooms through the Zoom platform, to foster interactions between 
 presenters and attendees and to enable future collaboration. Within our tea
 m, we have science communication experts that will assist as facilitators i
 n these chats.</p><p>Abstract Submission Deadline: <strong>31 March 2020</s
 trong></p><p>More information can be found here:&nbsp;<a href="events/upcom
 ing-event-highlights/apecs-international-online-conference-2020.html">https
 ://www.apecs.is/events/upcoming-event-highlights/apecs-international-online
 -conference-2020.html</a></p>
DTSTAMP:20260422T011523Z
DTSTART;TZID=UTC;VALUE=DATE:20200520
DTEND;TZID=UTC;VALUE=DATE:20200521
SEQUENCE:0
TRANSP:OPAQUE
END:VEVENT
END:VCALENDAR