BEGIN:VCALENDAR
VERSION:2.0
PRODID:-//jEvents 2.0 for Joomla//EN
CALSCALE:GREGORIAN
METHOD:PUBLISH
BEGIN:VEVENT
UID:9e3962d9cbb7c136ced94c842575f5db
CATEGORIES:Polar Conferences, Meetings and Events
CREATED:20200226T135711
SUMMARY:Ice Core Science Community Planning Workshop 2020 - 1 day virtual meeting on April 2
LOCATION:Alexandria\, Virginia\, USA
DESCRIPTION:Due to the spread of COVID-19, we will not be holding the in-person worksho
 p. Instead we will have a one-day virtual ICWG Community Meeting on Thursda
 y, April 2, for presenting and discussing information relevant to the U.S. 
 ice coring program and for updating the IDP Long Range Science Plan.\nAll a
 re welcome to attend, but we need to plan available space, so register for 
 the meeting (https://icedrill.org/meetings/ice-core-science-community-plann
 ing-workshop-2020#registration) before March 13. After we receive your regi
 stration, we will send you additional details of the meeting as it develops
 . Video-conferencing will be available for remote participation. If you pla
 n to attend via webconferencing, please indicate that on your registration 
 so that we can be in contact.\nScientific discoveries achieved in the Arcti
 c and Antarctic ice sheets and temperate glaciers are critical to society t
 oday, but they are not achieved without significant advance planning. The U
 .S. Ice Drilling Program (IDP) will sponsor an interdisciplinary ice commun
 ity workshop to identify science driving future Arctic and Antarctic ice co
 ring sites, the ice drilling technology that will be needed, and the timeli
 ne over the coming decade for advancing ice core science on multiple fronti
 ers. The outcome of the workshop will be white papers describing community 
 endeavors with associated timelines that will become part of the updated U.
 S. Ice Drilling Program <a href="https://icedrill.org/long-range-science-pl
 an">Long Range Science Plan</a>.\nRegistration deadline: 13 March 2020\nSee
  more on the . \n
X-ALT-DESC;FMTTYPE=text/html:<p><strong>Due to the spread of COVID-19, we will not be holding the in-per
 son workshop. Instead we will have a one-day virtual ICWG Community Meeting
  on Thursday, April 2, for presenting and discussing information relevant t
 o the U.S. ice coring program and for updating the IDP Long Range Science P
 lan.</strong></p><p>All are welcome to attend, but we need to plan availabl
 e space, so&nbsp;<strong><a href="https://icedrill.org/meetings/ice-core-sc
 ience-community-planning-workshop-2020#registration">register for the meeti
 ng</a>&nbsp;before March 13</strong>. After we receive your registration, w
 e will send you additional details of the meeting as it develops.&nbsp;<spa
 n style="text-decoration: underline;">Video-conferencing will be available 
 for remote participation</span>. If you plan to attend via webconferencing,
  please indicate that on your registration so that we can be in contact.</p
 ><p>Scientific discoveries achieved in the Arctic and Antarctic ice sheets 
 and temperate glaciers are critical to society today, but they are not achi
 eved without significant advance planning. The U.S. Ice Drilling Program (I
 DP) will sponsor an interdisciplinary ice community workshop to identify sc
 ience driving future Arctic and Antarctic ice coring sites, the ice drillin
 g technology that will be needed, and the timeline over the coming decade f
 or advancing ice core science on multiple frontiers. The outcome of the wor
 kshop will be white papers describing community endeavors with associated t
 imelines that will become part of the updated U.S. Ice Drilling Program&nbs
 p;<a href="https://icedrill.org/long-range-science-plan">Long Range Science
  Plan</a>.</p><p><strong>Registration deadline:</strong>&nbsp;13 March 2020
 </p><p>See more on the&nbsp;<a href="https://www.arcus.org/sites/all/module
 s/civicrm/extern/url.php?u=20725&amp;qid=3558882">workshop homepage</a>.&nb
 sp;</p>
DTSTAMP:20260425T133639Z
DTSTART;TZID=UTC;VALUE=DATE:20200402
DTEND;TZID=UTC;VALUE=DATE:20200404
SEQUENCE:0
TRANSP:OPAQUE
END:VEVENT
END:VCALENDAR