BEGIN:VCALENDAR
VERSION:2.0
PRODID:-//jEvents 2.0 for Joomla//EN
CALSCALE:GREGORIAN
METHOD:PUBLISH
BEGIN:VEVENT
UID:1fd7ecc862f2a0f751deab8fd99f000a
CATEGORIES:Polar Conferences, Meetings and Events
CREATED:20200226T135406
SUMMARY:2020 Ocean Mixing Gordon Research Conference - cancelled
LOCATION:Manchester\, New Hampshire\, USA
DESCRIPTION:Due to the COVID-19 situation, this conference has been withdrawn from the 
 2020 conference schedule\nWe would like to draw your attention to the upcom
 ing Ocean Mixing Gordon Research Seminar (GRS) and Conference (GRC), held f
 rom June 13-14 and 14-19, 2020 at Southern New Hampshire University, Manche
 ster, New Hampshire, USA.The GRC provides an international forum for the pr
 esentation and discussion of frontier research and related technologies, an
 d for over 80 years, have been viewed as the world?s premier scientific mee
 tings. The guiding principle is to encourage communication and discussion o
 f ideas and new unpublished results by bringing together outstanding scient
 ists from academia, industry, and government.The GRS is a two day event tha
 t precedes the GRC and is only for students, postdocs, and early career sci
 entists. This unique format maximizes interactions between burgeoning scien
 tists that fosters critical discussion and community amongst the newest gen
 eration of scientists in the ocean mixing community. Participants of the GR
 S are encouraged to also attend the GRC.We hope to see you for either the G
 RC or GRS. Application deadlines for GRC and GRS attendance are May 16, but
  note that the number of attendees is limited to 200.  The application for 
 GRS oral presentations is March 13.Please feel free to distribute this amon
 gst your colleagues and if you are a senior scientist, please take this opp
 ortunity to encourage participation to the GRS by the early career research
 ers in your group. More details on registration and funding opportunities c
 an be found in the attached advertisement and at here (http://www.grc.org/o
 cean-mixing-conference/2020/).   \n
X-ALT-DESC;FMTTYPE=text/html:<div class=""><div class=""><div class="moz-forward-container"><div class="
 moz-forward-container"><p class=""><strong>Due to the COVID-19 situation, t
 his conference has been withdrawn from the 2020 conference schedule</strong
 ></p><p class="">We would like to draw your attention to the upcoming Ocean
  Mixing Gordon Research Seminar (GRS) and Conference (GRC), held from June 
 13-14 and 14-19, 2020 at Southern New Hampshire University, Manchester, New
  Hampshire, USA.<br class="" /><br class="" />The GRC provides an internati
 onal forum for the presentation and discussion of frontier research and rel
 ated technologies, and for over 80 years, have been viewed as the world?s p
 remier scientific meetings. The guiding principle is to encourage communica
 tion and discussion of ideas and new unpublished results by bringing togeth
 er outstanding scientists from academia, industry, and government.<br class
 ="" /><br class="" />The GRS is a two day event that precedes the GRC and i
 s only for students, postdocs, and early career scientists. This unique for
 mat maximizes interactions between burgeoning scientists that fosters criti
 cal discussion and community amongst the newest generation of scientists in
  the ocean mixing community. Participants of the GRS are encouraged to also
  attend the GRC.<br class="" /><br class="" />We hope to see you for either
  the GRC or GRS. Application deadlines for GRC and GRS attendance are May 1
 6, but note that the number of attendees is limited to 200.&nbsp; The appli
 cation for GRS oral presentations is March 13.<br class="" /><br class="" /
 >Please feel free to distribute this amongst your colleagues and if you are
  a senior scientist, please take this opportunity to encourage participatio
 n to the GRS by the early career researchers in your group. More details on
  registration and funding opportunities can be found in the attached advert
 isement and at&nbsp;<a class="" href="http://www.grc.org/ocean-mixing-confe
 rence/2020/" target="_blank" rel="noopener" data-saferedirecturl="https://w
 ww.google.com/url?q=http://www.grc.org/ocean-mixing-conference/2020/&amp;so
 urce=gmail&amp;ust=1581781199263000&amp;usg=AFQjCNH2J8Uht0hs_kYtLEPmevoAkeU
 bBQ" moz-do-not-send="true">here</a>.&nbsp; &nbsp;</p></div></div></div></d
 iv>
DTSTAMP:20260425T232101Z
DTSTART;TZID=UTC;VALUE=DATE:20200613
DTEND;TZID=UTC;VALUE=DATE:20200620
SEQUENCE:0
TRANSP:OPAQUE
END:VEVENT
END:VCALENDAR