BEGIN:VCALENDAR
VERSION:2.0
PRODID:-//jEvents 2.0 for Joomla//EN
CALSCALE:GREGORIAN
METHOD:PUBLISH
BEGIN:VEVENT
UID:dc7a1c1dc85fb08ce050b8649cdff94a
CATEGORIES:Polar Conferences, Meetings and Events
CREATED:20200220T125802
SUMMARY:Workshop on Mathematics of Sea Ice in the Twenty-First Century - postponed
LOCATION:Cambridge\, UK
DESCRIPTION:<h2>**Following the outbreak of COVID19, this event has been postponed. The
  Institute is working with the organisers to find a suitable date in the ca
 lendar for its resumption; further information will be made available in du
 e course.&nbsp;See <a href="https://www.newton.ac.uk/news/coronavirus-essen
 tial-update-march-2020">this page</a> for further details.**</h2><p>&nbsp;<
 /p><p>The workshop&nbsp;will include presentations and discussions from wor
 ld-leading experts on sea ice research for climate and environmental modell
 ing and engineering applications.</p><p>Application Deadline: <strong>19 Ap
 ril 2020</strong>.&nbsp;</p><p>More information can be found at&nbsp;<a hre
 f="https://www.newton.ac.uk/event/sipw05" target="_blank" rel="noopener nor
 eferrer"></a><a href="https://www.newton.ac.uk/event/sipw05">https://www.ne
 wton.ac.uk/event/sipw05</a></p>
DTSTAMP:20260422T052310Z
DTSTART;TZID=UTC;VALUE=DATE:20200720
DTEND;TZID=UTC;VALUE=DATE:20200801
SEQUENCE:0
TRANSP:OPAQUE
END:VEVENT
END:VCALENDAR