BEGIN:VCALENDAR
VERSION:2.0
PRODID:-//jEvents 2.0 for Joomla//EN
CALSCALE:GREGORIAN
METHOD:PUBLISH
BEGIN:VEVENT
UID:4143206dc514a128226cba62e6fe0e9e
CATEGORIES:Polar Conferences, Meetings and Events
CREATED:20200220T124612
SUMMARY:X international scientific and practical conference “The North and the Arctic in the New Global Development Paradigm. Luzin Readings 2020”
LOCATION:Apatity (Murmansk region of Russia)
DESCRIPTION:Kola Science Center RAS (https://www.uarctic.org/member-profiles/russia/854
 1/federal-research-center-kola-science-center-of-the-russian-academy-of-sci
 ences) invites participants to the X international scientific and practical
  conference “The North and the Arctic in the New Global Development Paradig
 m. Luzin Readings 2020”. The main theme of the conference is socio-economic
  development of the Russian Arctic. \nThe conference will include plenary s
 essions, parallel sections, and the “School for young Arctic researchers”. 
 \nConference sessions:\n\n - Globalization and economic processes in the Ar
 ctic;\n - Nature management in the North and the Arctic: economy and ecolog
 y;\n - Social aspects of sustainable development in the Arctic: new trends,
  new solutions;\n - Innovative industrial development of the North and the 
 Arctic in the conditions of digital transformation;\n - Regions and municip
 alities of the North and the Arctic;\n - Financial and investment potential
  of the North and the Arctic of Russia;\n - The North and the Arctic: histo
 ry and modernity*;\n - “School for young Arctic researchers”.Abstracts and 
 articles are accepted till February 24, 2020.\nFor participation please fil
 l in <a href="https://docs.google.com/forms/d/e/1FAIpQLScFWte63UZyPUYuWUjo2
 uZo-oYaH7X2q8uLXvBZce61BDOsBQ/viewform" target="_blank" rel="noopener">the 
 registration form</a> before March 1, 2020.\nFor detailed information and r
 equirements to abstracts please visit the conference web-pages (http://www.
 iep.kolasc.net.ru/conf/eng/).\n
X-ALT-DESC;FMTTYPE=text/html:<div class="article-intro"><p><a title="Federal Research Center - Kola Scie
 nce Center of the Russian Academy of Sciences" href="https://www.uarctic.or
 g/member-profiles/russia/8541/federal-research-center-kola-science-center-o
 f-the-russian-academy-of-sciences" data-udi="umb://document/428f67bdccb7433
 58a47326a1bc497f8">Kola Science Center RAS</a>&nbsp;invites participants to
  the X international scientific and practical conference “The North and the
  Arctic in the New Global Development Paradigm. Luzin Readings 2020”.&nbsp;
 The main theme of the conference is socio-economic development of the Russi
 an Arctic.&nbsp;</p></div><div class="article-body"><p>The conference will 
 include plenary sessions, parallel sections, and the “School for young Arct
 ic researchers”.&nbsp;</p><p><strong>Conference sessions:</strong></p><ul><
 li>Globalization and economic processes in the Arctic;</li><li>Nature manag
 ement in the North and the Arctic: economy and ecology;</li><li>Social aspe
 cts of sustainable development in the Arctic: new trends, new solutions;</l
 i><li>Innovative industrial development of the North and the Arctic in the 
 conditions of digital transformation;</li><li>Regions and municipalities of
  the North and the Arctic;</li><li>Financial and investment potential of th
 e North and the Arctic of Russia;</li><li>The North and the Arctic: history
  and modernity*;</li><li>“School for young Arctic researchers”.</li></ul><p
 >Abstracts and articles are accepted till <strong>February 24, 2020</strong
 >.</p><p>For participation please fill in&nbsp;<a href="https://docs.google
 .com/forms/d/e/1FAIpQLScFWte63UZyPUYuWUjo2uZo-oYaH7X2q8uLXvBZce61BDOsBQ/vie
 wform" target="_blank" rel="noopener">the registration form</a>&nbsp;before
  <strong>March 1, 2020</strong>.</p><p>For detailed information and require
 ments to abstracts please visit&nbsp;<a href="http://www.iep.kolasc.net.ru/
 conf/eng/" target="_blank" rel="noopener">the conference web-pages</a>.</p>
 </div>
DTSTAMP:20260422T013503Z
DTSTART;TZID=UTC;VALUE=DATE:20200409
DTEND;TZID=UTC;VALUE=DATE:20200412
SEQUENCE:0
TRANSP:OPAQUE
END:VEVENT
END:VCALENDAR