BEGIN:VCALENDAR
VERSION:2.0
PRODID:-//jEvents 2.0 for Joomla//EN
CALSCALE:GREGORIAN
METHOD:PUBLISH
BEGIN:VEVENT
UID:79cde753b679e0b74897f03eeb6d59b6
CATEGORIES:Polar Conferences, Meetings and Events
CREATED:20200131T091921
SUMMARY:Calotte Academy 2020
LOCATION:Enontekiö and Inari (Finland); Kautokeino\, Kirkenes and Svanvik (Norway); 
 and Nikel and Apatity (Russia)
DESCRIPTION:The Calotte Academy is an annual traveling symposium and an international s
 cientific forum in the North Calotte region of Europe. It is designed to pr
 omote interdisciplinary discourse as well as academic and policy-oriented d
 ialogue between senior researchers, early career scientists and advanced gr
 aduate students and other northern stakeholders, such as policymakers, civi
 l servants and community leaders and planners. It is a “school of dialogue”
  and it is participatory by nature: the principle is to share knowledge and
  experiences between scientists and communities.\nFirst call for papers: ht
 tps://calotte-academy.com/sites/default/files/2020-01/CfP-CA-2020_1st-call_
 0.pdf\nMore information will follow here: <a href="https://calotte-academy.
 com">https://calotte-academy.com</a>\n \n
X-ALT-DESC;FMTTYPE=text/html:<p>The Calotte Academy is an annual traveling symposium and an internationa
 l scientific forum in the North Calotte region of Europe. It is designed to
  promote interdisciplinary discourse as well as academic and policy-oriente
 d dialogue between senior researchers, early career scientists and advanced
  graduate students and other northern stakeholders, such as policymakers, c
 ivil servants and community leaders and planners. It is a “school of dialog
 ue” and it is participatory by nature: the principle is to share knowledge 
 and experiences between scientists and communities.</p><p>First call for pa
 pers:&nbsp;<a href="https://calotte-academy.com/sites/default/files/2020-01
 /CfP-CA-2020_1st-call_0.pdf">https://calotte-academy.com/sites/default/file
 s/2020-01/CfP-CA-2020_1st-call_0.pdf</a></p><p>More information will follow
  here:&nbsp;<a href="https://calotte-academy.com">https://calotte-academy.c
 om</a></p><p>&nbsp;</p>
DTSTAMP:20260422T001611Z
DTSTART;TZID=UTC;VALUE=DATE:20200531
DTEND;TZID=UTC;VALUE=DATE:20200608
SEQUENCE:0
TRANSP:OPAQUE
END:VEVENT
END:VCALENDAR