BEGIN:VCALENDAR
VERSION:2.0
PRODID:-//jEvents 2.0 for Joomla//EN
CALSCALE:GREGORIAN
METHOD:PUBLISH
BEGIN:VEVENT
UID:4bfa3209b8a2c92ae56b60502a1c78f6
CATEGORIES:Polar Conferences, Meetings and Events
CREATED:20200131T090512
SUMMARY:6th annual Students in Polar and Alpine Research Conference (SPARC 2020) - postponed
LOCATION:Brno\, Czech Republic
DESCRIPTION:SPARC will be postponed, please visit the event website for additional info
 rmation.\n \nAlready for the sixth time, the Students in Polar and Alpine R
 esearch Conference will be held at the Department of Geography, Masaryk Uni
 versity, Brno, Czechia, between 23 and 24 April 2020. \nIf you are an under
 graduate/PhD student or early-career researcher (less than 5 years after th
 e PhD defence) working in polar and alpine environments, you are welcome to
  attend our conference.\n13 April 2020: Deadline for registration and abstr
 act submission\nFurther information can be found on: https://sparc-brno.web
 node.cz\n
X-ALT-DESC;FMTTYPE=text/html:<p><strong>SPARC will be postponed, please visit the event website for addi
 tional information.</strong></p><p><strong>&nbsp;</strong></p><p>Already fo
 r the sixth time, the&nbsp;<strong>Students in Polar and Alpine Research Co
 nference</strong>&nbsp;will be held at the Department of Geography, Masaryk
  University, Brno, Czechia, between&nbsp;<strong>23 and 24 April 2020</stro
 ng>.&nbsp;</p><p class="wnd-align-justify">If you are an undergraduate/PhD 
 student or early-career researcher (less than 5 years after the PhD defence
 ) working in polar and alpine environments, you are welcome to attend our c
 onference.</p><p><strong>13 April 2020:</strong>&nbsp;Deadline for registra
 tion and abstract submission</p><p>Further information can be found on:&nbs
 p;<a href="https://sparc-brno.webnode.cz">https://sparc-brno.webnode.cz</a>
 </p>
DTSTAMP:20260422T003318Z
DTSTART;TZID=UTC;VALUE=DATE:20200423
DTEND;TZID=UTC;VALUE=DATE:20200425
SEQUENCE:0
TRANSP:OPAQUE
END:VEVENT
END:VCALENDAR