BEGIN:VCALENDAR
VERSION:2.0
PRODID:-//jEvents 2.0 for Joomla//EN
CALSCALE:GREGORIAN
METHOD:PUBLISH
BEGIN:VEVENT
UID:f3b483053ed0c955a243a85e57c1d4a8
CATEGORIES:Field and Summer Schools
CREATED:20200122T153117
SUMMARY:ECORD Summer School 2020 on Downhole Logging for IODP Science
LOCATION:Leicester (UK) 
DESCRIPTION:“ECORD Summer School: Downhole Logging for IODP Science” focuses on the dow
 nhole-logging within the International Ocean Discovery Program (IODP) and t
 he applications of downhole measurements in various geoscientific fields, i
 ncluding paleoclimatology, sedimentology, and broader geological and ecolog
 ical processes.\n The “ECORD Summer School: Downhole Logging for IODP Scien
 ce” is a 1-week long CPD-accredited course offering 36 hours of training in
  the core principles of petrophysics and downhole-logging, from data collec
 tion to interpretation. The School will be hosted at the University of Leic
 ester (UK) and will run from the 4th July to the 10th of July 2020.\nThe co
 urse’s instructors are international experts from the IODP community, combi
 ning in class room learning with hands-on activities and group exercises. T
 he course also includes a local mid-week field trip to a local wireline log
 ging company and the British Geological Survey (BGS) core store. The summer
  school will wrap-up with fundamental teaching on industry standard softwar
 e package Schlumberger’s Techlog, which is commonly used on all IODP platfo
 rms. \nThe course cost is expected to be ~£180 (GBP). Applications will ope
 n on the 6th of January 2020 and close on the 14th of February 2020.\nFor m
 ore information please see the attached flyer, the summer school’s webpage 
 (https://www2.le.ac.uk/departments/geology/research/gbrg/projects/iodp/ecor
 d-summer-school-2020-downhole-logging-for-iodp-science) or email us under <
 a href="mailto:epc@le.ac.uk"></a>This email address is being protected from
  spambots. You need JavaScript enabled to view it.
				document.getElementB
 yId('cloakf42a4a6341993a0dc9558be97ffdcca4').innerHTML = '';
				var prefix
  = '&#109;a' + 'i&#108;' + '&#116;o';
				var path = 'hr' + 'ef' + '=';
			
 	var addyf42a4a6341993a0dc9558be97ffdcca4 = '&#101;pc' + '&#64;';
				addyf
 42a4a6341993a0dc9558be97ffdcca4 = addyf42a4a6341993a0dc9558be97ffdcca4 + 'l
 &#101;' + '&#46;' + '&#97;c' + '&#46;' + '&#117;k';
				var addy_textf42a4a
 6341993a0dc9558be97ffdcca4 = '&#101;pc' + '&#64;' + 'l&#101;' + '&#46;' + '
 &#97;c' + '&#46;' + '&#117;k';document.getElementById('cloakf42a4a6341993a0
 dc9558be97ffdcca4').innerHTML += '<a ' + path + '\'' + prefix + ':' + addyf
 42a4a6341993a0dc9558be97ffdcca4 + '\'>'+addy_textf42a4a6341993a0dc9558be97f
 fdcca4+'';
		. \n
X-ALT-DESC;FMTTYPE=text/html:<p><em>“ECORD Summer School: Downhole Logging for IODP Science”</em>&nbsp;f
 ocuses on the downhole-logging within the International Ocean Discovery Pro
 gram (IODP) and the applications of downhole measurements in various geosci
 entific fields, including paleoclimatology,&nbsp;sedimentology, and broader
  geological and ecological processes.</p><p>&nbsp;The “ECORD Summer School:
  Downhole Logging for IODP Science” is a 1-week long CPD-accredited course 
 offering 36 hours of training in the core principles of petrophysics and do
 wnhole-logging, from data collection to interpretation. The School will be 
 hosted at the University of Leicester (UK) and will run from the 4<sup>th</
 sup>&nbsp;July to the 10<sup>th</sup>&nbsp;of July 2020.</p><p>The course’s
  instructors are international experts from the IODP community, combining i
 n class room learning with hands-on activities and group exercises. The cou
 rse also includes a local mid-week field trip to a local wireline logging c
 ompany and the British Geological Survey (BGS) core store. The summer schoo
 l will wrap-up with fundamental teaching on industry standard software pack
 age Schlumberger’s Techlog, which is commonly used on all IODP platforms.&n
 bsp;</p><p>The course cost is expected to be ~£180 (GBP). Applications will
  open on the 6<sup>th</sup>&nbsp;of January 2020 and close on the 14<sup>th
 </sup>&nbsp;of February 2020.</p><p>For more information please see the att
 ached flyer, the&nbsp;<a href="https://www2.le.ac.uk/departments/geology/re
 search/gbrg/projects/iodp/ecord-summer-school-2020-downhole-logging-for-iod
 p-science" target="_blank" rel="noopener">summer school’s webpage</a>&nbsp;
 or email us under&nbsp;<span id="cloak242dc0f26d1b4be842220f724c9b817d"><a 
 href="mailto:epc@le.ac.uk"></a><span id="cloakf42a4a6341993a0dc9558be97ffdc
 ca4">This email address is being protected from spambots. You need JavaScri
 pt enabled to view it.</span><script type='text/javascript'>
				document.g
 etElementById('cloakf42a4a6341993a0dc9558be97ffdcca4').innerHTML = '';
				
 var prefix = '&#109;a' + 'i&#108;' + '&#116;o';
				var path = 'hr' + 'ef' 
 + '=';
				var addyf42a4a6341993a0dc9558be97ffdcca4 = '&#101;pc' + '&#64;';
 
				addyf42a4a6341993a0dc9558be97ffdcca4 = addyf42a4a6341993a0dc9558be97ff
 dcca4 + 'l&#101;' + '&#46;' + '&#97;c' + '&#46;' + '&#117;k';
				var addy_
 textf42a4a6341993a0dc9558be97ffdcca4 = '&#101;pc' + '&#64;' + 'l&#101;' + '
 &#46;' + '&#97;c' + '&#46;' + '&#117;k';document.getElementById('cloakf42a4
 a6341993a0dc9558be97ffdcca4').innerHTML += '<a ' + path + '\'' + prefix + '
 :' + addyf42a4a6341993a0dc9558be97ffdcca4 + '\'>'+addy_textf42a4a6341993a0d
 c9558be97ffdcca4+'<\/a>';
		</script></span>.&nbsp;</p>
DTSTAMP:20260422T225336Z
DTSTART;TZID=UTC;VALUE=DATE:20200704
DTEND;TZID=UTC;VALUE=DATE:20200711
SEQUENCE:0
TRANSP:OPAQUE
END:VEVENT
END:VCALENDAR