BEGIN:VCALENDAR
VERSION:2.0
PRODID:-//jEvents 2.0 for Joomla//EN
CALSCALE:GREGORIAN
METHOD:PUBLISH
BEGIN:VEVENT
UID:093ad25a81af47b439b7525be6ba06c2
CATEGORIES:APECS Events
CREATED:20200121T105140
SUMMARY:APECS events during Arctic Frontiers 2020
LOCATION:Tromsø\, Norway
DESCRIPTION:During January 26 – 30, the 14th Arctic Frontiers (https://www.arcticfronti
 ers.com/) conference is held in Tromsø, Norway. The annual conference is an
  international event, linking policy makers, industry and academia focusing
  on the Arctic regions. This year, the APECS Arctic Frontiers organising te
 am has prepared the following activities and events for you:\nTuesday  28/0
 1   \n16:00 – 19:00 MAIN poster session with evaluation for the Nansen post
 er awards\n19:00 – 23:00 Networking Night, registration is required\nWednes
 day  29/01   \n15:00 – 18:00 Poster session\nOn Tuesday, January 28 from 19
 :00, we invite the participants of the Arctic Frontiers Student Forum, ARCT
 OS Workshop and other early career researchers that are registered for the 
 conference to the Networking Night. \nWe invite you for a social evening an
 d cultural experience at the Planetariet and the Sami cultural house Árdna,
  which are both located at the campus of UiT - The Arctic University of Nor
 way.\n20:00-21:00: At Planetariet, we watch Ole Christian Salomonsen's movi
 e "Extreme Auroras" that captures the most spectacular northern lights that
  were observed around Tromsø over a period of five years. The movie is 28 m
 inutes long.\n21:00-23:00 Then, we move to Árdna where a cosy atmosphere wi
 th a campfire invites us to relax and get to know about our Arctic experien
 ces through Polar Bingo. Evening snacks/finger food will be provided.\n** P
 lease note: For this event, capacity is limited. Therefore, we ask you to r
 egister as soon as possible, and no later than January 23, GMT 12 pm. **\nT
 o register, please follow this link: <a href="https://forms.gle/m68cTPzz6tv
 KwCX26"></a> (https://forms.gle/m68cTPzz6tvKwCX26)<a href="https://forms.gl
 e/m68cTPzz6tvKwCX26">https://forms.gle/m68cTPzz6tvKwCX26</a>\n
X-ALT-DESC;FMTTYPE=text/html:<p>During January 26 – 30, the 14th&nbsp;<a href="https://www.arcticfrontie
 rs.com/">Arctic Frontiers</a>&nbsp;conference is held in Tromsø, Norway. Th
 e annual conference is an international event, linking policy makers, indus
 try and academia focusing on the Arctic regions. This year, the APECS Arcti
 c Frontiers organising team has prepared the following activities and event
 s for you:</p><p><strong>Tuesday&nbsp; 28/01&nbsp;&nbsp;</strong>&nbsp;</p>
 <p><strong>16:00 – 19:00 MAIN poster session</strong>&nbsp;with evaluation 
 for the Nansen poster awards</p><p><strong>19:00 – 23:00 Networking Night</
 strong>, registration is required</p><p><strong>Wednesday&nbsp; 29/01</stro
 ng>&nbsp;&nbsp;&nbsp;</p><p>15:00 – 18:00 Poster session</p><p>On Tuesday, 
 January 28 from 19:00, we invite the participants of the Arctic Frontiers S
 tudent Forum, ARCTOS Workshop and other early career researchers that are r
 egistered for the conference to the Networking Night.&nbsp;</p><p>We invite
  you for a social evening and cultural experience at the Planetariet and th
 e Sami cultural house Árdna, which are both located at the campus of UiT - 
 The Arctic University of Norway.</p><p>20:00-21:00: At Planetariet, we watc
 h Ole Christian Salomonsen's movie "Extreme Auroras" that captures the most
  spectacular northern lights that were observed around Tromsø over a period
  of five years. The movie is 28 minutes long.</p><p>21:00-23:00 Then, we mo
 ve to Árdna where a cosy atmosphere with a campfire invites us to relax and
  get to know about our Arctic experiences through Polar Bingo. Evening snac
 ks/finger food will be provided.</p><p>** Please note: For this event, capa
 city is limited. Therefore, we ask you to register as soon as possible, and
  no later than January 23, GMT 12 pm. **</p><p>To register, please follow t
 his link:&nbsp;<a href="https://forms.gle/m68cTPzz6tvKwCX26"></a><a href="h
 ttps://forms.gle/m68cTPzz6tvKwCX26"></a><a href="https://forms.gle/m68cTPzz
 6tvKwCX26">https://forms.gle/m68cTPzz6tvKwCX26</a></p>
DTSTAMP:20260422T011557Z
DTSTART;TZID=UTC;VALUE=DATE:20200128
DTEND;TZID=UTC;VALUE=DATE:20200130
SEQUENCE:0
TRANSP:OPAQUE
END:VEVENT
END:VCALENDAR