BEGIN:VCALENDAR
VERSION:2.0
PRODID:-//jEvents 2.0 for Joomla//EN
CALSCALE:GREGORIAN
METHOD:PUBLISH
BEGIN:VEVENT
UID:1833bc46388dcf73c5d29c3202234684
CATEGORIES:Polar Conferences, Meetings and Events
CREATED:20200110T095812
SUMMARY:50th Annual International Arctic Workshop - postponed
LOCATION:Boulder\, Colorado
DESCRIPTION:Workshop postponed due to COVID-19 concerns. \nNew date: August 30 - Septem
 ber 01, 2020. Please visit the event website for additional information.\nT
 he Arctic Workshop is open to all interested in high latitude environments,
  including those of the past, present, and future. Talks and posters on all
  aspects of high latitude science, social science, and engineering are invi
 ted, including climate, anthropology, atmospheric chemistry, engineering an
 d infrastructure, environmental geochemistry, paleoenvironment, sociology, 
 archeology, geomorphology, hydrology, glaciology, soils, ecology, oceanogra
 phy, Quaternary history and more.  If you are studying high latitudes, this
  is the conference for you.\nDeadline for Registration and Abstracts: 13 Ma
 rch 2020\nMore information: https://instaar.colorado.edu/meetings/AW2020/ab
 out/index.html\n
X-ALT-DESC;FMTTYPE=text/html:<p><strong>Workshop postponed due to COVID-19 concerns.</strong> <br /><str
 ong>New date: August 30 - September 01, 2020. Please visit the event websit
 e for additional information.</strong></p><p>The Arctic Workshop is open to
  all interested in high latitude environments, including those of the past,
  present, and future. Talks and posters on all aspects of high latitude sci
 ence, social science, and engineering are invited, including climate, anthr
 opology, atmospheric chemistry, engineering and infrastructure, environment
 al geochemistry, paleoenvironment, sociology, archeology, geomorphology, hy
 drology, glaciology, soils, ecology, oceanography, Quaternary history and m
 ore. &nbsp;If you are studying high latitudes, this is the conference for y
 ou.</p><p>Deadline for Registration and Abstracts: <strong>13 March 2020</s
 trong></p><p>More information:&nbsp;<a href="https://instaar.colorado.edu/m
 eetings/AW2020/about/index.html">https://instaar.colorado.edu/meetings/AW20
 20/about/index.html</a></p>
CONTACT:This email address is being protected from spambots. You need JavaScript enabled to view it.
				document.getElementById('cloak2639fbd3a84e3ccd084777bebf8895bb').innerHTML = '';
				var prefix = '&#109;a' + 'i&#108;' + '&#116;o';
				var path = 'hr' + 'ef' + '=';
				var addy2639fbd3a84e3ccd084777bebf8895bb = 'Arct&#105;cWS' + '&#64;';
				addy2639fbd3a84e3ccd084777bebf8895bb = addy2639fbd3a84e3ccd084777bebf8895bb + 'c&#111;l&#111;r&#97;d&#111;' + '&#46;' + '&#101;d&#117;';
				var addy_text2639fbd3a84e3ccd084777bebf8895bb = 'Arct&#105;cWS' + '&#64;' + 'c&#111;l&#111;r&#97;d&#111;' + '&#46;' + '&#101;d&#117;';document.getElementById('cloak2639fbd3a84e3ccd084777bebf8895bb').innerHTML += '<a ' + path + '\'' + prefix + ':' + addy2639fbd3a84e3ccd084777bebf8895bb + '\'>'+addy_text2639fbd3a84e3ccd084777bebf8895bb+'';
		
DTSTAMP:20260425T133623Z
DTSTART;TZID=UTC;VALUE=DATE:20200402
DTEND;TZID=UTC;VALUE=DATE:20200405
SEQUENCE:0
TRANSP:OPAQUE
END:VEVENT
END:VCALENDAR