BEGIN:VCALENDAR
VERSION:2.0
PRODID:-//jEvents 2.0 for Joomla//EN
CALSCALE:GREGORIAN
METHOD:PUBLISH
BEGIN:VEVENT
UID:68524db949f72703f14c583bc095cf3e
CATEGORIES:Polar Conferences, Meetings and Events
CREATED:20200110T095450
SUMMARY:British Society for Geomorphology Annual Meeting - postponed until September 2021
LOCATION:Newcastle upon Tyne\, UK
DESCRIPTION:With regret, we have postponed this year’s Annual Meeting of the British So
 ciety for Geomorphology until September 2021.\n \nThe Department of Geograp
 hy and Environmental Sciences at Northumbria University will host the 2020 
 edition of the British Society for Geomorphology’s (BSG) Annual Meeting.\nT
 he BSG is the professional British organisation for geomorphologists. Its p
 rimary remit is to advance the science of geomorphology, as well as providi
 ng a community and services for those involved in teaching, research or pra
 ctice in geomorphology.\nThe Society’s Annual Meeting is an international o
 pen conference with the purpose of stimulating debate on new developments a
 nd advances in all aspects of geomorphology. It is a forum for emerging app
 roaches to solve key challenges in pure and applied geomorphology and relat
 ed fields.\nFurther information will be circulated in Spring 2020, closely 
 followed by a formal call for abstracts. The anticipated abstract deadline 
 and notification of acceptance will be in July 2020.\nFor further informati
 on about the Society, check out the official website (https://www.geomorpho
 logy.org.uk/). \n
X-ALT-DESC;FMTTYPE=text/html:<p>With regret, we have postponed this year’s Annual Meeting of the British
  Society for Geomorphology until September 2021.</p><p>&nbsp;</p><p>The Dep
 artment of Geography and Environmental Sciences at Northumbria University w
 ill host the 2020 edition of the British Society for Geomorphology’s (BSG) 
 Annual Meeting.</p><p>The BSG is the professional British organisation for 
 geomorphologists. Its primary remit is to advance the science of geomorphol
 ogy, as well as providing a community and services for those involved in te
 aching, research or practice in geomorphology.</p><p>The Society’s Annual M
 eeting is an international open conference with the purpose of stimulating 
 debate on new developments and advances in all aspects of geomorphology. It
  is a forum for emerging approaches to solve key challenges in pure and app
 lied geomorphology and related fields.</p><p>Further information will be ci
 rculated in Spring 2020, closely followed by a formal call for abstracts. T
 he anticipated abstract deadline and notification of acceptance will be in 
 July 2020.</p><p>For further information about the Society, check out&nbsp;
 <a href="https://www.geomorphology.org.uk/">the official website</a>.&nbsp;
 </p>
DTSTAMP:20260422T050237Z
DTSTART;TZID=UTC;VALUE=DATE:20200907
DTEND;TZID=UTC;VALUE=DATE:20200910
SEQUENCE:0
TRANSP:OPAQUE
END:VEVENT
END:VCALENDAR