BEGIN:VCALENDAR
VERSION:2.0
PRODID:-//jEvents 2.0 for Joomla//EN
CALSCALE:GREGORIAN
METHOD:PUBLISH
BEGIN:VEVENT
UID:aa4e670d46399df3bdeede703feb0290
CATEGORIES:Polar Conferences, Meetings and Events
CREATED:20200110T095006
SUMMARY:Eastern Snow Conference 2020 - postponed
LOCATION:Toronto\, Ontario\, Canada
DESCRIPTION:Based on current national/local guidance for the COVID-19 virus and the unc
 ertainty of travel restrictions this summer for both Canada and the United 
 States, the ESC Steering Committee has decided to postpone the 77th ESC. Th
 e organisers anticipate the ESC Meeting will be at the same host location (
 York University, Toronto, Canada) and approximately the same timing (early 
 June 2021). Please keep an eye on the event website for updates.\n \nThe 77
 th Eastern Snow Conference (ESC) marks a return to Canada after a two-year 
 hiatus, and a return to Toronto for the first time in a quarter of a centur
 y. The scientific program is open to sessions on theoretical, experimental,
  remote sensing, modeling, and operational studies of snow, ice, and winter
  hydrology. We anticipate including sessions on a wide variety of snow and 
 ice themes, including in situ observations of snow, radar measurement of sn
 ow, and high latitude snow processes.\nAbstract deadline: 31 March 2020\nEa
 rly bird registration deadline: 15 April 2020\nApplication deadline for the
  Wiesnet and Campbell awards 1 May 2020. \nSee calls here: https://static1.
 squarespace.com/static/58b98f7bd1758e4cc271d365/t/5de6b95c18b97b7638cbfd75/
 1575401820434/ESC2020.pdf\nConference information on registration and accom
 modations will be forthcoming and will be posted on the ESC website: <a hre
 f="https://www.easternsnow.org/"></a>https://www.easternsnow.org\n
X-ALT-DESC;FMTTYPE=text/html:<p>Based on current national/local guidance for the COVID-19 virus and the 
 uncertainty of travel restrictions this summer for both Canada and the Unit
 ed States, the ESC Steering Committee has decided to postpone the 77th ESC.
  The organisers anticipate the ESC Meeting will be at the same host locatio
 n (York University, Toronto, Canada) and approximately the same timing (ear
 ly June 2021). Please keep an eye on the event website for updates.</p><p>&
 nbsp;</p><p>The 77<sup>th</sup>&nbsp;Eastern Snow Conference (ESC) marks a 
 return to Canada after a two-year hiatus, and a return to Toronto for the f
 irst time in a quarter of a century.&nbsp;The scientific program is open to
  sessions on theoretical, experimental, remote sensing, modeling, and opera
 tional studies of snow, ice, and winter hydrology. We anticipate including 
 sessions on a wide variety of snow and ice themes, including&nbsp;<em>in si
 tu</em>&nbsp;observations of snow, radar measurement of snow, and high lati
 tude snow processes.</p><p>Abstract deadline:&nbsp;<strong>31 March 2020</s
 trong></p><p>Early bird registration deadline: <strong>15 April 2020</stron
 g></p><p>Application deadline for the Wiesnet and Campbell awards&nbsp;<str
 ong>1 May 2020</strong>.&nbsp;</p><p>See calls here: <a href="https://stati
 c1.squarespace.com/static/58b98f7bd1758e4cc271d365/t/5de6b95c18b97b7638cbfd
 75/1575401820434/ESC2020.pdf">https://static1.squarespace.com/static/58b98f
 7bd1758e4cc271d365/t/5de6b95c18b97b7638cbfd75/1575401820434/ESC2020.pdf</a>
 </p><p>Conference information on registration and accommodations will be fo
 rthcoming and will be posted on the ESC website:&nbsp;<a href="https://www.
 easternsnow.org/"></a><a href="https://www.easternsnow.org">https://www.eas
 ternsnow.org</a></p>
DTSTAMP:20260425T232101Z
DTSTART;TZID=UTC;VALUE=DATE:20200609
DTEND;TZID=UTC;VALUE=DATE:20200612
SEQUENCE:0
TRANSP:OPAQUE
END:VEVENT
END:VCALENDAR