BEGIN:VCALENDAR
VERSION:2.0
PRODID:-//jEvents 2.0 for Joomla//EN
CALSCALE:GREGORIAN
METHOD:PUBLISH
BEGIN:VEVENT
UID:803e58961c1da683c8059d8d5c6aaf0e
CATEGORIES:Polar Conferences, Meetings and Events
CREATED:20200110T094119
SUMMARY:34th Forum for Research into Ice Shelf Processes (FRISP 2020) - online 
LOCATION:Berlin\, Germany
DESCRIPTION:We are happy to announce that the 34th Forum for Research into Ice Shelf Pr
 ocesses (FRISP) will take place, in the form of a virtual workshop. We are 
 very excited to try out this new format, and hope you are too! For details 
 on the agenda, registration (without fee) and submitting your abstract see 
 the FRISP 2020 website (https://eveeno.com/virtualfrisp2020). Registration 
 and abstract submission closes on 31 May 2020. We will send out a detailed 
 schedule and information on the online format soon thereafter. \n \nWe plan
  four sessions (each session will last about 3 hours) on the following date
 s:\n     16.06 (Tuesday),  2pm CET\n     17.06 (Wednesday),  8am CET\n     
 24.06 (Wednesday),  5pm CET\n     25.06 (Thursday),  10am CET\n \n The plan
  is to host these meetings at alternating times during the week so that we 
 can accommodate as many people as possible, given different time zones etc.
  \n \n For those of you who have already registered and booked accommodatio
 n at the Döllnsee, your registration fee has been refunded - if any issues 
 arise, please contact us as <a href="mailto:frisp2020@pik-potsdam.de" targe
 t="_blank"></a>This email address is being protected from spambots. You nee
 d JavaScript enabled to view it.
				document.getElementById('cloak91d0ee2c
 9a6d66d61724e6afff57188c').innerHTML = '';
				var prefix = '&#109;a' + 'i&
 #108;' + '&#116;o';
				var path = 'hr' + 'ef' + '=';
				var addy91d0ee2c9
 a6d66d61724e6afff57188c = 'fr&#105;sp2020' + '&#64;';
				addy91d0ee2c9a6d6
 6d61724e6afff57188c = addy91d0ee2c9a6d66d61724e6afff57188c + 'p&#105;k-p&#1
 11;tsd&#97;m' + '&#46;' + 'd&#101;';
				var addy_text91d0ee2c9a6d66d61724e
 6afff57188c = 'fr&#105;sp2020' + '&#64;' + 'p&#105;k-p&#111;tsd&#97;m' + '&
 #46;' + 'd&#101;';document.getElementById('cloak91d0ee2c9a6d66d61724e6afff5
 7188c').innerHTML += '<a ' + path + '\'' + prefix + ':' + addy91d0ee2c9a6d6
 6d61724e6afff57188c + '\'>'+addy_text91d0ee2c9a6d66d61724e6afff57188c+'';
	
 	. We also kindly ask you to register again for the virtual meeting so we c
 an make sure to include everyone in the workshop.\n \n Please direct any qu
 estions about FRISP to  (mailto:frisp2020@pik-potsdam.de)This email address
  is being protected from spambots. You need JavaScript enabled to view it.

 				document.getElementById('cloakdc787600fe5703dafc1e359a1ba29326').innerH
 TML = '';
				var prefix = '&#109;a' + 'i&#108;' + '&#116;o';
				var path 
 = 'hr' + 'ef' + '=';
				var addydc787600fe5703dafc1e359a1ba29326 = 'fr&#10
 5;sp2020' + '&#64;';
				addydc787600fe5703dafc1e359a1ba29326 = addydc78760
 0fe5703dafc1e359a1ba29326 + 'p&#105;k-p&#111;tsd&#97;m' + '&#46;' + 'd&#101
 ;';
				var addy_textdc787600fe5703dafc1e359a1ba29326 = 'fr&#105;sp2020' + 
 '&#64;' + 'p&#105;k-p&#111;tsd&#97;m' + '&#46;' + 'd&#101;';document.getEle
 mentById('cloakdc787600fe5703dafc1e359a1ba29326').innerHTML += '<a ' + path
  + '\'' + prefix + ':' + addydc787600fe5703dafc1e359a1ba29326 + '\'>'+addy_
 textdc787600fe5703dafc1e359a1ba29326+'';
		. \n \n Looking forward to seein
 g many of you online!\n \n Until then, stay healthy and best wishes,\n Ronj
 a, Torsten and Ricarda\n \n \n \nFRISP is an annual meeting to share resear
 ch related to ice shelves, and their interactions with the ice sheet, ocean
 , and atmosphere. It is an Expert Group of the <a href="https://www.scar.or
 g/" target="_blank" rel="noopener" data-cke-saved-href="https://www.scar.or
 g/">Scientific Committee on Antarctic Research (SCAR)</a>, and has organise
 d regular meetings in Europe since 1984 (https://folk.uib.no/ngfso/FRISP/).
  FRISP is an appropriate meeting to present work in progress and discuss em
 erging research ideas, and is well-suited to early career researchers as we
 ll as senior scientists.\nRegistration deadline: March 15th\nAbstract submi
 ssion deadline: April 15th\nRegister and submit your abstract through the l
 inks on the FRISP 2020 website: <a href="https://eveeno.com/frisp2020" targ
 et="_blank" rel="noopener" moz-do-not-send="true"></a>https://eveeno.com/fr
 isp2020 \n\n\n\n
X-ALT-DESC;FMTTYPE=text/html:<p>We are happy to announce that the <strong>34th Forum for Research into I
 ce Shelf Processes (FRISP)</strong> will take place, in the form of a virtu
 al workshop. We are very excited to try out this new format, and hope you a
 re too! For details on the agenda, registration (without fee) and submittin
 g your abstract see the <strong><a href="https://eveeno.com/virtualfrisp202
 0">FRISP 2020 website</a>. </strong>Registration and abstract submission cl
 oses on <strong>31 May 2020. </strong>We will send out a detailed schedule 
 and information on the online format soon thereafter.<strong> </strong><br 
 /> </p><p>We plan four sessions (each session will last about 3 hours) on t
 he following dates:<br />     16.06 (Tuesday),  2pm CET<br />     17.06 (We
 dnesday),  8am CET<br />     24.06 (Wednesday),  5pm CET<br />     25.06 (T
 hursday),  10am CET<br /> <br /> The plan is to host these meetings at alte
 rnating times during the week so that we can accommodate as many people as 
 possible, given different time zones etc. <br /> <br /> For those of you wh
 o have already registered and booked accommodation at the Döllnsee, your re
 gistration fee has been refunded - if any issues arise, please contact us a
 s <a href="mailto:frisp2020@pik-potsdam.de" target="_blank"></a><span id="c
 loak91d0ee2c9a6d66d61724e6afff57188c">This email address is being protected
  from spambots. You need JavaScript enabled to view it.</span><script type=
 'text/javascript'>
				document.getElementById('cloak91d0ee2c9a6d66d61724e6
 afff57188c').innerHTML = '';
				var prefix = '&#109;a' + 'i&#108;' + '&#11
 6;o';
				var path = 'hr' + 'ef' + '=';
				var addy91d0ee2c9a6d66d61724e6a
 fff57188c = 'fr&#105;sp2020' + '&#64;';
				addy91d0ee2c9a6d66d61724e6afff5
 7188c = addy91d0ee2c9a6d66d61724e6afff57188c + 'p&#105;k-p&#111;tsd&#97;m' 
 + '&#46;' + 'd&#101;';
				var addy_text91d0ee2c9a6d66d61724e6afff57188c = 
 'fr&#105;sp2020' + '&#64;' + 'p&#105;k-p&#111;tsd&#97;m' + '&#46;' + 'd&#10
 1;';document.getElementById('cloak91d0ee2c9a6d66d61724e6afff57188c').innerH
 TML += '<a ' + path + '\'' + prefix + ':' + addy91d0ee2c9a6d66d61724e6afff5
 7188c + '\'>'+addy_text91d0ee2c9a6d66d61724e6afff57188c+'<\/a>';
		</script
 >. We also kindly ask you to register again for the virtual meeting so we c
 an make sure to include everyone in the workshop.<br /> <br /> Please direc
 t any questions about FRISP to <a href="mailto:frisp2020@pik-potsdam.de" ta
 rget="_blank"></a><span id="cloakdc787600fe5703dafc1e359a1ba29326">This ema
 il address is being protected from spambots. You need JavaScript enabled to
  view it.</span><script type='text/javascript'>
				document.getElementById
 ('cloakdc787600fe5703dafc1e359a1ba29326').innerHTML = '';
				var prefix = 
 '&#109;a' + 'i&#108;' + '&#116;o';
				var path = 'hr' + 'ef' + '=';
				va
 r addydc787600fe5703dafc1e359a1ba29326 = 'fr&#105;sp2020' + '&#64;';
				ad
 dydc787600fe5703dafc1e359a1ba29326 = addydc787600fe5703dafc1e359a1ba29326 +
  'p&#105;k-p&#111;tsd&#97;m' + '&#46;' + 'd&#101;';
				var addy_textdc7876
 00fe5703dafc1e359a1ba29326 = 'fr&#105;sp2020' + '&#64;' + 'p&#105;k-p&#111;
 tsd&#97;m' + '&#46;' + 'd&#101;';document.getElementById('cloakdc787600fe57
 03dafc1e359a1ba29326').innerHTML += '<a ' + path + '\'' + prefix + ':' + ad
 dydc787600fe5703dafc1e359a1ba29326 + '\'>'+addy_textdc787600fe5703dafc1e359
 a1ba29326+'<\/a>';
		</script>. <br /> <br /> Looking forward to seeing man
 y of you online!<br /> <br /> Until then, stay healthy and best wishes,<br 
 /> Ronja, Torsten and Ricarda</p><p> </p><p> </p><p> </p><p>FRISP is an ann
 ual meeting to share research related to ice shelves, and their interaction
 s with the ice sheet, ocean, and atmosphere. It is an Expert Group of the <
 a href="https://www.scar.org/" target="_blank" rel="noopener" data-cke-save
 d-href="https://www.scar.org/">Scientific Committee on Antarctic Research (
 SCAR)</a>, and has organised <a href="https://folk.uib.no/ngfso/FRISP/" tar
 get="_blank" rel="noopener" data-cke-saved-href="https://folk.uib.no/ngfso/
 FRISP/">regular meetings in Europe since 1984</a>. FRISP is an appropriate 
 meeting to present work in progress and discuss emerging research ideas, an
 d is well-suited to early career researchers as well as senior scientists.<
 /p><p>Registration deadline: March 15<sup>th</sup></p><p>Abstract submissio
 n deadline: April 15<sup>th</sup></p><p>Register and submit your abstract t
 hrough the links on the FRISP 2020 website: <a href="https://eveeno.com/fri
 sp2020" target="_blank" rel="noopener" moz-do-not-send="true"></a><a href="
 https://eveeno.com/frisp2020">https://eveeno.com/frisp2020</a> <br /><br />
 <br /></p>
CONTACT:Please direct any questions about FRISP to This email address is being protected from spambots. You need JavaScript enabled to view it.
				document.getElementById('cloak75887e176f3b1f8836904264ccffed1b').innerHTML = '';
				var prefix = '&#109;a' + 'i&#108;' + '&#116;o';
				var path = 'hr' + 'ef' + '=';
				var addy75887e176f3b1f8836904264ccffed1b = 'fr&#105;sp2020' + '&#64;';
				addy75887e176f3b1f8836904264ccffed1b = addy75887e176f3b1f8836904264ccffed1b + 'p&#105;k-p&#111;tsd&#97;m' + '&#46;' + 'd&#101;';
				var addy_text75887e176f3b1f8836904264ccffed1b = 'fr&#105;sp2020' + '&#64;' + 'p&#105;k-p&#111;tsd&#97;m' + '&#46;' + 'd&#101;';document.getElementById('cloak75887e176f3b1f8836904264ccffed1b').innerHTML += '<a ' + path + '\'' + prefix + ':' + addy75887e176f3b1f8836904264ccffed1b + '\'>'+addy_text75887e176f3b1f8836904264ccffed1b+'';
		
DTSTAMP:20260423T145735Z
DTSTART;TZID=UTC;VALUE=DATE:20200616
DTEND;TZID=UTC;VALUE=DATE:20200618
SEQUENCE:0
TRANSP:OPAQUE
END:VEVENT
END:VCALENDAR