BEGIN:VCALENDAR
VERSION:2.0
PRODID:-//jEvents 2.0 for Joomla//EN
CALSCALE:GREGORIAN
METHOD:PUBLISH
BEGIN:VEVENT
UID:12b55e48857d43d798ee33ad24ee9ca6
CATEGORIES:Polar Conferences, Meetings and Events
CREATED:20200110T093845
SUMMARY:III Annual Meeting SOCHICRI 2020 - postponed to October 7-9 2020
LOCATION:Concepción\, Chile
DESCRIPTION:The SOCHICRI meeting is postponed to October 7-9 2020, please visit the eve
 nt website for additional information.\n \nThe Chilean Cryosphere Society (
 SOCHICRI) invites researchers, professionals and students from Chile and ab
 road to participate in the annual meeting for 2020. This will be held in Co
 ncepción from 13 – 15 May 2020 and will be organised by the Departments of 
 Geography and Geophysics, University of Concepción.\nTo participate as a pr
 esenter, we invite you to send your abstract via the online form:  (https:/
 /forms.gle/9NLTW4kJGnDt5KM56)<a href="https://forms.gle/9NLTW4kJGnDt5KM56">
 https://forms.gle/9NLTW4kJGnDt5KM56</a>. Your contribution can focus on any
  part of the cryosphere, and can include field- or theory-based studies, re
 mote sensing, simulations, legal frameworks, impact and/or risk analyses, w
 ater resource assessments and others. Please follow the instructions on the
  online form to register for the conference and to signal your preferred pr
 esentation format (oral or poster). The closing date for abstracts is 15 ma
 rch 2020.\nAt this meeting we will offer practical workshops during the aft
 ernoon of Thursday 14 May. We invite all those interested in leading a work
 shop focused on methods or themes related to the cryosphere to send us your
  general idea as soon as possible ( (mailto:sochcri@gmail.com)This email ad
 dress is being protected from spambots. You need JavaScript enabled to view
  it.
				document.getElementById('cloakca35f180e1165119cbc3ad3212122304').i
 nnerHTML = '';
				var prefix = '&#109;a' + 'i&#108;' + '&#116;o';
				var 
 path = 'hr' + 'ef' + '=';
				var addyca35f180e1165119cbc3ad3212122304 = 's
 &#111;chcr&#105;' + '&#64;';
				addyca35f180e1165119cbc3ad3212122304 = add
 yca35f180e1165119cbc3ad3212122304 + 'gm&#97;&#105;l' + '&#46;' + 'c&#111;m'
 ;
				var addy_textca35f180e1165119cbc3ad3212122304 = 's&#111;chcr&#105;' +
  '&#64;' + 'gm&#97;&#105;l' + '&#46;' + 'c&#111;m';document.getElementById(
 'cloakca35f180e1165119cbc3ad3212122304').innerHTML += '<a ' + path + '\'' +
  prefix + ':' + addyca35f180e1165119cbc3ad3212122304 + '\'>'+addy_textca35f
 180e1165119cbc3ad3212122304+'';
		). In addition, we will hold a round-tabl
 e conversation entitled ‘Cryo-ciencia, cryo-activism and social transformat
 ion’ where researchers, NGO representatives and other interested parties wi
 ll meet to discuss and design new research strategies to more closely assoc
 iate cryosphere science with societal needs. Those interested in taking par
 t can also register in the online form.\nThe registration period will be op
 en from 1 January to 10 April with the early bird rates of $22.000 (student
 s) and $32.000 (professionals). After 10 April, the rates will increase to 
 $32.000 (students) and $42.000 (professionals).\nFinally, at the end of the
  main conference programme, on Friday 15 May there will be a field trip to 
 visit the Chillán Volcano. This activity will be charged independently from
  the main conference, and will be $30.000 for all participants. This trip w
 ill only go ahead if more than 25 people register.\nThanks to a generous su
 pport provided by the International Association of Cryospheric Sciences (IA
 CS), the SOCHICRI is able to offer 3 travel scholarships for graduate stude
 nts whose programme belongs to a higher education institution of Latin Amer
 ica. To apply, please fill the form (downloable here: <a class="" style="fo
 nt-family: inherit; font-size: 1rem;" href="http://www.mgsg.udec.cl/Formula
 rio_postulacion_2020.docx" target="_blank" rel="noopener"></a>http://www.mg
 sg.udec.cl/Formulario_postulacion_2020.docx) before March 31st.\nFind more 
 information here: <a href="http://sochicri.cl/index.html">http://sochicri.c
 l/index.html</a>\n
X-ALT-DESC;FMTTYPE=text/html:<p><strong>The SOCHICRI meeting is postponed to October 7-9 2020, please vi
 sit the event website for additional information.</strong></p><p>&nbsp;</p>
 <p>The Chilean Cryosphere Society (SOCHICRI) invites researchers, professio
 nals and students from Chile and abroad to participate in the annual meetin
 g for 2020. This will be held in Concepción from 13 – 15 May 2020 and will 
 be organised by the Departments of Geography and Geophysics, University of 
 Concepción.</p><p>To participate as a presenter, we invite you to send your
  abstract via the online form:&nbsp;<a href="https://forms.gle/9NLTW4kJGnDt
 5KM56"></a><a href="https://forms.gle/9NLTW4kJGnDt5KM56">https://forms.gle/
 9NLTW4kJGnDt5KM56</a>. Your contribution can focus on any part of the cryos
 phere, and can include field- or theory-based studies, remote sensing, simu
 lations, legal frameworks, impact and/or risk analyses, water resource asse
 ssments and others. Please follow the instructions on the online form to re
 gister for the conference and to signal your preferred presentation format 
 (oral or poster). The <strong>closing date for abstracts is 15 march 2020</
 strong>.</p><p>At this meeting we will offer practical <strong>workshops du
 ring the afternoon of Thursday 14 May</strong>. We invite all those interes
 ted in leading a workshop focused on methods or themes related to the cryos
 phere to send us your general idea as soon as possible (<a href="mailto:soc
 hcri@gmail.com"></a><span id="cloakca35f180e1165119cbc3ad3212122304">This e
 mail address is being protected from spambots. You need JavaScript enabled 
 to view it.</span><script type='text/javascript'>
				document.getElementBy
 Id('cloakca35f180e1165119cbc3ad3212122304').innerHTML = '';
				var prefix 
 = '&#109;a' + 'i&#108;' + '&#116;o';
				var path = 'hr' + 'ef' + '=';
				
 var addyca35f180e1165119cbc3ad3212122304 = 's&#111;chcr&#105;' + '&#64;';
	
 			addyca35f180e1165119cbc3ad3212122304 = addyca35f180e1165119cbc3ad3212122
 304 + 'gm&#97;&#105;l' + '&#46;' + 'c&#111;m';
				var addy_textca35f180e11
 65119cbc3ad3212122304 = 's&#111;chcr&#105;' + '&#64;' + 'gm&#97;&#105;l' + 
 '&#46;' + 'c&#111;m';document.getElementById('cloakca35f180e1165119cbc3ad32
 12122304').innerHTML += '<a ' + path + '\'' + prefix + ':' + addyca35f180e1
 165119cbc3ad3212122304 + '\'>'+addy_textca35f180e1165119cbc3ad3212122304+'<
 \/a>';
		</script>). In addition, we will hold a round-table conversation e
 ntitled ‘Cryo-ciencia, cryo-activism and social transformation’ where resea
 rchers, NGO representatives and other interested parties will meet to discu
 ss and design new research strategies to more closely associate cryosphere 
 science with societal needs. Those interested in taking part can also regis
 ter in the online form.</p><p>The <strong>registration period will be open 
 from 1 January to 10 April</strong> with the early bird rates of $22.000 (s
 tudents) and $32.000 (professionals). After 10 April, the rates will increa
 se to $32.000 (students) and $42.000 (professionals).</p><p>Finally, at the
  end of the main conference programme, on <strong>Friday 15 May there will 
 be a field trip to visit the Chillán Volcano</strong>. This activity will b
 e charged independently from the main conference, and will be $30.000 for a
 ll participants. This trip will only go ahead if more than 25 people regist
 er.</p><p>Thanks to a generous&nbsp;<strong class="" style="color: inherit;
  font-family: inherit; font-size: 1rem; caret-color: auto;">support provide
 d</strong>&nbsp;by the&nbsp;<em class="" style="color: inherit; font-family
 : inherit; font-size: 1rem; caret-color: auto;"><strong class="">Internatio
 nal Association of Cryospheric Sciences</strong></em>&nbsp;<strong class=""
  style="color: inherit; font-family: inherit; font-size: 1rem; caret-color:
  auto;">(IACS)</strong>, the SOCHICRI is able to offer&nbsp;<strong class="
 " style="color: inherit; font-family: inherit; font-size: 1rem; caret-color
 : auto;">3 travel scholarships for graduate students</strong>&nbsp;whose pr
 ogramme belongs to a higher education institution&nbsp;<strong class="" sty
 le="color: inherit; font-family: inherit; font-size: 1rem; caret-color: aut
 o;">of Latin America</strong>. To apply, please&nbsp;<span style="text-deco
 ration: underline;">fill the form</span>&nbsp;(downloable here:&nbsp;<a cla
 ss="" style="font-family: inherit; font-size: 1rem;" href="http://www.mgsg.
 udec.cl/Formulario_postulacion_2020.docx" target="_blank" rel="noopener"></
 a><a style="font-family: inherit; font-size: 1rem;" href="http://www.mgsg.u
 dec.cl/Formulario_postulacion_2020.docx">http://www.mgsg.udec.cl/Formulario
 _postulacion_2020.docx</a>)&nbsp;<strong><span style="color: inherit; font-
 family: inherit; font-size: 1rem; caret-color: auto; text-decoration: under
 line;">before March 31st.</span></strong></p><p>Find more information here:
 &nbsp;<a href="http://sochicri.cl/index.html">http://sochicri.cl/index.html
 </a></p>
DTSTAMP:20260421T200643Z
DTSTART;TZID=UTC;VALUE=DATE:20200513
DTEND;TZID=UTC;VALUE=DATE:20200516
SEQUENCE:0
TRANSP:OPAQUE
END:VEVENT
END:VCALENDAR