BEGIN:VCALENDAR
VERSION:2.0
PRODID:-//jEvents 2.0 for Joomla//EN
CALSCALE:GREGORIAN
METHOD:PUBLISH
BEGIN:VEVENT
UID:53443de8a47d9e5f2bea456b4254b935
CATEGORIES:Polar Conferences, Meetings and Events
CREATED:20160923T111946
SUMMARY:Workshop for Quantarctica at Nordic Branch of the IGS Meeting
LOCATION:Tromsø\, Norway 
DESCRIPTION:The Norwegian Polar Institute is offering a free workshop for Quantarctica 
 (http://quantarctica.npolar.no/), its free GIS/mapping package for Antarcti
 c research, on Wednesday 26 October from 9:00 to noon, the morning of the f
 irst day of the meeting (at the Nordic Branch of the IGS Meeting)\nThe work
 shop is intended for users and interested users at all skill levels, and is
  a great opportunity for any cryosphere scientists (Antarctic or otherwise)
  looking for a quick primer on using QGIS. To register or for more informat
 ion, please contact me directly.\n
X-ALT-DESC;FMTTYPE=text/html:<p>The Norwegian Polar Institute is offering a free workshop for Quantarcti
 ca (http://quantarctica.npolar.no/), its free GIS/mapping package for Antar
 ctic research, on Wednesday 26 October from 9:00 to noon, the morning of th
 e first day of the meeting (at the Nordic Branch of the IGS Meeting)</p><p>
 The workshop is intended for users and interested users at all skill levels
 , and is a great opportunity for any cryosphere scientists (Antarctic or ot
 herwise) looking for a quick primer on using QGIS. To register or for more 
 information, please contact me directly.</p>
CONTACT:George Roth, This email address is being protected from spambots. You need JavaScript enabled to view it.
				document.getElementById('cloak1cb050f02e93c61715134c6163c495b7').innerHTML = '';
				var prefix = '&#109;a' + 'i&#108;' + '&#116;o';
				var path = 'hr' + 'ef' + '=';
				var addy1cb050f02e93c61715134c6163c495b7 = 'g&#101;&#111;rg&#101;.r&#111;th' + '&#64;';
				addy1cb050f02e93c61715134c6163c495b7 = addy1cb050f02e93c61715134c6163c495b7 + 'np&#111;l&#97;r' + '&#46;' + 'n&#111;';
				var addy_text1cb050f02e93c61715134c6163c495b7 = 'g&#101;&#111;rg&#101;.r&#111;th' + '&#64;' + 'np&#111;l&#97;r' + '&#46;' + 'n&#111;';document.getElementById('cloak1cb050f02e93c61715134c6163c495b7').innerHTML += '<a ' + path + '\'' + prefix + ':' + addy1cb050f02e93c61715134c6163c495b7 + '\'>'+addy_text1cb050f02e93c61715134c6163c495b7+'';
		
DTSTAMP:20260424T120643Z
DTSTART;TZID=UTC:20161026T110000
DTEND;TZID=UTC:20161026T140000
SEQUENCE:0
TRANSP:OPAQUE
END:VEVENT
END:VCALENDAR