BEGIN:VCALENDAR
VERSION:2.0
PRODID:-//jEvents 2.0 for Joomla//EN
CALSCALE:GREGORIAN
METHOD:PUBLISH
BEGIN:VEVENT
UID:ad1dd54e94f420f44f6229fda329f1a2
CATEGORIES:Field and Summer Schools
CREATED:20200107T095422
SUMMARY:NVP International Summer School 2020 - Global Arctic - postponed to June 2021
LOCATION:Longyearbyen\, Svalbard\, Norway
DESCRIPTION:<p><strong>The summer scholl is postponed to June 2021, please visit the ev
 ent website for additional information.</strong></p><p>&nbsp;</p><p>The ter
 m “Global Arctic” is gaining currency in contemporary debates about how the
  Arctic and the rest of the world are interconnected. Academics use the ter
 m to show how what happens in the Arctic has global implications, as well a
 s how events in other parts of the world impact the Arctic. Modern phenomen
 a such as globalization, climate change and transboundary pollution have br
 ought the Arctic into global webs of science, commerce, security and geopol
 itics. In the Arctic as elsewhere the first law of geography is applying: E
 verything is related to everything else, but close things are more related 
 than distant things. To identify and discuss the points of connections with
 in and across the natural-, social- and humanistic sciences is the intrinsi
 c core of the term Global Arctic and also the working mode of the Summer sc
 hool.</p><p>Application deadline: <strong>15 March 2020</strong></p><p>More
  information on the website:&nbsp;<a href="http://polar-academy.com/summer-
 schools/global-arctic-2020/">http://polar-academy.com/summer-schools/global
 -arctic-2020/</a>.</p><p>Further Summer Schools are also planned:&nbsp;<a h
 ref="http://polar-academy.com/summer-schools/summer-schools-2020-2022/"></a
 ><a href="http://polar-academy.com/summer-schools/summer-schools-2020-2022/
 ">http://polar-academy.com/summer-schools/summer-schools-2020-2022/</a></p>
DTSTAMP:20260423T004507Z
DTSTART;TZID=UTC:20200620T080000
DTEND;TZID=UTC:20200628T170000
SEQUENCE:0
TRANSP:OPAQUE
END:VEVENT
END:VCALENDAR