BEGIN:VCALENDAR
VERSION:2.0
PRODID:-//jEvents 2.0 for Joomla//EN
CALSCALE:GREGORIAN
METHOD:PUBLISH
BEGIN:VEVENT
UID:74aa423f6662dc50ce0cff905c07ee80
CATEGORIES:Polar Conferences, Meetings and Events
CREATED:20200107T083458
SUMMARY:ICESAT-2 Cryospheric Science Hackweek - Online
LOCATION:Online
DESCRIPTION:WE HAVE DECIDED NOT TO OFFER THIS HACKWEEK IN PERSON BECAUSE OF THE NOVEL C
 ORONAVIRUS (COVID-19) OUTBREAK. \n\n\nThe participants for 2020 have been s
 elected. This event will be offered online from June 8 to June 18, 2020.\nP
 articipants will learn about technologies used to access and process ICESat
 -2 data with a focus on the cryosphere.\nPlease find more information under
 : https://icesat-2hackweek.github.io\n
X-ALT-DESC;FMTTYPE=text/html:<p>WE HAVE DECIDED NOT TO OFFER THIS HACKWEEK IN PERSON BECAUSE OF THE NOVE
 L CORONAVIRUS (COVID-19) OUTBREAK.&nbsp;<br /><br /></p><p>The participants
  for 2020 have been selected. This event will be offered online from June 8
  to June 18, 2020.</p><p>Participants will learn about technologies used to
  access and process ICESat-2 data with a focus on the cryosphere.</p><p>Ple
 ase find more information under:&nbsp;<a href="https://icesat-2hackweek.git
 hub.io">https://icesat-2hackweek.github.io</a></p>
CONTACT:For more information, contact This email address is being protected from spambots. You need JavaScript enabled to view it.
				document.getElementById('cloaka5361a93a98009834598546b74c9160c').innerHTML = '';
				var prefix = '&#109;a' + 'i&#108;' + '&#116;o';
				var path = 'hr' + 'ef' + '=';
				var addya5361a93a98009834598546b74c9160c = '&#105;c&#101;s&#97;t' + '&#64;';
				addya5361a93a98009834598546b74c9160c = addya5361a93a98009834598546b74c9160c + '&#117;w' + '&#46;' + '&#101;d&#117;';
				var addy_texta5361a93a98009834598546b74c9160c = '&#105;c&#101;s&#97;t' + '&#64;' + '&#117;w' + '&#46;' + '&#101;d&#117;';document.getElementById('cloaka5361a93a98009834598546b74c9160c').innerHTML += '<a ' + path + '\'' + prefix + ':' + addya5361a93a98009834598546b74c9160c + '\'>'+addy_texta5361a93a98009834598546b74c9160c+'';
		 or Anthony Arendt (This email address is being protected from spambots. You need JavaScript enabled to view it.
				document.getElementById('cloakc932f92bd703ba0571eba24e6036907e').innerHTML = '';
				var prefix = '&#109;a' + 'i&#108;' + '&#116;o';
				var path = 'hr' + 'ef' + '=';
				var addyc932f92bd703ba0571eba24e6036907e = '&#97;r&#101;ndt&#97;' + '&#64;';
				addyc932f92bd703ba0571eba24e6036907e = addyc932f92bd703ba0571eba24e6036907e + '&#117;w' + '&#46;' + '&#101;d&#117;';
				var addy_textc932f92bd703ba0571eba24e6036907e = '&#97;r&#101;ndt&#97;' + '&#64;' + '&#117;w' + '&#46;' + '&#101;d&#117;';document.getElementById('cloakc932f92bd703ba0571eba24e6036907e').innerHTML += '<a ' + path + '\'' + prefix + ':' + addyc932f92bd703ba0571eba24e6036907e + '\'>'+addy_textc932f92bd703ba0571eba24e6036907e+'';
		)
DTSTAMP:20260421T160848Z
DTSTART;TZID=UTC;VALUE=DATE:20200608
DTEND;TZID=UTC;VALUE=DATE:20200619
SEQUENCE:0
TRANSP:OPAQUE
END:VEVENT
END:VCALENDAR