BEGIN:VCALENDAR
VERSION:2.0
PRODID:-//jEvents 2.0 for Joomla//EN
CALSCALE:GREGORIAN
METHOD:PUBLISH
BEGIN:VEVENT
UID:4ca9fc81dd98d406549c0375fe12df20
CATEGORIES:Polar Conferences, Meetings and Events
CREATED:20200103T115157
SUMMARY:Scientific capacity of the Arctic
LOCATION:Norilsk\, Russia
DESCRIPTION:<div class="article-intro"><p><a title="Norilsk State Industrial Institute"
  href="https://www.uarctic.org/member-profiles/russia/8613/norilsk-state-in
 dustrial-institute" data-udi="umb://document/c94286a11ac546459628c40c700a08
 bb">Norilsk State Industrial Institute</a>&nbsp;invites participants to an 
 international scientific conference “<strong>Scientific capacity of the Arc
 tic</strong>”.</p></div><div class="article-body"><p>Conference main themes
 :</p><ul><li>Arctic environment, natural resources and biodiversity;</li><l
 i>New technologies for the Arctic;</li><li>Human health in the Arctic;</li>
 <li>Language, culture and history of Arctic peoples;</li><li>Socio-economic
  and legal development of the Arctic.</li></ul><p>The conference is aimed a
 t establishing an international interdisciplinary platform for addressing a
  wide range of Arctic-related issues, as well as strengthening ties in educ
 ation and research between different generations of researchers within cert
 ain disciplines.</p><p>Conference tasks:</p><ul><li>To present promising Ru
 ssian and international Arctic research and projects;</li><li>To increase a
 ttractiveness of the Norilsk State Industrial Institute as an interdiscipli
 nary platform for conducting research;</li><li>To expand the network of reg
 ional contacts in the field of scientific, technical and research activitie
 s;</li><li>To disseminate research results, which includes publications in 
 the scientific and practical journal “Kultura. Nauka. Proizvodstvo” (Cultur
 e. Science. Production). UArctic President Lars Kullerud is a member of the
  editorial board.</li></ul><p>We invite students, doctoral students, educat
 ors and researchers to participate.</p><p>Forms of participation: in presen
 ce, in absence, remotely.</p><p>Conference working languages: Russian, Engl
 ish.</p><p><strong>Application deadline: February 25, 2020.</strong></p><p>
 Dear international participants! We encourage you to apply early: to enter 
 the city of Norilsk you require a special permit, preparation of which by t
 he inviting party can take a few months.</p><p>Participation in the confere
 nce is free. Participants are responsible for their travel and accommodatio
 n expenses.</p><p>The conference programme will include visits to productio
 n sites of Norilsk Mining and Metallurgical Combine (Norilsk Nickel) and si
 ghtseeing in Norilsk and Dudinka.</p></div>
CONTACT:Natalia Karmanovskaya: This email address is being protected from spambots. You need JavaScript enabled to view it.
				document.getElementById('cloak0ef68bd4c0ef5a039142b023c2a80964').innerHTML = '';
				var prefix = '&#109;a' + 'i&#108;' + '&#116;o';
				var path = 'hr' + 'ef' + '=';
				var addy0ef68bd4c0ef5a039142b023c2a80964 = 'k&#97;rm&#97;n&#111;vsk&#97;y&#97;nv' + '&#64;';
				addy0ef68bd4c0ef5a039142b023c2a80964 = addy0ef68bd4c0ef5a039142b023c2a80964 + 'gm&#97;&#105;l' + '&#46;' + 'c&#111;m';
				var addy_text0ef68bd4c0ef5a039142b023c2a80964 = 'k&#97;rm&#97;n&#111;vsk&#97;y&#97;nv' + '&#64;' + 'gm&#97;&#105;l' + '&#46;' + 'c&#111;m';document.getElementById('cloak0ef68bd4c0ef5a039142b023c2a80964').innerHTML += '<a ' + path + '\'' + prefix + ':' + addy0ef68bd4c0ef5a039142b023c2a80964 + '\'>'+addy_text0ef68bd4c0ef5a039142b023c2a80964+'';
		, +79131610293; Anastasia Smirnova: This email address is being protected from spambots. You need JavaScript enabled to view it.
				document.getElementById('cloak196e3b462a8c5406d757f3598aff2513').innerHTML = '';
				var prefix = '&#109;a' + 'i&#108;' + '&#116;o';
				var path = 'hr' + 'ef' + '=';
				var addy196e3b462a8c5406d757f3598aff2513 = 'sm&#105;rn&#111;v&#97;&#97;t' + '&#64;';
				addy196e3b462a8c5406d757f3598aff2513 = addy196e3b462a8c5406d757f3598aff2513 + 'bk' + '&#46;' + 'r&#117;';
				var addy_text196e3b462a8c5406d757f3598aff2513 = 'sm&#105;rn&#111;v&#97;&#97;t' + '&#64;' + 'bk' + '&#46;' + 'r&#117;';document.getElementById('cloak196e3b462a8c5406d757f3598aff2513').innerHTML += '<a ' + path + '\'' + prefix + ':' + addy196e3b462a8c5406d757f3598aff2513 + '\'>'+addy_text196e3b462a8c5406d757f3598aff2513+'';
		, +79134913034
DTSTAMP:20260422T003605Z
DTSTART;TZID=UTC;VALUE=DATE:20200425
DTEND;TZID=UTC;VALUE=DATE:20200426
SEQUENCE:0
TRANSP:OPAQUE
END:VEVENT
END:VCALENDAR