BEGIN:VCALENDAR
VERSION:2.0
PRODID:-//jEvents 2.0 for Joomla//EN
CALSCALE:GREGORIAN
METHOD:PUBLISH
BEGIN:VEVENT
UID:977119a5e40b9cbd9106e204b556f97b
CATEGORIES:Polar Online Events
CREATED:20200103T114718
SUMMARY:13th Polar Law Symposium - special online session
LOCATION:Online
DESCRIPTION:<p>All the activities of 13<sup>th</sup> Polar Law Symposium will take plac
 e via a dedicated webpage. To view this webpage, you will need to <a href="
 https://2020polarlawsymposium.org/register/" target="_blank" rel="noopener"
 >register here</a>.</p><p>Once you have registered, you will receive a conf
 irmation email. Your login details for the webpage will be sent to you via 
 email immediately after registering. For any inquiry, please contact PLS Se
 cretariat: 2020_pls_kobe [at<a href="https://zoom.us/download">https://zoom
 .us/download</a>"&gt;ZOOM application. To participate in ZOOM meetings, you
  will first need to pre-register (please note there are several interactive
  seminars with maximum number of participants, in principle, on first-come-
 first serve basis), receive an email with ZOOM URL link, and then access th
 e seminars/lectures with ZOOM application. It is the responsibility of the 
 participants to establish a technical environment suitable for accessing ZO
 OM meetings and webinars. <strong><span class="">The pre-registration for a
 ll live interactive&nbsp;events will start at 9:00 am Japan Standard Time (
 JST) on 1 November 2020, and will continue until five (5) days before the e
 vent.</span></strong></p><div class="article-body"><p>For more information 
 visit the&nbsp;<a href="https://2020polarlawsymposium.org/" target="_blank"
  rel="noopener">2020 Polar Law Symposium website</a>.</p></div>
DTSTAMP:20260420T052844Z
DTSTART;TZID=UTC;VALUE=DATE:20201109
DTEND;TZID=UTC;VALUE=DATE:20201201
SEQUENCE:0
TRANSP:OPAQUE
END:VEVENT
END:VCALENDAR