BEGIN:VCALENDAR
VERSION:2.0
PRODID:-//jEvents 2.0 for Joomla//EN
CALSCALE:GREGORIAN
METHOD:PUBLISH
BEGIN:VEVENT
UID:c89aecb8b0a6602aca2d139a0b210464
CATEGORIES:Field and Summer Schools
CREATED:20191216T093142
SUMMARY:2020 International Winter Course on Ice Mechanics
LOCATION:Vladivostok\, Russia
DESCRIPTION:Held on February 10-17, 2020 at Far Eastern Federal University (https://www
 .uarctic.org/member-profiles/russia/24896/far-eastern-federal-university), 
 the annual winter course provides its participants with knowledge, skills a
 nd experience in sea ice science, definition of ice physical-mechanical pro
 perties, and use of modern research equipment on the real ice cover and in 
 the ice laboratory.\nThe course introduces the problems of ice mechanics to
  the students and provides the experience of operating research equipment i
 n the laboratory and in field conditions. The course includes lectures on b
 asic concepts of ice mechanics and ice interactions with offshore structure
 s and ships, lectures about standards of Russia for the calculation of ice 
 loads on offshore structures, laboratory and field activities in the Labora
 tory of Ice Research (FEFU) and in the bay near FEFU campus. Prior to the f
 ield activities, special lectures introduce the equipment (used for the mea
 surements of characteristics and strength of sea ice, ice hardness measurem
 ents by drop ball technique, etc.) to the students.\nLanguage: English\nDur
 ation: 6 days/72 academic hours\nPrice: 50,000 RUB\nDeadline for applicatio
 n: January 31, 2020\nHow to apply:\nParticipants should fill in <a href="ht
 tps://forms.office.com/Pages/ResponsePage.aspx?id=Hfk_qw_hXkKxdztFSK27YQYWR
 m7FeatCskcMSbaf6x1UQVlBN1RYM0tVUENYM1lUTThPUUpMU0pLQy4u" target="_blank" re
 l="noopener" data-anchor="?id=Hfk_qw_hXkKxdztFSK27YQYWRm7FeatCskcMSbaf6x1UQ
 VlBN1RYM0tVUENYM1lUTThPUUpMU0pLQy4u">the registration form</a>, and send a 
 copy of passport to the contact e-mail This email address is being protecte
 d from spambots. You need JavaScript enabled to view it.
				document.getEl
 ementById('cloakfbd072bff559398ba90aa632d93f51a5').innerHTML = '';
				var 
 prefix = '&#109;a' + 'i&#108;' + '&#116;o';
				var path = 'hr' + 'ef' + '=
 ';
				var addyfbd072bff559398ba90aa632d93f51a5 = '&#105;c&#101;' + '&#64;'
 ;
				addyfbd072bff559398ba90aa632d93f51a5 = addyfbd072bff559398ba90aa632d9
 3f51a5 + 'dvf&#117;' + '&#46;' + 'r&#117;';
				var addy_textfbd072bff55939
 8ba90aa632d93f51a5 = '&#105;c&#101;' + '&#64;' + 'dvf&#117;' + '&#46;' + 'r
 &#117;';document.getElementById('cloakfbd072bff559398ba90aa632d93f51a5').in
 nerHTML += '<a ' + path + '\'' + prefix + ':' + addyfbd072bff559398ba90aa63
 2d93f51a5 + '\'>'+addy_textfbd072bff559398ba90aa632d93f51a5+'';
		.\nRead m
 ore from the course webpages (https://www.dvfu.ru/schools/engineering/schoo
 l-of-engineering-international-winter-course-on-ice-mechanics/ice-mechanics
 -2020/) and <a title="2020 FEFU Ice Mechanics Winter Course information lea
 flet" href="https://www.uarctic.org/media/1600225/2020-fefu-ice-mechanics-w
 inter-course-information-leaflet.pdf" data-udi="umb://media/fe370a5114084e5
 c908416e0deca8283">the attached information leaflet</a>.\n
X-ALT-DESC;FMTTYPE=text/html:<div class="article-intro"><p>Held on February 10-17, 2020 at&nbsp;<a title
 ="Far Eastern Federal University" href="https://www.uarctic.org/member-prof
 iles/russia/24896/far-eastern-federal-university" data-udi="umb://document/
 724f6a216dbc4a06a9359999b1ec157e">Far Eastern Federal University</a>, the a
 nnual winter course provides its participants with knowledge, skills and ex
 perience in sea ice science, definition of ice physical-mechanical properti
 es, and use of modern research equipment on the real ice cover and in the i
 ce laboratory.</p></div><div class="article-body"><p>The course introduces 
 the problems of ice mechanics to the students and provides the experience o
 f operating research equipment in the laboratory and in field conditions. T
 he course includes lectures on basic concepts of ice mechanics and ice inte
 ractions with offshore structures and ships, lectures about standards of Ru
 ssia for the calculation of ice loads on offshore structures, laboratory an
 d field activities in the Laboratory of Ice Research (FEFU) and in the bay 
 near FEFU campus. Prior to the field activities, special lectures introduce
  the equipment (used for the measurements of characteristics and strength o
 f sea ice, ice hardness measurements by drop ball technique, etc.) to the s
 tudents.</p><p>Language: English<br />Duration: 6 days/72 academic hours<br
  />Price: 50,000 RUB</p><p>Deadline for application:&nbsp;<strong>January 3
 1, 2020</strong></p><p>How to apply:</p><p>Participants should fill in&nbsp
 ;<a href="https://forms.office.com/Pages/ResponsePage.aspx?id=Hfk_qw_hXkKxd
 ztFSK27YQYWRm7FeatCskcMSbaf6x1UQVlBN1RYM0tVUENYM1lUTThPUUpMU0pLQy4u" target
 ="_blank" rel="noopener" data-anchor="?id=Hfk_qw_hXkKxdztFSK27YQYWRm7FeatCs
 kcMSbaf6x1UQVlBN1RYM0tVUENYM1lUTThPUUpMU0pLQy4u">the registration form</a>,
  and send a copy of passport to the contact e-mail&nbsp;<span id="cloakfbd0
 72bff559398ba90aa632d93f51a5">This email address is being protected from sp
 ambots. You need JavaScript enabled to view it.</span><script type='text/ja
 vascript'>
				document.getElementById('cloakfbd072bff559398ba90aa632d93f51
 a5').innerHTML = '';
				var prefix = '&#109;a' + 'i&#108;' + '&#116;o';
		
 		var path = 'hr' + 'ef' + '=';
				var addyfbd072bff559398ba90aa632d93f51a
 5 = '&#105;c&#101;' + '&#64;';
				addyfbd072bff559398ba90aa632d93f51a5 = a
 ddyfbd072bff559398ba90aa632d93f51a5 + 'dvf&#117;' + '&#46;' + 'r&#117;';
		
 		var addy_textfbd072bff559398ba90aa632d93f51a5 = '&#105;c&#101;' + '&#64;'
  + 'dvf&#117;' + '&#46;' + 'r&#117;';document.getElementById('cloakfbd072bf
 f559398ba90aa632d93f51a5').innerHTML += '<a ' + path + '\'' + prefix + ':' 
 + addyfbd072bff559398ba90aa632d93f51a5 + '\'>'+addy_textfbd072bff559398ba90
 aa632d93f51a5+'<\/a>';
		</script>.</p><p>Read more from&nbsp;<a href="http
 s://www.dvfu.ru/schools/engineering/school-of-engineering-international-win
 ter-course-on-ice-mechanics/ice-mechanics-2020/" target="_blank" rel="noope
 ner">the course webpages</a>&nbsp;and&nbsp;<a title="2020 FEFU Ice Mechanic
 s Winter Course information leaflet" href="https://www.uarctic.org/media/16
 00225/2020-fefu-ice-mechanics-winter-course-information-leaflet.pdf" data-u
 di="umb://media/fe370a5114084e5c908416e0deca8283">the attached information 
 leaflet</a>.</p></div>
DTSTAMP:20260425T033434Z
DTSTART;TZID=UTC;VALUE=DATE:20200210
DTEND;TZID=UTC;VALUE=DATE:20200218
SEQUENCE:0
TRANSP:OPAQUE
END:VEVENT
END:VCALENDAR