BEGIN:VCALENDAR
VERSION:2.0
PRODID:-//jEvents 2.0 for Joomla//EN
CALSCALE:GREGORIAN
METHOD:PUBLISH
BEGIN:VEVENT
UID:8ab0e8f6a7c1e43a71868c99f1a6c84e
CATEGORIES:Polar Conferences, Meetings and Events
CREATED:20191216T085519
SUMMARY:3rd Open Science Conference of the International Partnerships in Ice Core Sciences - postponed to 10-15 October 2021
LOCATION:Crans-Montana\, Switzerland
DESCRIPTION:Due to the current COVID-19 virus situation and the strong uncertainty of i
 ts worldwide development the local organizing committee has decided to post
 pone the 3rd IPICS Open Science Conference “Ice Core Science at the three P
 oles” scheduled for 18-23 October 2020 in Crans-Montana, Switzerland until 
 October next year. For more information, please visit the conference web si
 te at https://indico.psi.ch/event/6697/.\nThe third Open Science Conference
  (OSC) of the International Partnerships in Ice Core Sciences (IPICS) will 
 be held from 18-23 October 2020 in Crans-Montana, Switzerland. The objectiv
 e of the conference is to present, discuss and put into perspective the mos
 t recent results of past and current ice core drilling projects. The theme 
 of the third OSC is Ice Core Science at the three Poles. As in previous IPI
 CS OSCs, part of the conference is a one-day early career scientists worksh
 op on 18 October organized by Ice Core Young Scientists (ICYS).\nFor more i
 nformation, please visit the conference web site at <a href="https://indico
 .psi.ch/event/6697/" target="_blank" rel="noopener">https://indico.psi.ch/e
 vent/6697/</a>.\n
X-ALT-DESC;FMTTYPE=text/html:<p><em><span lang="EN-US">Due to the current COVID-19 virus situation and t
 he strong uncertainty of its worldwide development the local organizing com
 mittee has decided to postpone the 3rd IPICS Open Science Conference “Ice C
 ore Science at the three Poles” scheduled for 18-23 October 2020 in Crans-M
 ontana, Switzerland until October next year.&nbsp;For more information, ple
 ase visit the conference web site at&nbsp;<a href="https://indico.psi.ch/ev
 ent/6697/" target="_blank" rel="noopener">https://indico.psi.ch/event/6697/
 </a>.</span></em></p><p>The third Open Science Conference (OSC) of the Inte
 rnational Partnerships in Ice Core Sciences (IPICS) will be held from 18-23
  October 2020 in Crans-Montana, Switzerland. The objective of the conferenc
 e is to present, discuss and put into perspective the most recent results o
 f past and current ice core drilling projects. The theme of the third OSC i
 s&nbsp;<em>Ice Core Science at the three Poles</em>. As in previous IPICS O
 SCs, part of the conference is a one-day early career scientists workshop o
 n 18 October organized by Ice Core Young Scientists (ICYS).</p><p>For more 
 information, please visit the conference web site at&nbsp;<a href="https://
 indico.psi.ch/event/6697/" target="_blank" rel="noopener">https://indico.ps
 i.ch/event/6697/</a>.</p>
DTSTAMP:20260420T072950Z
DTSTART;TZID=UTC;VALUE=DATE:20201018
DTEND;TZID=UTC;VALUE=DATE:20201024
SEQUENCE:0
TRANSP:OPAQUE
END:VEVENT
END:VCALENDAR